{"text_format":"1","workbook":"xlsx","n_sheets":7,"sheets":["THEMA UND INHALT","SCHEMA"," EINGABEN UND AUSDRUCK","EINGABEN UND AUSDRUCK","STARTE DIE UHR!","BERECHNUNG 2","BERECHNUNG"],"not_rendered":{"charts":20,"images":5,"macros":1,"external_links":1,"defined_names":1,"comments":0,"pivot_tables":0},"unopened":[],"bounds":{"document_bytes":16777216,"sheet_cells":100000,"rows_first":2000,"rows_last":500,"rows_between":2000,"halvings":0,"cell_chars":16384,"cell_head_chars":4096},"cells_cut":0,"cells_raw":0,"read":"whole","date_system":"1900"}

{"sheet":"THEMA UND INHALT","index":0,"n_rows":1,"n_cols":1,"rows_kept":1,"cut":false,"hidden":false,"merged":[]}
[{"$error":"#VALUE!"}]

{"sheet":"SCHEMA","index":1,"n_rows":8,"n_cols":16,"rows_kept":8,"cut":false,"hidden":false,"merged":[]}
[null,"10:40:49"]
[null,null,null,null,null,null,null,null,"ABBILDUNG A) STATISCHE SONNEN – UND UHRZEIT",null,null,null,null,null,null,"                       ABBILDUNG B) DYNAMISCHE SONNEN – UND UHRZEIT"]
[]
[]
[]
[]
[]
[null,"2026-01-28"]

{"sheet":" EINGABEN UND AUSDRUCK","index":2,"n_rows":50,"n_cols":11,"rows_kept":50,"cut":false,"hidden":false,"merged":[[10,4,10,5],[13,4,13,5],[22,1,22,2],[17,1,17,2],[17,3,17,5]]}
[null,"13:21:12"]
[]
[null,"BESTIMMUNG DER SOLAREN ORTSZEIT AM STANDORT UND AM ZIELORT (WOZ UND MOZ)"]
[]
[null,"DATUM AM STANDORT (Anzeige rechts eintragen - exkl. Jahrzahl)",null,15,1,{"$f":"'BERECHNUNG 2'!$Y$9","v":26},{"$f":"TODAY()","v":"2026-01-28"}]
[null,null,null,"(1 - 31)","(1 - 12)"]
[null,"UHRZEIT AM STANDORT MINUS ZEITVERSCHIEBUNG ZU UTC"]
[null,"2021-12-24",null,12,35,50,{"$f":"NOW()","v":46050.446772453703}]
[null,"(berichtigt auf UTC! CH/MEZ: Sommer - 2; Winter - 1)",null,"(0 - 23)","(0 -59)","(0 - 59)"]
[]
[null,"LÄNGENGRAD AM STANDORT *Rechtsklick auf Bild od. Marke",null,8.5809590999999994,"KLOTEN STADTHAUS",null,"*Längengrad?"]
[null,null,null,"(± X,…....)","(Name des Standorts, fakultativ)"]
[]
[null,"LÄNGENGRAD AM ZIELORT *Rechtsklick auf Bild od. Marke",null,-73.985763500000004,"NEW YORK EMP.ST. BUILDING ",null,"*Längengrad?"]
[null,null,null,"(± X,…....)","(Name des Zielorts, fakultativ)"]
[]
[]
[null,{"$f":"$E$11","v":"KLOTEN STADTHAUS"},null,{"$f":"$E$14","v":"NEW YORK EMP.ST. BUILDING "}]
[]
[]
[]
[]
[]
[]
[null,null,null,null,null,null,"Uhren mit WOZ"]
[null,null,null,null,null,null,null,null,null," "]
[]
[]
[]
[null,null,null,{"$f":"(E33/60)+(F33/3600)","v":0.44944444444444448},{"$f":"(F33/60)","v":0.96666666666666667}]
[null,null,null,{"$f":"IF(D33>=12,(D33+D30)-12,(D33+D30))","v":7.4494444444444445},{"$f":"$E$33+E30","v":26.966666666666665},{"$f":"$F$33","v":58},"oekopriority.com",null,"Differenzbildung:"]
[null,null,null,{"$f":"(D31-12)","v":-4.5505555555555555},{"$f":"(60-E31)","v":33.033333333333331},{"$f":"(60-F31)","v":2}]
[null,"WOZ",{"$f":"$E$14","v":"NEW YORK EMP.ST. BUILDING "},{"$f":"IF('BERECHNUNG 2'!$Y$9=$F$5,IF($E$5='BERECHNUNG 2'!$AD$16,'BERECHNUNG 2'!$AA16,IF($E$5='BERECHNUNG 2'!$AD$20,'BERECHNUNG 2'!$AA20,IF($E$5='BERECHNUNG 2'!$AD$24,'BERECHNUNG 2'!$AA24,IF($E$5='BERECHNUNG 2'!$AD$28,'BERECHNUNG 2'!$AA28,IF($E$5='BERECHNUNG 2'!$AD$32,'BERECHNUNG 2'!$AA32,IF($E$5='BERECHNUNG 2'!$AD$36,'BERECHNUNG 2'!$AA36,IF($E$5='BERECHNUNG 2'!$AD$40,'BERECHNUNG 2'!$AA40,IF($E$5='BERECHNUNG 2'!$AD$44,'BERECHNUNG 2'!$AA44,IF($E$5='BERECHNUNG 2'!$AD$48,'BERECHNUNG 2'!$AA48,IF($E$5='BERECHNUNG 2'!$AD$52,'BERECHNUNG 2'!$AA52,IF($E$5='BERECHNUNG 2'!$AD$56,'BERECHNUNG 2'!$AA56,IF($E$5='BERECHNUNG 2'!$AD$60,'BERECHNUNG 2'!$AA60,\"\")))))))))))),\"AUSSTEHEND\")","v":7},{"$f":"IF('BERECHNUNG 2'!$Y$9=$F$5,IF($E$5='BERECHNUNG 2'!$AD$16,'BERECHNUNG 2'!$AB16,IF($E$5='BERECHNUNG 2'!$AD$20,'BERECHNUNG 2'!$AB20,IF($E$5='BERECHNUNG 2'!$AD$24,'BERECHNUNG 2'!$AB24,IF($E$5='BERECHNUNG 2'!$AD$28,'BERECHNUNG 2'!$AB28,IF($E$5='BERECHNUNG 2'!$AD$32,'BERECHNUNG 2'!$AB32,IF($E$5='BERECHNUNG 2'!$AD$36,'BERECHNUNG 2'!$AB36,IF($E$5='BERECHNUNG 2'!$AD$40,'BERECHNUNG 2'!$AB40,IF($E$5='BERECHNUNG 2'!$AD$44,'BERECHNUNG 2'!$AB44,IF($E$5='BERECHNUNG 2'!$AD$48,'BERECHNUNG 2'!$AB48,IF($E$5='BERECHNUNG 2'!$AD$52,'BERECHNUNG 2'!$AB52,IF($E$5='BERECHNUNG 2'!$AD$56,'BERECHNUNG 2'!$AB56,IF($E$5='BERECHNUNG 2'!$AD$60,'BERECHNUNG 2'!$AB60,\"\")))))))))))),\"AUSSTEHEND\")","v":26},{"$f":"IF('BERECHNUNG 2'!$Y$9=$F$5,IF($E$5='BERECHNUNG 2'!$AD$16,'BERECHNUNG 2'!$AC16,IF($E$5='BERECHNUNG 2'!$AD$20,'BERECHNUNG 2'!$AC20,IF($E$5='BERECHNUNG 2'!$AD$24,'BERECHNUNG 2'!$AC24,IF($E$5='BERECHNUNG 2'!$AD$28,'BERECHNUNG 2'!$AC28,IF($E$5='BERECHNUNG 2'!$AD$32,'BERECHNUNG 2'!$AC32,IF($E$5='BERECHNUNG 2'!$AD$36,'BERECHNUNG 2'!$AC36,IF($E$5='BERECHNUNG 2'!$AD$40,'BERECHNUNG 2'!$AC40,IF($E$5='BERECHNUNG 2'!$AD$44,'BERECHNUNG 2'!$AC44,IF($E$5='BERECHNUNG 2'!$AD$48,'BERECHNUNG 2'!$AC48,IF($E$5='BERECHNUNG 2'!$AD$52,'BERECHNUNG 2'!$AC52,IF($E$5='BERECHNUNG 2'!$AD$56,'BERECHNUNG 2'!$AC56,IF($E$5='BERECHNUNG 2'!$AD$60,'BERECHNUNG 2'!$AC60,\"\")))))))))))),\"AUSSTEHEND\")","v":58},"ZIELORT",null,"Summensec. WOZ Standort",{"$f":"(D41*3600+E41*60+F41)","v":46634}]
[null,null,"(Ein allf.  Vermerk \"AUSSTEHEND\" bedeutet, dass die Daten zur Zeitgleichung noch nicht aktualisiert sind)"]
[null,null,null,null,null,null,null,null,"Summenbsec. WOZ Zielort",{"$f":"(D33*3600+E33*60+F33)","v":26818}]
[null,"MOZ",{"$f":"$E$14","v":"NEW YORK EMP.ST. BUILDING "},{"$f":"'BERECHNUNG 2'!V13","v":7},{"$f":"'BERECHNUNG 2'!W13","v":39},{"$f":"'BERECHNUNG 2'!X13","v":53},"ZIELORT"]
[null,null,null,{"$f":"IF(D36<0,\"Minus  = Vortag\",\"\")","v":""},null,null,null,null,"Differe nzsec absolut",{"$f":"ABS(J33-J35)","v":19816}]
[null,null,null,{"$f":"(E41/60+F41/3600)","v":0.9538888888888889},{"$f":"(F41/60)","v":0.23333333333333334}]
[null,null,null,{"$f":"IF(D41>=12,(D41+D38)-12,(D41+D38))","v":0.95388888888888879},{"$f":"$E$41+E38","v":57.233333333333334},{"$f":"$F$41","v":14},null,null,"Anzahl Stunden",{"$f":"(J37/3600)","v":5.5044444444444443},{"$f":"ROUNDDOWN(J39,0)","v":5}]
[null,null,null,{"$f":"(D39-12)","v":-11.046111111111111},{"$f":"(60-E39)","v":2.7666666666666657},{"$f":"(60-F39)","v":46}]
[null,"WOZ",{"$f":"$E$11","v":"KLOTEN STADTHAUS"},{"$f":"IF('BERECHNUNG 2'!$Y$9=$F$5,IF($E$5='BERECHNUNG 2'!$AD$16,'BERECHNUNG 2'!$AE16,IF($E$5='BERECHNUNG 2'!$AD$20,'BERECHNUNG 2'!$AE20,IF($E$5='BERECHNUNG 2'!$AD$24,'BERECHNUNG 2'!$AE24,IF($E$5='BERECHNUNG 2'!$AD$28,'BERECHNUNG 2'!$AE28,IF($E$5='BERECHNUNG 2'!$AD$32,'BERECHNUNG 2'!$AE32,IF($E$5='BERECHNUNG 2'!$AD$36,'BERECHNUNG 2'!$AE36,IF($E$5='BERECHNUNG 2'!$AD$40,'BERECHNUNG 2'!$AE40,IF($E$5='BERECHNUNG 2'!$AD$44,'BERECHNUNG 2'!$AE44,IF($E$5='BERECHNUNG 2'!$AD$48,'BERECHNUNG 2'!$AE48,IF($E$5='BERECHNUNG 2'!$AD$52,'BERECHNUNG 2'!$AE52,IF($E$5='BERECHNUNG 2'!$AD$56,'BERECHNUNG 2'!$AE56,IF($E$5='BERECHNUNG 2'!$AD$60,'BERECHNUNG 2'!$AE60,\"\")))))))))))),\"AUSSTEHEND\")","v":12},{"$f":"IF('BERECHNUNG 2'!$Y$9=$F$5,IF($E$5='BERECHNUNG 2'!$AD$16,'BERECHNUNG 2'!$AF16,IF($E$5='BERECHNUNG 2'!$AD$20,'BERECHNUNG 2'!$AF20,IF($E$5='BERECHNUNG 2'!$AD$24,'BERECHNUNG 2'!$AF24,IF($E$5='BERECHNUNG 2'!$AD$28,'BERECHNUNG 2'!$AF28,IF($E$5='BERECHNUNG 2'!$AD$32,'BERECHNUNG 2'!$AF32,IF($E$5='BERECHNUNG 2'!$AD$36,'BERECHNUNG 2'!$AF36,IF($E$5='BERECHNUNG 2'!$AD$40,'BERECHNUNG 2'!$AF40,IF($E$5='BERECHNUNG 2'!$AD$44,'BERECHNUNG 2'!$AF44,IF($E$5='BERECHNUNG 2'!$AD$48,'BERECHNUNG 2'!$AF48,IF($E$5='BERECHNUNG 2'!$AD$52,'BERECHNUNG 2'!$AF52,IF($E$5='BERECHNUNG 2'!$AD$56,'BERECHNUNG 2'!$AF56,IF($E$5='BERECHNUNG 2'!$AD$60,'BERECHNUNG 2'!$AF60,\"\")))))))))))),\"AUSSTEHEND\")","v":57},{"$f":"IF('BERECHNUNG 2'!$Y$9=$F$5,IF($E$5='BERECHNUNG 2'!$AD$16,'BERECHNUNG 2'!$AG16,IF($E$5='BERECHNUNG 2'!$AD$20,'BERECHNUNG 2'!$AG20,IF($E$5='BERECHNUNG 2'!$AD$24,'BERECHNUNG 2'!$AG24,IF($E$5='BERECHNUNG 2'!$AD$28,'BERECHNUNG 2'!$AG28,IF($E$5='BERECHNUNG 2'!$AD$32,'BERECHNUNG 2'!$AG32,IF($E$5='BERECHNUNG 2'!$AD$36,'BERECHNUNG 2'!$AG36,IF($E$5='BERECHNUNG 2'!$AD$40,'BERECHNUNG 2'!$AG40,IF($E$5='BERECHNUNG 2'!$AD$44,'BERECHNUNG 2'!$AG44,IF($E$5='BERECHNUNG 2'!$AD$48,'BERECHNUNG 2'!$AG48,IF($E$5='BERECHNUNG 2'!$AD$52,'BERECHNUNG 2'!$AG52,IF($E$5='BERECHNUNG 2'!$AD$56,'BERECHNUNG 2'!$AG56,IF($E$5='BERECHNUNG 2'!$AD$60,'BERECHNUNG 2'!$AG60,\"\")))))))))))),\"AUSSTEHEND\")","v":14},"STANDORT",null,"Anzahl Minuten",{"$f":"(J39-K39)*60","v":30.266666666666655},{"$f":"ROUNDDOWN(J41,0)","v":30}]
[null,null,"(Ein allf.  Vermerk \"AUSSTEHEND\" bedeutet, dass die Daten zur Zeitgleichung noch nicht aktualisiert sind)"]
[null,null,null,null,null,null,null,null,"Anzahl Sekunden",null,{"$f":"(J41-K41)*60","v":15.999999999999304}]
[null,"MOZ",{"$f":"$E$11","v":"KLOTEN STADTHAUS"},{"$f":"'BERECHNUNG 2'!V17","v":13},{"$f":"'BERECHNUNG 2'!W17","v":10},{"$f":"'BERECHNUNG 2'!X17","v":9},"STANDORT"]
[]
[]
[]
[null,null,"WAHRE ZEITDIFFERENZ",{"$f":"IF('BERECHNUNG 2'!$V$8>=0,K39,24-ROUNDUP('BERECHNUNG 2'!$Z$6-(D8+0),0))","v":5},{"$f":"$K$41","v":30},{"$f":"$K$43","v":15.999999999999304}]
[]
[null,"2022-01-01","rev. 04.06.2022       korr. 04.09.2023; Nachführung Jan. 2025","Nachführung Jan. 2026"]

{"sheet":"EINGABEN UND AUSDRUCK","index":3,"n_rows":51,"n_cols":11,"rows_kept":51,"cut":false,"hidden":false,"merged":[[45,1,45,3],[48,1,48,2],[10,4,10,5],[13,4,13,5],[17,1,17,2],[17,3,17,5],[22,1,22,2],[11,4,11,5],[14,4,14,5]]}
[null,"18:35:02"]
[]
[]
[]
[null,"DATUM AM STANDORT (Anzeige rechts eintragen)",null,{"$f":"'STARTE DIE UHR!'!$B$11","v":28},{"$f":"'STARTE DIE UHR!'!$B$10","v":1},{"$f":"'STARTE DIE UHR!'!$B$9-2000","v":26},{"$f":"TODAY()","v":"2026-01-28"}]
[null,"BESTIMMUNG DER SOLAREN ORTSZEIT AM STANDORT UND AM ZIELORT (WOZ UND MOZ)"]
[]
[null,"2021-10-02",null,{"$f":"'STARTE DIE UHR!'!$B$2+D9","v":9},{"$f":"'STARTE DIE UHR!'!$B$3","v":43},{"$f":"'STARTE DIE UHR!'!$B$4","v":21},{"$f":"NOW()","v":46050.446772453703}]
[null,"BERICHTIGUNG DER LOKALEN UHRZEIT AM STANDORT AUF UTC-ZEIT ",null,-1,"LOKALE UHRZEIT",{"$f":"'STARTE DIE UHR!'!$B$1","v":46050.446772453703}]
[null,"(Schweiz /MEZ: Sommer -2; Winter -1)",null,null,null,{"$f":"'STARTE DIE UHR!'!B3","v":43}]
[null,"LÄNGENGRAD AM ZIELORT *Rechtsklick auf Bild od. Marke",null,8.5809590999999994,"KLOTEN STADTHAUS",null,"*Längengrad?"]
[null,null,null,"(± X,……......)","(Name des Standorts, fakultativ)"]
[]
[null,"LÄNGENGRAD AM ZIELORT *Rechtsklick auf Bild od. Marke",null,-73.985763500000004,"NEW YORK EMP.ST. BUILDING ",null,"*Längengrad?"]
[null,null,null,"(± X,……......)","(Name des Zielorts, fakultativ)"]
[]
[]
[null,{"$f":"$E$11","v":"KLOTEN STADTHAUS"},null,{"$f":"$E$14","v":"NEW YORK EMP.ST. BUILDING "}]
[]
[]
[]
[]
[]
[]
[null,null,null,null,null,null,"Uhren mit WOZ"]
[null,null,null,null,null,null,null,null,null," "]
[]
[]
[]
[null,null,null,{"$f":"(E33/60)+(F33/3600)","v":0.57472222222222225},{"$f":"(F33/60)","v":0.48333333333333334}]
[null,null,null,{"$f":"IF(D33>=12,(D33+D30)-12,(D33+D30))","v":4.5747222222222224},{"$f":"$E$33+E30","v":34.483333333333334},{"$f":"$F$33","v":29},"oekopriority.com",null,"Differenzbildung:"]
[null,null,null,{"$f":"(D31-12)","v":-7.4252777777777776},{"$f":"(60-E31)","v":25.516666666666666},{"$f":"(60-F31)","v":31}]
[null,"WOZ",{"$f":"$E$14","v":"NEW YORK EMP.ST. BUILDING "},{"$f":"IF(BERECHNUNG!$Y$9=$F$5,IF($E$5=BERECHNUNG!$AD$16,BERECHNUNG!$AA16,IF($E$5=BERECHNUNG!$AD$20,BERECHNUNG!$AA20,IF($E$5=BERECHNUNG!$AD$24,BERECHNUNG!$AA24,IF($E$5=BERECHNUNG!$AD$28,BERECHNUNG!$AA28,IF($E$5=BERECHNUNG!$AD$32,BERECHNUNG!$AA32,IF($E$5=BERECHNUNG!$AD$36,BERECHNUNG!$AA36,IF($E$5=BERECHNUNG!$AD$40,BERECHNUNG!$AA40,IF($E$5=BERECHNUNG!$AD$44,BERECHNUNG!$AA44,IF($E$5=BERECHNUNG!$AD$48,BERECHNUNG!$AA48,IF($E$5=BERECHNUNG!$AD$52,BERECHNUNG!$AA52,IF($E$5=BERECHNUNG!$AD$56,BERECHNUNG!$AA56,IF($E$5=BERECHNUNG!$AD$60,BERECHNUNG!$AA60,\"\")))))))))))),\"AUSSTEHEND\")","v":4},{"$f":"IF(BERECHNUNG!$Y$9=$F$5,IF($E$5=BERECHNUNG!$AD$16,BERECHNUNG!$AB16,IF($E$5=BERECHNUNG!$AD$20,BERECHNUNG!$AB20,IF($E$5=BERECHNUNG!$AD$24,BERECHNUNG!$AB24,IF($E$5=BERECHNUNG!$AD$28,BERECHNUNG!$AB28,IF($E$5=BERECHNUNG!$AD$32,BERECHNUNG!$AB32,IF($E$5=BERECHNUNG!$AD$36,BERECHNUNG!$AB36,IF($E$5=BERECHNUNG!$AD$40,BERECHNUNG!$AB40,IF($E$5=BERECHNUNG!$AD$44,BERECHNUNG!$AB44,IF($E$5=BERECHNUNG!$AD$48,BERECHNUNG!$AB48,IF($E$5=BERECHNUNG!$AD$52,BERECHNUNG!$AB52,IF($E$5=BERECHNUNG!$AD$56,BERECHNUNG!$AB56,IF($E$5=BERECHNUNG!$AD$60,BERECHNUNG!$AB60,\"\")))))))))))),\"AUSSTEHEND\")","v":34},{"$f":"IF(BERECHNUNG!$Y$9=$F$5,IF($E$5=BERECHNUNG!$AD$16,BERECHNUNG!$AC16,IF($E$5=BERECHNUNG!$AD$20,BERECHNUNG!$AC20,IF($E$5=BERECHNUNG!$AD$24,BERECHNUNG!$AC24,IF($E$5=BERECHNUNG!$AD$28,BERECHNUNG!$AC28,IF($E$5=BERECHNUNG!$AD$32,BERECHNUNG!$AC32,IF($E$5=BERECHNUNG!$AD$36,BERECHNUNG!$AC36,IF($E$5=BERECHNUNG!$AD$40,BERECHNUNG!$AC40,IF($E$5=BERECHNUNG!$AD$44,BERECHNUNG!$AC44,IF($E$5=BERECHNUNG!$AD$48,BERECHNUNG!$AC48,IF($E$5=BERECHNUNG!$AD$52,BERECHNUNG!$AC52,IF($E$5=BERECHNUNG!$AD$56,BERECHNUNG!$AC56,IF($E$5=BERECHNUNG!$AD$60,BERECHNUNG!$AC60,\"\")))))))))))),\"AUSSTEHEND\")","v":29},"ZIELORT",null,null,{"$f":"(D41*3600+E41*60+F41)","v":36285}]
[null,null,"(Ein allf.  Vermerk \"AUSSTEHEND\" bedeutet, dass die Daten zur Zeitgleichung noch nicht aktualisiert sind)"]
[null,null,null,null,null,null,null,null,"Summenbsec. WOZ Zielort",{"$f":"(D33*3600+E33*60+F33)","v":16469}]
[null,"MOZ",{"$f":"$E$14","v":"NEW YORK EMP.ST. BUILDING "},{"$f":"BERECHNUNG!$V$13","v":4},{"$f":"BERECHNUNG!$W$13","v":47},{"$f":"BERECHNUNG!$X$13","v":24},"ZIELORT"]
[null,null,null,{"$f":"IF(D36<0,\"Minus  = Vortag\",\"\")","v":""},null,null,null,null,"Differe nzsec absolut",{"$f":"ABS(J33-J35)","v":19816}]
[null,null,null,{"$f":"(E41/60+F41/3600)","v":7.9166666666666663E-2},{"$f":"(F41/60)","v":0.75}]
[null,null,null,{"$f":"IF(D41>=12,(D41+D38)-12,(D41+D38))","v":10.079166666666667},{"$f":"$E$41+E38","v":4.75},{"$f":"$F$41","v":45},null,null,"Anzahl Stunden",{"$f":"(J37/3600)","v":5.5044444444444443},{"$f":"ROUNDDOWN(J39,0)","v":5}]
[null,null,null,{"$f":"(D39-12)","v":-1.9208333333333325},{"$f":"(60-E39)","v":55.25},{"$f":"(60-F39)","v":15}]
[null,"WOZ",{"$f":"$E$11","v":"KLOTEN STADTHAUS"},{"$f":"IF(BERECHNUNG!$Y$9=$F$5,IF($E$5=BERECHNUNG!$AD$16,BERECHNUNG!$AE16,IF($E$5=BERECHNUNG!$AD$20,BERECHNUNG!$AE20,IF($E$5=BERECHNUNG!$AD$24,BERECHNUNG!$AE24,IF($E$5=BERECHNUNG!$AD$28,BERECHNUNG!$AE28,IF($E$5=BERECHNUNG!$AD$32,BERECHNUNG!$AE32,IF($E$5=BERECHNUNG!$AD$36,BERECHNUNG!$AE36,IF($E$5=BERECHNUNG!$AD$40,BERECHNUNG!$AE40,IF($E$5=BERECHNUNG!$AD$44,BERECHNUNG!$AE44,IF($E$5=BERECHNUNG!$AD$48,BERECHNUNG!$AE48,IF($E$5=BERECHNUNG!$AD$52,BERECHNUNG!$AE52,IF($E$5=BERECHNUNG!$AD$56,BERECHNUNG!$AE56,IF($E$5=BERECHNUNG!$AD$60,BERECHNUNG!$AE60,\"\")))))))))))),\"AUSSTEHEND\")","v":10},{"$f":"IF(BERECHNUNG!$Y$9=$F$5,IF($E$5=BERECHNUNG!$AD$16,BERECHNUNG!$AF16,IF($E$5=BERECHNUNG!$AD$20,BERECHNUNG!$AF20,IF($E$5=BERECHNUNG!$AD$24,BERECHNUNG!$AF24,IF($E$5=BERECHNUNG!$AD$28,BERECHNUNG!$AF28,IF($E$5=BERECHNUNG!$AD$32,BERECHNUNG!$AF32,IF($E$5=BERECHNUNG!$AD$36,BERECHNUNG!$AF36,IF($E$5=BERECHNUNG!$AD$40,BERECHNUNG!$AF40,IF($E$5=BERECHNUNG!$AD$44,BERECHNUNG!$AF44,IF($E$5=BERECHNUNG!$AD$48,BERECHNUNG!$AF48,IF($E$5=BERECHNUNG!$AD$52,BERECHNUNG!$AF52,IF($E$5=BERECHNUNG!$AD$56,BERECHNUNG!$AF56,IF($E$5=BERECHNUNG!$AD$60,BERECHNUNG!$AF60,\"\")))))))))))),\"AUSSTEHEND\")","v":4},{"$f":"IF(BERECHNUNG!$Y$9=$F$5,IF($E$5=BERECHNUNG!$AD$16,BERECHNUNG!$AG16,IF($E$5=BERECHNUNG!$AD$20,BERECHNUNG!$AG20,IF($E$5=BERECHNUNG!$AD$24,BERECHNUNG!$AG24,IF($E$5=BERECHNUNG!$AD$28,BERECHNUNG!$AG28,IF($E$5=BERECHNUNG!$AD$32,BERECHNUNG!$AG32,IF($E$5=BERECHNUNG!$AD$36,BERECHNUNG!$AG36,IF($E$5=BERECHNUNG!$AD$40,BERECHNUNG!$AG40,IF($E$5=BERECHNUNG!$AD$44,BERECHNUNG!$AG44,IF($E$5=BERECHNUNG!$AD$48,BERECHNUNG!$AG48,IF($E$5=BERECHNUNG!$AD$52,BERECHNUNG!$AG52,IF($E$5=BERECHNUNG!$AD$56,BERECHNUNG!$AG56,IF($E$5=BERECHNUNG!$AD$60,BERECHNUNG!$AG60,\"\")))))))))))),\"AUSSTEHEND\")","v":45},"STANDORT",null,null,{"$f":"(J39-K39)*60","v":30.266666666666655},{"$f":"ROUNDDOWN(J41,0)","v":30}]
[null,null,"(Ein allf.  Vermerk \"AUSSTEHEND\" bedeutet, dass die Daten zur Zeitgleichung noch nicht aktualisiert sind)"]
[null,null,null,null,null,null,null,null,"Anzahl Sekunden",null,{"$f":"(J41-K41)*60","v":15.999999999999304}]
[null,"MOZ",{"$f":"$C$41","v":"KLOTEN STADTHAUS"},{"$f":"BERECHNUNG!$V$17","v":10},{"$f":"BERECHNUNG!$W$17","v":17},{"$f":"BERECHNUNG!$X$17","v":40},"STANDORT"]
[]
[null,"Informativ: MOMENTANE ZEITGLEICHUNG  MEZ. Polynomische Funktionen basierend auf:",null,null,{"$f":"$J$49","v":-12},{"$f":"$K$49","v":54.999999999999964}]
[null,"Zeitgleichungstabelle_2026.pdf (HELIOS)"]
[null,null,null,null,null,null,null,"Sek. Summe WOZ",{"$f":"(D41*3600+E41*60+F41)","v":36285},"Dezimal Min.Diff",{"$f":"(I48-I49)/60","v":-12.916666666666666}]
[null,"WAHRE ZEITDIFFERENZ",null,{"$f":"IF([1]BERECHNUNG!$V$8>=0,K39,24-ROUNDUP([1]BERECHNUNG!$Z$6-(D8+0),0))","v":5},{"$f":"$K$41","v":30},{"$f":"$K$43","v":15.999999999999304},null,"Sek. Summe MOZ",{"$f":"(D44*3600+E44*60+F44)","v":37060},{"$f":"ROUNDDOWN($K$48,0)","v":-12},{"$f":"ABS(K48-J49)*60","v":54.999999999999964}]
[]
[null,"2022-01-01","rev. 04.06.2022           erweitert 07.01.2023          korr.04.09.2023                      ","Nachführung Jan. 2025","Nachführung Jan. 2026"]

{"sheet":"STARTE DIE UHR!","index":4,"n_rows":20,"n_cols":14,"rows_kept":20,"cut":false,"hidden":true,"merged":[]}
["Uhrzeit",{"$f":"NOW()","v":46050.446772453703}]
["Stunde",{"$f":"HOUR(B1)","v":10},null,null,null,null,null,null,null,null,"STUNDEN",3,null,{"$f":"IF(B2>12,B2-12+B3/60+B4/3600,B2+B3/60+B4/3600)","v":10.7225}]
["Minute",{"$f":"MINUTE(B1)","v":43},null,null,null,null,null,null,null,null,null,9,null,{"$f":"(12-N2)","v":1.2774999999999999}]
["Sekunde",{"$f":"SECOND(B1)","v":21},null,null,null,null,null,null,null,null,"MINUTEN",null,null,{"$f":"(B3+B4/60)","v":43.35}]
[null,null,null,null,null,null,null,null,null,null,null,null,null,{"$f":"(60-N4)","v":16.649999999999999}]
[null,null,null,null,null,null,null,null,null,null,"SEKUNDEN",null,null,{"$f":"(B4)","v":21}]
[null,null,null,null,null,null,null,null,null,null,null,null,null,{"$f":"(60-N6)","v":39}]
["Datum",{"$f":"TODAY()","v":"2026-01-28"}]
["Jahr",{"$f":"YEAR(B8)","v":2026}]
["Monat",{"$f":"MONTH(B8)","v":1}]
["Tag",{"$f":"DAY(B8)","v":28}]
["Wochentag 1",{"$f":"B8","v":"2026-01-28"}]
["Wochentag 2",{"$f":"B8","v":"2026-01-28"}]
[]
[]
[]
["Ein Klick auf den Start-Button startet die laufende Ausgabe der aktuellen Uhrzeit sowie des aktuellen Datums mit den entsprechenden"]
["Teilinformationen wie Stunde, Minute, Sekunde, Jahr, Monat etc."]
[null,{"$f":"$B$1","v":46050.446772453703}]
["Mit Klick auf den Button Stopp wird die Akualisierung wieder beendet."]

{"sheet":"BERECHNUNG 2","index":5,"n_rows":377,"n_cols":33,"rows_kept":377,"cut":false,"hidden":true,"merged":[[14,30,14,32],[10,21,10,23],[14,26,14,28],[18,26,18,28],[22,26,22,28],[26,26,26,28],[50,26,50,28],[54,26,54,28],[58,26,58,28],[30,26,30,28],[34,26,34,28],[38,26,38,28],[42,26,42,28],[46,26,46,28]]}
[1,-3,33,{"$f":"(C1/60)","v":0.55000000000000004},null,"Januar","Februar","März","April"]
[2,-4,1,1.6666666666666666E-2,1,{"$f":"(B1-D1)","v":-3.55},-13.533333333333333,-12.3,-3.85,null,"GRAFIKEN SIEHE \"BERECHNUNG\"",null,null,null,null,null,null,null,null,null,null,"std","min","sec","Summe sec"]
[3,-4,28,0.46666666666666667,2,-4.0166666666666666,-13.666666666666666,-12.1,-3.55,null,null,null,null,null,null,null,null,null,null,null,"ARMBAND - UHRZEIT (mein Standort)",{"$f":"' EINGABEN UND AUSDRUCK'!$D$8","v":12},{"$f":"' EINGABEN UND AUSDRUCK'!$E$8","v":35},{"$f":"' EINGABEN UND AUSDRUCK'!$F$8","v":50},{"$f":"(3600*V3+60*W3+X3)","v":45350}]
[4,-4,55,0.91666666666666663,3,-4.4666666666666668,-13.766666666666667,-11.883333333333333,-3.25,null,null,null,null,null,null,null,null,null,null,null,"(berichtigt auf UTC; CH / MEZ: Sommer -2, Winter - 1)",null,null,"Längngrad - Zuschalag",{"$f":"(V5*4*60)","v":2059.4301839999998},"Wenn V8 = negativ, dann 24 + (Y6/3600)"]
[5,-5,22,0.36666666666666664,4,-4.916666666666667,-13.866666666666667,-11.666666666666666,-2.9666666666666668,null,null,null,null,null,null,null,null,null,null,null,"LÄNGENGRAD (mein Standort)",{"$f":"' EINGABEN UND AUSDRUCK'!$D$11","v":8.5809590999999994},null,"Summe am Standort",{"$f":"(Y3+Y4)","v":47409.430183999997},"↓"]
[6,-5,49,0.81666666666666665,5,-5.3666666666666663,-13.95,-11.45,-2.6666666666666665,null,null,null,null,null,null,null,null,null,null,null,"(z.B. Google Maps)",null,null,"Summe am Zielort",{"$f":"(Y5+((V7-V5)*4*60)+((0)*0))","v":27593.416759999996},{"$f":"(24+(Y6/3600))","v":31.664837988888888}]
[7,-6,15,0.25,6,-5.8166666666666664,-14.016666666666667,-11.216666666666667,-2.3833333333333333,null,null,null,null,null,null,null,null,null,null,null,"LÄNGENGRAD (Zielort)",{"$f":"' EINGABEN UND AUSDRUCK'!$D$14","v":-73.985763500000004},null,null,{"$f":"' EINGABEN UND AUSDRUCK'!$E$14","v":"NEW YORK EMP.ST. BUILDING "}]
[8,-6,40,0.66666666666666663,7,-6.25,-14.083333333333334,-10.983333333333333,-2.1,null,null,null,null,null,null,null,null,null,null,null,"(z.B. Google Maps)                                     MOZ am Zielort",{"$f":"(Y6/3600)","v":7.6648379888888876},{"$f":"IF(V8>=0,(V8-V13),1+(V8-ROUNDDOWN(V8,0)))","v":0.66483798888888757},{"$f":"(W8*60)","v":39.890279333333254},"Zerlegung"]
[9,-7,5,8.3333333333333329E-2,8,-6.666666666666667,-14.116666666666667,-10.733333333333333,-1.8333333333333335,null,null,null,null,null,null,null,null,null,null,null,"\"n - ter\" -  TAG DES MONATS (mein Standort)",{"$f":"' EINGABEN UND AUSDRUCK'!$D$5","v":15},"JAHRZAHL (-DEZIMALE) DER ZEITGLEICHUNGS-TABELLE",null,26]
[10,-7,29,0.48333333333333334,9,-7.083333333333333,-14.15,-10.483333333333333,-1.55,null,null,null,null,null,null,null,null,null,null,null,"MOZ am Standort",{"$f":"(Y5/3600)","v":13.169286162222221},{"$f":"V10-ROUNDDOWN(V10,0)","v":0.16928616222222104},{"$f":"(W10*60)","v":10.157169733333262},null,null,null,2]
[11,-7,53,0.8833333333333333,10,-7.4833333333333334,-14.166666666666666,-10.233333333333333,-1.2833333333333332,null,null,null,null,null,null,null,null,null,null,null,null,"MITTLERE ORTSZEIT AM ZIELORT (MOZ)",null,null,"Summendiff. sec für"]
[12,-8,16,0.26666666666666666,11,-7.8833333333333329,-14.166666666666666,-9.9666666666666668,-1.0166666666666666,null,null,null,null,null,null,null,null,null,null,null,null,"std","min","sec","Zeitgleichung \"vor/nach\" 12:00"]
[13,-8,39,0.65,12,-8.2666666666666675,-14.166666666666666,-9.6999999999999993,-0.76666666666666672,null,null,null,null,null,null,null,null,null,null,null,null,{"$f":"IF($V$8>=0,ROUNDDOWN($V$8,0),ROUNDDOWN(-1*$V$14,0))","v":7},{"$f":"ROUNDDOWN(IF($V$8>=0,ROUNDDOWN($X$8,0),W14*60),0)","v":39},{"$f":"IF(V8>=0,ROUND((X8-W13)*60,0),ROUND(X14*60,0))","v":53},{"$f":"((V17-12)*60*60+W17*60+X17)-((V5/15)*60*60)","v":2149.5698160000002}]
[14,-9,1,1.6666666666666666E-2,13,-8.65,-14.15,-9.4333333333333336,-0.5,null,null,null,null,null,null,null,null,null,null,null,null,{"$f":"$Z$6","v":31.664837988888888},{"$f":"($V$14-ROUNDDOWN($V$14,0))","v":0.66483798888888757},{"$f":"(W14*60-W13)","v":0.89027933333325393},"GEMESSEN AM 0° - MERIDIAN"]
[15,-9,23,0.38333333333333336,14,-9.0166666666666675,-14.116666666666667,-9.1666666666666661,-0.25,null,null,null,null,null,null,null,null,null,null,null,null,"X am 0° - Meridian=",{"$f":"($V$9+((1.1574074074*10^-5)*$Y$13))","v":15.024879280277618},"(n-ter Tag)","MIN","SEC","WAHRE ORTSZEIT AM ZIELORT (WOZ) (std:min:sec)",null,null,"Monat","WAHRE ORTSZEIT AM STANDORT"]
[16,-9,43,0.71666666666666667,15,-9.3833333333333329,-14.066666666666666,-8.8833333333333329,-1.6666666666666666E-2,null,null,null,null,null,null,null,null,null,null,null,"JANUAR","Y gleitende ZG am 0°-Meridian= ",{"$f":"BERECHNUNG!$W$16","v":-12.915919827729187},"Y =",{"$f":"ROUNDDOWN(W16,0)","v":-12},{"$f":"IF(Y16>=0,ROUND(ABS(W16-Y16)*60,0),-ROUND(ABS(W16-Y16)*60,0))","v":-55},{"$f":"IF($V$8>=0,ROUNDDOWN(AA17,0),ROUNDDOWN(AA18*-1,0))","v":7},{"$f":"IF($V$8>=0,ROUNDDOWN(AB17,0),ROUNDDOWN(AB18,0))","v":26},{"$f":"IF($V$8>=0,ROUNDDOWN(AC17,0),ROUNDUP(AC18,0))","v":58},1,{"$f":"ROUNDDOWN(AE17,0)","v":12},{"$f":"ROUNDDOWN(AF17,0)","v":57},{"$f":"ROUND(AG17*60,0)","v":14}]
[17,-10,3,0.05,16,-9.7166666666666668,-14.016666666666667,-8.6,0.21666666666666667,null,null,null,null,null,null,null,null,null,null,null,"Hilfszeile: MOZ am Standort (std:min:sec)",{"$f":"ROUNDDOWN($V$10,0)","v":13},{"$f":"ROUNDDOWN($X$10,0)","v":10},{"$f":"ROUND((X10-W17)*60,0)","v":9},null,null,{"$f":"($V$8*60*60+W16*60)/3600","v":7.4495726584267343},{"$f":"(AA17-ROUNDDOWN(AA17,0))*60","v":26.97435950560406},{"$f":"(AB17-ROUNDDOWN(AB17,0))*60","v":58.461570336243582},null,{"$f":"($V$10*60*60+W16*60)/3600","v":12.954020831760069},{"$f":"(AE17-ROUNDDOWN(AE17,0))*60","v":57.241249905604121},{"$f":"(AF17-ROUNDDOWN(AF17,0))","v":0.2412499056041213}]
[18,-10,23,0.38333333333333336,17,-10.050000000000001,-13.95,-8.3166666666666664,0.45,null,null,null,null,null,null,null,null,null,null,null,null,null,null,null,null,null,{"$f":"(AD18/3600)","v":31.449560211111109},{"$f":"(AA18-ROUNDDOWN(AA18,0))*60","v":26.97361266666654},{"$f":"(AB18-ROUNDDOWN(AB18,0))*60","v":58.416759999992394},{"$f":"($Z$6*3600+Y16*60+Z16)","v":113218.41675999999}]
[19,-10,42,0.7,18,-10.383333333333333,-13.866666666666667,-8.0333333333333332,0.68333333333333335,null,null,null,null,null,null,null,null,null,null,null,null,"X am 0° - Meridian=",{"$f":"($V$9+((1.1574074074*10^-5)*$Y$13))","v":15.024879280277618},"(n-ter Tag)","MIN","SEC","WAHRE ORTSZEIT AM ZIELORT (std:min:sec)"]
[20,-10,59,0.98333333333333328,19,-10.7,-13.783333333333333,-7.7333333333333334,0.9,null,null,null,null,null,null,null,null,null,null,null,"FEBRUAR","Y gleitende ZG am 0°-Meridian= ",{"$f":"BERECHNUNG!$W$20","v":-12.488372867589792},"Y =",{"$f":"ROUNDDOWN(W20,0)","v":-12},{"$f":"IF(Y20>=0,ROUND(ABS(W20-Y20)*60,0),-ROUND(ABS(W20-Y20)*60,0))","v":-29},{"$f":"IF($V$8>=0,ROUNDDOWN(AA21,0),ROUNDDOWN(AA22*-1,0))","v":7},{"$f":"IF($V$8>=0,ROUNDDOWN(AB21,0),ROUNDDOWN(AB22,0))","v":27},{"$f":"IF($V$8>=0,ROUNDDOWN(AC21,0),ROUNDUP(AC22,0))","v":24},2,{"$f":"ROUNDDOWN(AE21,0)","v":12},{"$f":"ROUNDDOWN(AF21,0)","v":57},{"$f":"ROUND(AG21*60,0)","v":40}]
[21,-11,17,0.28333333333333333,20,-10.983333333333333,-13.683333333333334,-7.45,1.1000000000000001,null,null,null,null,null,null,null,null,null,null,null,null,null,null,null,null,null,{"$f":"($V$8*60*60+W20*60)/3600","v":7.4566984410957238},{"$f":"(AA21-ROUNDDOWN(AA21,0))*60","v":27.401906465743426},{"$f":"(AB21-ROUNDDOWN(AB21,0))*60","v":24.114387944605582},null,{"$f":"($V$10*60*60+W20*60)/3600","v":12.961146614429058},{"$f":"(AE21-ROUNDDOWN(AE21,0))*60","v":57.668796865743488},{"$f":"(AF21-ROUNDDOWN(AF21,0))","v":0.66879686574348796}]
[22,-11,33,0.55000000000000004,21,-11.283333333333333,-13.566666666666666,-7.15,1.3,null,null,null,null,null,null,null,null,null,null,null,null,null,null,null,null,null,{"$f":"(AD22/3600)","v":31.456782433333331},{"$f":"(AA22-ROUNDDOWN(AA22,0))*60","v":27.406945999999834},{"$f":"(AB22-ROUNDDOWN(AB22,0))*60","v":24.416759999990063},{"$f":"($Z$6*3600+Y20*60+Z20)","v":113244.41675999999}]
[23,-11,49,0.81666666666666665,22,-11.55,-13.45,-6.85,1.5,null,null,null,null,null,null,null,null,null,null,null,null,"X am 0° - Meridian=",{"$f":"($V$9+((1.1574074074*10^-5)*$Y$13))","v":15.024879280277618},"(n-ter Tag)","MIN","SEC","WAHRE ORTSZEIT AM ZIELORT (std:min:sec)"]
[24,-12,3,0.05,23,-11.816666666666666,-13.316666666666666,-6.55,1.6833333333333333,null,null,null,null,null,null,null,null,null,null,null,"MÄRZ","Y gleitende ZG am 0°-Meridian= ",{"$f":"BERECHNUNG!$W$24","v":-5.064646949657341},"Y =",{"$f":"ROUNDDOWN(W24,0)","v":-5},{"$f":"IF(Y24>=0,ROUND(ABS(W24-Y24)*60,0),-ROUND(ABS(W24-Y24)*60,0))","v":-4},{"$f":"IF($V$8>=0,ROUNDDOWN(AA25,0),ROUNDDOWN(AA26*-1,0))","v":7},{"$f":"IF($V$8>=0,ROUNDDOWN(AB25,0),ROUNDDOWN(AB26,0))","v":34},{"$f":"IF($V$8>=0,ROUNDDOWN(AC25,0),ROUNDUP(AC26,0))","v":49},3,{"$f":"ROUNDDOWN(AE25,0)","v":13},{"$f":"ROUNDDOWN(AF25,0)","v":5},{"$f":"ROUND(AG25*60,0)","v":6}]
[25,-12,17,0.28333333333333333,24,-12.05,-13.166666666666666,-6.25,1.8666666666666667,null,null,null,null,null,null,null,null,null,null,null,null,null,null,null,null,null,{"$f":"($V$8*60*60+W24*60)/3600","v":7.5804272063945985},{"$f":"(AA25-ROUNDDOWN(AA25,0))*60","v":34.825632383675909},{"$f":"(AB25-ROUNDDOWN(AB25,0))*60","v":49.537943020554565},null,{"$f":"($V$10*60*60+W24*60)/3600","v":13.084875379727931},{"$f":"(AE25-ROUNDDOWN(AE25,0))*60","v":5.092522783675868},{"$f":"(AF25-ROUNDDOWN(AF25,0))","v":9.252278367586797E-2}]
[26,-12,31,0.51666666666666672,25,-12.283333333333333,-13.016666666666667,-5.95,2.0499999999999998,null,null,null,null,null,null,null,null,null,null,null,null,null,null,null,null,null,{"$f":"(AD26/3600)","v":31.580393544444444},{"$f":"(AA26-ROUNDDOWN(AA26,0))*60","v":34.823612666666648},{"$f":"(AB26-ROUNDDOWN(AB26,0))*60","v":49.416759999998874},{"$f":"($Z$6*3600+Y24*60+Z24)","v":113689.41675999999}]
[27,-12,43,0.71666666666666667,26,-12.516666666666667,-12.85,-5.65,2.2166666666666668,null,null,null,null,null,null,null,null,null,null,null,null,"X am 0° - Meridian=",{"$f":"($V$9+((1.1574074074*10^-5)*$Y$13))","v":15.024879280277618},"(n-ter Tag)","MIN","SEC","WAHRE ORTSZEIT AM ZIELORT (std:min:sec)"]
[28,-12,54,0.9,27,-12.716666666666667,-12.666666666666666,-5.35,2.3666666666666667,null,null,null,null,null,null,null,null,null,null,null,"APRIL","Y gleitende ZG am 0°-Meridian= ",{"$f":"BERECHNUNG!$W$28","v":2.4198992422348411},"Y =",{"$f":"ROUNDDOWN(W28,0)","v":2},{"$f":"IF(Y28>=0,ROUND(ABS(W28-Y28)*60,0),-ROUND(ABS(W28-Y28)*60,0))","v":25},{"$f":"IF($V$8>=0,ROUNDDOWN(AA29,0),ROUNDDOWN(AA30*-1,0))","v":7},{"$f":"IF($V$8>=0,ROUNDDOWN(AB29,0),ROUNDDOWN(AB30,0))","v":42},{"$f":"IF($V$8>=0,ROUNDDOWN(AC29,0),ROUNDUP(AC30,0))","v":18},4,{"$f":"ROUNDDOWN(AE29,0)","v":13},{"$f":"ROUNDDOWN(AF29,0)","v":12},{"$f":"ROUND(AG29*60,0)","v":35}]
[29,-13,5,8.3333333333333329E-2,28,-12.9,-12.483333333333333,-5.05,2.5166666666666666,null,null,null,null,null,null,null,null,null,null,null,null,null,null,null,null,null,{"$f":"($V$8*60*60+W28*60)/3600","v":7.7051696429261343},{"$f":"(AA29-ROUNDDOWN(AA29,0))*60","v":42.31017857556806},{"$f":"(AB29-ROUNDDOWN(AB29,0))*60","v":18.61071453408357},null,{"$f":"($V$10*60*60+W28*60)/3600","v":13.20961781625947},{"$f":"(AE29-ROUNDDOWN(AE29,0))*60","v":12.577068975568224},{"$f":"(AF29-ROUNDDOWN(AF29,0))","v":0.57706897556822412}]
[30,-13,15,0.25,29,-13.083333333333334,null,-4.75,2.6666666666666665,null,null,null,null,null,null,null,null,null,null,null,null,null,null,null,null,null,{"$f":"(AD30/3600)","v":31.705115766666665},{"$f":"(AA30-ROUNDDOWN(AA30,0))*60","v":42.306945999999925},{"$f":"(AB30-ROUNDDOWN(AB30,0))*60","v":18.41675999999552},{"$f":"($Z$6*3600+Y28*60+Z28)","v":114138.41675999999}]
[31,-13,24,0.4,30,-13.25,null,-4.45,2.8,null,null,null,null,null,null,null,null,null,null,null,null,"X am 0° - Meridian=",{"$f":"($V$9+((1.1574074074*10^-5)*$Y$13))","v":15.024879280277618},"(n-ter Tag)","MIN","SEC","WAHRE ORTSZEIT AM ZIELORT (std:min:sec)"]
["Februar",null,null,"Februar",31,-13.4,null,-4.1500000000000004,null,null,null,null,null,null,null,null,null,null,null,null,"MAI","Y gleitende ZG am 0°-Meridian= ",{"$f":"BERECHNUNG!$W$32","v":2.7260613995201086},"Y =",{"$f":"ROUNDDOWN(W32,0)","v":2},{"$f":"IF(Y32>=0,ROUND(ABS(W32-Y32)*60,0),-ROUND(ABS(W32-Y32)*60,0))","v":44},{"$f":"IF($V$8>=0,ROUNDDOWN(AA33,0),ROUNDDOWN(AA34*-1,0))","v":7},{"$f":"IF($V$8>=0,ROUNDDOWN(AB33,0),ROUNDDOWN(AB34,0))","v":42},{"$f":"IF($V$8>=0,ROUNDDOWN(AC33,0),ROUNDUP(AC34,0))","v":36},5,{"$f":"ROUNDDOWN(AE33,0)","v":13},{"$f":"ROUNDDOWN(AF33,0)","v":12},{"$f":"ROUND(AG33*60,0)","v":53}]
[1,-13,32,{"$f":"(B33-(C33/60))","v":-13.533333333333333},null,null,null,null,null,null,null,null,null,null,null,null,null,null,null,null,null,null,null,null,null,null,{"$f":"($V$8*60*60+W32*60)/3600","v":7.7102723455475548},{"$f":"(AA33-ROUNDDOWN(AA33,0))*60","v":42.616340732853288},{"$f":"(AB33-ROUNDDOWN(AB33,0))*60","v":36.980443971197303},null,{"$f":"($V$10*60*60+W32*60)/3600","v":13.21472051888089},{"$f":"(AE33-ROUNDDOWN(AE33,0))*60","v":12.883231132853403},{"$f":"(AF33-ROUNDDOWN(AF33,0))","v":0.88323113285340327}]
[2,-13,40,-13.666666666666666,null,null,null,null,null,null,null,null,null,null,null,null,null,null,null,null,null,null,null,null,null,null,{"$f":"(AD34/3600)","v":31.710393544444443},{"$f":"(AA34-ROUNDDOWN(AA34,0))*60","v":42.623612666666588},{"$f":"(AB34-ROUNDDOWN(AB34,0))*60","v":37.416759999995293},{"$f":"($Z$6*3600+Y32*60+Z32)","v":114157.41675999999}]
[3,-13,46,-13.766666666666667,null,null,null,null,null,null,null,null,null,null,null,null,null,null,null,null,null,"X am 0° - Meridian=",{"$f":"($V$9+((1.1574074074*10^-5)*$Y$13))","v":15.024879280277618},"(n-ter Tag)","MIN","SEC","WAHRE ORTSZEIT AM ZIELORT (std:min:sec)"]
[4,-13,52,-13.866666666666667,null,null,null,null,null,null,null,null,null,null,null,null,null,null,null,null,"JUNI","Y gleitende ZG am 0°-Meridian= ",{"$f":"BERECHNUNG!$W$36","v":-3.3070848737709095},"Y =",{"$f":"ROUNDDOWN(W36,0)","v":-3},{"$f":"IF(Y36>=0,ROUND(ABS(W36-Y36)*60,0),-ROUND(ABS(W36-Y36)*60,0))","v":-18},{"$f":"IF($V$8>=0,ROUNDDOWN(AA37,0),ROUNDDOWN(AA38*-1,0))","v":7},{"$f":"IF($V$8>=0,ROUNDDOWN(AB37,0),ROUNDDOWN(AB38,0))","v":36},{"$f":"IF($V$8>=0,ROUNDDOWN(AC37,0),ROUNDUP(AC38,0))","v":34},6,{"$f":"ROUNDDOWN(AE37,0)","v":13},{"$f":"ROUNDDOWN(AF37,0)","v":6},{"$f":"ROUND(AG37*60,0)","v":51}]
[5,-13,57,-13.95,null,null,null,null,null,null,null,null,null,null,null,null,null,null,null,null,null,null,null,null,null,null,{"$f":"($V$8*60*60+W36*60)/3600","v":7.6097199076593709},{"$f":"(AA37-ROUNDDOWN(AA37,0))*60","v":36.58319445956225},{"$f":"(AB37-ROUNDDOWN(AB37,0))*60","v":34.991667573735015},null,{"$f":"($V$10*60*60+W36*60)/3600","v":13.114168080992707},{"$f":"(AE37-ROUNDDOWN(AE37,0))*60","v":6.850084859562422},{"$f":"(AF37-ROUNDDOWN(AF37,0))","v":0.85008485956242197}]
[6,-14,1,-14.016666666666667,null,null,null,null,null,null,null,null,null,null,null,null,null,null,null,null,null,null,null,null,null,null,{"$f":"(AD38/3600)","v":31.609837988888888},{"$f":"(AA38-ROUNDDOWN(AA38,0))*60","v":36.590279333333271},{"$f":"(AB38-ROUNDDOWN(AB38,0))*60","v":35.416759999996259},{"$f":"($Z$6*3600+Y36*60+Z36)","v":113795.41675999999}]
[7,-14,5,-14.083333333333334,null,null,null,null,null,null,null,null,null,null,null,null,null,null,null,null,null,"X am 0° - Meridian=",{"$f":"($V$9+((1.1574074074*10^-5)*$Y$13))","v":15.024879280277618},"(n-ter Tag)","MIN","SEC","WAHRE ORTSZEIT AM ZIELORT (std:min:sec)"]
[8,-14,7,-14.116666666666667,null,null,null,null,null,null,null,null,null,null,null,null,null,null,null,null,"JULI","Y gleitende ZG am 0°-Meridian= ",{"$f":"BERECHNUNG!$W$40","v":-6.5208220377095332},"Y =",{"$f":"ROUNDDOWN(W40,0)","v":-6},{"$f":"IF(Y40>=0,ROUND(ABS(W40-Y40)*60,0),-ROUND(ABS(W40-Y40)*60,0))","v":-31},{"$f":"IF($V$8>=0,ROUNDDOWN(AA41,0),ROUNDDOWN(AA42*-1,0))","v":7},{"$f":"IF($V$8>=0,ROUNDDOWN(AB41,0),ROUNDDOWN(AB42,0))","v":33},{"$f":"IF($V$8>=0,ROUNDDOWN(AC41,0),ROUNDUP(AC42,0))","v":22},7,{"$f":"ROUNDDOWN(AE41,0)","v":13},{"$f":"ROUNDDOWN(AF41,0)","v":3},{"$f":"ROUND(AG41*60,0)","v":38}]
[9,-14,9,-14.15,null,null,null,null,null,null,null,null,null,null,null,null,null,null,null,null,null,null,null,null,null,null,{"$f":"($V$8*60*60+W40*60)/3600","v":7.5561576215937283},{"$f":"(AA41-ROUNDDOWN(AA41,0))*60","v":33.369457295623697},{"$f":"(AB41-ROUNDDOWN(AB41,0))*60","v":22.167437737421807},null,{"$f":"($V$10*60*60+W40*60)/3600","v":13.060605794927064},{"$f":"(AE41-ROUNDDOWN(AE41,0))*60","v":3.6363476956238117},{"$f":"(AF41-ROUNDDOWN(AF41,0))","v":0.63634769562381166}]
[10,-14,10,-14.166666666666666,null,null,null,null,null,null,null,null,null,null,null,null,null,null,null,null,null,null,null,null,null,null,{"$f":"(AD42/3600)","v":31.556226877777775},{"$f":"(AA42-ROUNDDOWN(AA42,0))*60","v":33.373612666666475},{"$f":"(AB42-ROUNDDOWN(AB42,0))*60","v":22.416759999988471},{"$f":"($Z$6*3600+Y40*60+Z40)","v":113602.41675999999}]
[11,-14,10,-14.166666666666666,null,null,null,null,null,null,null,null,null,null,null,null,null,null,null,null,null,"X am 0° - Meridian=",{"$f":"($V$9+((1.1574074074*10^-5)*$Y$13))","v":15.024879280277618},"(n-ter Tag)","MIN","SEC","WAHRE ORTSZEIT AM ZIELORT (std:min:sec)"]
[12,-14,10,-14.166666666666666,null,null,null,null,null,null,null,null,null,null,null,null,null,null,null,null,"AUGUST","Y gleitende ZG am 0°-Meridian= ",{"$f":"BERECHNUNG!$W$44","v":-1.2015717435243483},"Y =",{"$f":"ROUNDDOWN(W44,0)","v":-1},{"$f":"IF(Y44>=0,ROUND(ABS(W44-Y44)*60,0),-ROUND(ABS(W44-Y44)*60,0))","v":-12},{"$f":"IF($V$8>=0,ROUNDDOWN(AA45,0),ROUNDDOWN(AA46*-1,0))","v":7},{"$f":"IF($V$8>=0,ROUNDDOWN(AB45,0),ROUNDDOWN(AB46,0))","v":38},{"$f":"IF($V$8>=0,ROUNDDOWN(AC45,0),ROUNDUP(AC46,0))","v":41},8,{"$f":"ROUNDDOWN(AE45,0)","v":13},{"$f":"ROUNDDOWN(AF45,0)","v":8},{"$f":"ROUND(AG45*60,0)","v":57}]
[13,-14,9,-14.15,null,null,null,null,null,null,null,null,null,null,null,null,null,null,null,null,null,null,null,null,null,null,{"$f":"($V$8*60*60+W44*60)/3600","v":7.6448117931634805},{"$f":"(AA45-ROUNDDOWN(AA45,0))*60","v":38.688707589808828},{"$f":"(AB45-ROUNDDOWN(AB45,0))*60","v":41.322455388529704},null,{"$f":"($V$10*60*60+W44*60)/3600","v":13.149259966496816},{"$f":"(AE45-ROUNDDOWN(AE45,0))*60","v":8.9555979898089433},{"$f":"(AF45-ROUNDDOWN(AF45,0))","v":0.95559798980894328}]
[14,-14,7,-14.116666666666667,null,null,null,null,null,null,null,null,null,null,null,null,null,null,null,null,null,null,null,null,null,null,{"$f":"(AD46/3600)","v":31.644837988888888},{"$f":"(AA46-ROUNDDOWN(AA46,0))*60","v":38.69027933333328},{"$f":"(AB46-ROUNDDOWN(AB46,0))*60","v":41.416759999996771},{"$f":"($Z$6*3600+Y44*60+Z44)","v":113921.41675999999}]
[15,-14,4,-14.066666666666666,null,null,null,null,null,null,null,null,null,null,null,null,null,null,null,null,null,"X am 0° - Meridian=",{"$f":"($V$9+((1.1574074074*10^-5)*$Y$13))","v":15.024879280277618},"(n-ter Tag)","MIN","SEC","WAHRE ORTSZEIT AM ZIELORT (std:min:sec)"]
[16,-14,1,-14.016666666666667,null,null,null,null,null,null,null,null,null,null,null,null,null,null,null,null,"SEPTEMBER","Y gleitende ZG am 0°-Meridian= ",{"$f":"BERECHNUNG!$W$48","v":9.4078404831049873},"Y =",{"$f":"ROUNDDOWN(W48,0)","v":9},{"$f":"IF(Y48>=0,ROUND(ABS(W48-Y48)*60,0),-ROUND(ABS(W48-Y48)*60,0))","v":24},{"$f":"IF($V$8>=0,ROUNDDOWN(AA49,0),ROUNDDOWN(AA50*-1,0))","v":7},{"$f":"IF($V$8>=0,ROUNDDOWN(AB49,0),ROUNDDOWN(AB50,0))","v":49},{"$f":"IF($V$8>=0,ROUNDDOWN(AC49,0),ROUNDUP(AC50,0))","v":17},9,{"$f":"ROUNDDOWN(AE49,0)","v":13},{"$f":"ROUNDDOWN(AF49,0)","v":19},{"$f":"ROUND(AG49*60,0)","v":34}]
[17,-13,57,-13.95,null,null,null,null,null,null,null,null,null,null,null,null,null,null,null,null,null,null,null,null,null,null,{"$f":"($V$8*60*60+W48*60)/3600","v":7.8216353302739705},{"$f":"(AA49-ROUNDDOWN(AA49,0))*60","v":49.298119816438231},{"$f":"(AB49-ROUNDDOWN(AB49,0))*60","v":17.887188986293836},null,{"$f":"($V$10*60*60+W48*60)/3600","v":13.326083503607304},{"$f":"(AE49-ROUNDDOWN(AE49,0))*60","v":19.565010216438239},{"$f":"(AF49-ROUNDDOWN(AF49,0))","v":0.5650102164382389}]
[18,-13,52,-13.866666666666667,null,null,null,null,null,null,null,null,null,null,null,null,null,null,null,null,null,null,null,null,null,null,{"$f":"(AD50/3600)","v":31.821504655555554},{"$f":"(AA50-ROUNDDOWN(AA50,0))*60","v":49.290279333333231},{"$f":"(AB50-ROUNDDOWN(AB50,0))*60","v":17.416759999993872},{"$f":"($Z$6*3600+Y48*60+Z48)","v":114557.41675999999}]
[19,-13,47,-13.783333333333333,null,null,null,null,null,null,null,null,null,null,null,null,null,null,null,null,null,"X am 0° - Meridian=",{"$f":"($V$9+((1.1574074074*10^-5)*$Y$13))","v":15.024879280277618},"(n-ter Tag)","MIN","SEC","WAHRE ORTSZEIT AM ZIELORT (std:min:sec)"]
[20,-13,41,-13.683333333333334,null,null,null,null,null,null,null,null,null,null,null,null,null,null,null,null,"OKTOBER","Y gleitende ZG am 0°-Meridian= ",{"$f":"BERECHNUNG!$W$52","v":16.22602589567904},"Y =",{"$f":"ROUNDDOWN(W52,0)","v":16},{"$f":"IF(Y52>=0,ROUND(ABS(W52-Y52)*60,0),-ROUND(ABS(W52-Y52)*60,0))","v":14},{"$f":"IF($V$8>=0,ROUNDDOWN(AA53,0),ROUNDDOWN(AA54*-1,0))","v":7},{"$f":"IF($V$8>=0,ROUNDDOWN(AB53,0),ROUNDDOWN(AB54,0))","v":56},{"$f":"IF($V$8>=0,ROUNDDOWN(AC53,0),ROUNDUP(AC54,0))","v":6},10,{"$f":"ROUNDDOWN(AE53,0)","v":13},{"$f":"ROUNDDOWN(AF53,0)","v":26},{"$f":"ROUND(AG53*60,0)","v":23}]
[21,-13,34,-13.566666666666666,null,null,null,null,null,null,null,null,null,null,null,null,null,null,null,null,null,null,null,null,null,null,{"$f":"($V$8*60*60+W52*60)/3600","v":7.9352717538168713},{"$f":"(AA53-ROUNDDOWN(AA53,0))*60","v":56.116305229012283},{"$f":"(AB53-ROUNDDOWN(AB53,0))*60","v":6.9783137407370077},null,{"$f":"($V$10*60*60+W52*60)/3600","v":13.439719927150206},{"$f":"(AE53-ROUNDDOWN(AE53,0))*60","v":26.383195629012341},{"$f":"(AF53-ROUNDDOWN(AF53,0))","v":0.3831956290123415}]
[22,-13,27,-13.45,null,null,null,null,null,null,null,null,null,null,null,null,null,null,null,null,null,null,null,null,null,null,{"$f":"(AD54/3600)","v":31.935393544444441},{"$f":"(AA54-ROUNDDOWN(AA54,0))*60","v":56.12361266666646},{"$f":"(AB54-ROUNDDOWN(AB54,0))*60","v":7.4167599999876188},{"$f":"($Z$6*3600+Y52*60+Z52)","v":114967.41675999999}]
[23,-13,19,-13.316666666666666,null,null,null,null,null,null,null,null,null,null,null,null,null,null,null,null,null,"X am 0° - Meridian=",{"$f":"($V$9+((1.1574074074*10^-5)*$Y$13))","v":15.024879280277618},"(n-ter Tag)","MIN","SEC","WAHRE ORTSZEIT AM ZIELORT (std:min:sec)"]
[24,-13,10,-13.166666666666666,null,null,null,null,null,null,null,null,null,null,null,null,null,null,null,null,"NOVEMBER","Y gleitende ZG am 0°-Meridian= ",{"$f":"BERECHNUNG!$W$56","v":12.143164048446657},"Y =",{"$f":"ROUNDDOWN(W56,0)","v":12},{"$f":"IF(Y56>=0,ROUND(ABS(W56-Y56)*60,0),-ROUND(ABS(W56-Y56)*60,0))","v":9},{"$f":"IF($V$8>=0,ROUNDDOWN(AA57,0),ROUNDDOWN(AA58*-1,0))","v":7},{"$f":"IF($V$8>=0,ROUNDDOWN(AB57,0),ROUNDDOWN(AB58,0))","v":52},{"$f":"IF($V$8>=0,ROUNDDOWN(AC57,0),ROUNDUP(AC58,0))","v":2},11,{"$f":"ROUNDDOWN(AE57,0)","v":13},{"$f":"ROUNDDOWN(AF57,0)","v":22},{"$f":"ROUND(AG57*60,0)","v":18}]
[25,-13,1,-13.016666666666667,null,null,null,null,null,null,null,null,null,null,null,null,null,null,null,null,null,null,null,null,null,null,{"$f":"($V$8*60*60+W56*60)/3600","v":7.867224056362998},{"$f":"(AA57-ROUNDDOWN(AA57,0))*60","v":52.033443381779882},{"$f":"(AB57-ROUNDDOWN(AB57,0))*60","v":2.0066029067929492},null,{"$f":"($V$10*60*60+W56*60)/3600","v":13.371672229696332},{"$f":"(AE57-ROUNDDOWN(AE57,0))*60","v":22.300333781779891},{"$f":"(AF57-ROUNDDOWN(AF57,0))","v":0.30033378177989078}]
[26,-12,51,-12.85,null,null,null,null,null,null,null,null,null,null,null,null,null,null,null,null,null,null,null,null,null,null,{"$f":"(AD58/3600)","v":31.867337988888888},{"$f":"(AA58-ROUNDDOWN(AA58,0))*60","v":52.040279333333288},{"$f":"(AB58-ROUNDDOWN(AB58,0))*60","v":2.4167599999972822},{"$f":"($Z$6*3600+Y56*60+Z56)","v":114722.41675999999}]
[27,-12,40,-12.666666666666666,null,null,null,null,null,null,null,null,null,null,null,null,null,null,null,null,null,"X am 0° - Meridian=",{"$f":"($V$9+((1.1574074074*10^-5)*$Y$13))","v":15.024879280277618},"(n-ter Tag)","MIN","SEC","WAHRE ORTSZEIT AM ZIELORT (std:min:sec)"]
[28,-12,29,-12.483333333333333,null,null,null,null,null,null,null,null,null,null,null,null,null,null,null,null,"DEZEMBER","Y gleitende ZG am 0°-Meridian= ",{"$f":"BERECHNUNG!$W$60","v":-1.3934561737284792},"Y =",{"$f":"ROUNDDOWN(W60,0)","v":-1},{"$f":"IF(Y60>=0,ROUND(ABS(W60-Y60)*60,0),-ROUND(ABS(W60-Y60)*60,0))","v":-24},{"$f":"IF($V$8>=0,ROUNDDOWN(AA61,0),ROUNDDOWN(AA62*-1,0))","v":7},{"$f":"IF($V$8>=0,ROUNDDOWN(AB61,0),ROUNDDOWN(AB62,0))","v":38},{"$f":"IF($V$8>=0,ROUNDDOWN(AC61,0),ROUNDUP(AC62,0))","v":29},12,{"$f":"ROUNDDOWN(AE61,0)","v":13},{"$f":"ROUNDDOWN(AF61,0)","v":8},{"$f":"ROUND(AG61*60,0)","v":46}]
[29,null,null,null,null,null,null,null,null,null,null,null,null,null,null,null,null,null,null,null,null,null,null,null,null,null,{"$f":"($V$8*60*60+W60*60)/3600","v":7.6416137193267453},{"$f":"(AA61-ROUNDDOWN(AA61,0))*60","v":38.496823159604716},{"$f":"(AB61-ROUNDDOWN(AB61,0))*60","v":29.809389576282967},null,{"$f":"($V$10*60*60+W60*60)/3600","v":13.146061892660081},{"$f":"(AE61-ROUNDDOWN(AE61,0))*60","v":8.763713559604831},{"$f":"(AF61-ROUNDDOWN(AF61,0))","v":0.763713559604831}]
["2001-03-01",-12,18,{"$f":"(B62-(C62/60))","v":-12.3},null,null,null,null,null,null,null,null,null,null,null,null,null,null,null,null,null,null,null,null,null,null,{"$f":"(AD62/3600)","v":31.641504655555554},{"$f":"(AA62-ROUNDDOWN(AA62,0))*60","v":38.490279333333248},{"$f":"(AB62-ROUNDDOWN(AB62,0))*60","v":29.416759999994895},{"$f":"($Z$6*3600+Y60*60+Z60)","v":113909.41675999999}]
[2,-12,6,-12.1]
[3,-11,53,-11.883333333333333]
[4,-11,40,-11.666666666666666]
[5,-11,27,-11.45]
[6,-11,13,-11.216666666666667]
[7,-10,59,-10.983333333333333]
[8,-10,44,-10.733333333333333]
[9,-10,29,-10.483333333333333]
[10,-10,14,-10.233333333333333]
[11,-9,58,-9.9666666666666668]
[12,-9,42,-9.6999999999999993]
[13,-9,26,-9.4333333333333336]
[14,-9,10,-9.1666666666666661]
[15,-8,53,-8.8833333333333329]
[16,-8,36,-8.6]
[17,-8,19,-8.3166666666666664]
[18,-8,2,-8.0333333333333332]
[19,-7,44,-7.7333333333333334]
[20,-7,27,-7.45]
[21,-7,9,-7.15]
[22,-6,51,-6.85]
[23,-6,33,-6.55]
[24,-6,15,-6.25]
[25,-5,57,-5.95]
[26,-5,39,-5.65]
[27,-5,21,-5.35]
[28,-5,3,-5.05]
[29,-4,45,-4.75]
[30,-4,27,-4.45]
[31,-4,9,-4.1500000000000004]
["April:",null,null,"April"]
[1,-3,51,{"$f":"(B94-(C94/60))","v":-3.85}]
[{"$f":"(A94+1)","v":2},-3,33,-3.55]
[3,-3,15,-3.25]
[4,-2,58,-2.9666666666666668]
[5,-2,40,-2.6666666666666665]
[6,-2,23,-2.3833333333333333]
[7,-2,6,-2.1]
[8,-1,50,-1.8333333333333335]
[9,-1,33,-1.55]
[10,-1,17,-1.2833333333333332]
[11,-1,1,-1.0166666666666666]
[12,0,46,-0.76666666666666672]
[13,0,30,-0.5]
[14,0,15,-0.25]
[15,0,1,-1.6666666666666666E-2]
[16,0,13,{"$f":"(B109+(C109/60))","v":0.21666666666666667}]
[17,0,27,0.45]
[18,0,41,0.68333333333333335]
[19,0,54,0.9]
[20,1,6,1.1000000000000001]
[21,1,18,1.3]
[22,1,30,1.5]
[23,1,41,1.6833333333333333]
[24,1,52,1.8666666666666667]
[25,2,3,2.0499999999999998]
[26,2,13,2.2166666666666668]
[27,2,22,2.3666666666666667]
[28,2,31,2.5166666666666666]
[29,2,40,2.6666666666666665]
[30,2,48,2.8]
["Mai",null,null,"Mai","Juni","Juli","August"]
[1,2,55,{"$f":"(B125+(C125/60))","v":2.9166666666666665},2.1666666666666665,-3.8833333333333333,-6.3666666666666663,null,"GRAFIKEN SIEHE \"BERECHNUNG\""]
[2,3,2,3.0333333333333332,2.0166666666666666,-4.0666666666666664,-6.2833333333333332]
[3,3,8,3.1333333333333333,1.85,-4.25,-6.2166666666666668]
[4,3,14,3.2333333333333334,1.6833333333333333,-4.4333333333333336,-6.1166666666666663]
[5,3,20,3.3333333333333335,1.5,-4.6166666666666671,-6.0166666666666666]
[6,3,24,3.4,1.3333333333333333,-4.7833333333333332,-5.916666666666667]
[7,3,28,3.4666666666666668,1.1333333333333333,-4.95,-5.8]
[8,3,32,3.5333333333333332,0.95,-5.0999999999999996,-5.666666666666667]
[9,3,35,3.5833333333333335,0.75,-5.25,-5.5333333333333332]
[10,3,37,3.6166666666666667,0.55000000000000004,-5.4,-5.3833333333333337]
[11,3,39,3.65,0.35,-5.5333333333333332,-5.2333333333333334]
[12,3,40,3.6666666666666665,0.15,-5.666666666666667,-5.0666666666666664]
[13,3,41,3.6833333333333336,6.6666666666666666E-2,-5.7833333333333332,-4.8833333333333329]
[14,3,41,3.6833333333333336,0.28333333333333333,-5.9,-4.7]
[15,3,40,3.6666666666666665,0.5,-6,-4.5166666666666666]
[16,3,39,3.65,0.71666666666666667,-6.1,-4.3166666666666664]
[17,3,37,3.6166666666666667,0.93333333333333335,-6.2,-4.0999999999999996]
[18,3,35,3.5833333333333335,1.1499999999999999,-6.2666666666666666,-3.8833333333333333]
[19,3,32,3.5333333333333332,1.3666666666666667,-6.35,-3.65]
[20,3,28,3.4666666666666668,1.5833333333333335,-6.4,-3.4166666666666665]
[21,3,25,3.4166666666666665,1.8,-6.45,-3.1666666666666665]
[22,3,20,3.3333333333333335,2.0166666666666666,-6.5,-2.9166666666666665]
[23,3,15,3.25,2.2333333333333334,-6.5333333333333332,-2.6666666666666665]
[24,3,10,3.1666666666666665,2.4500000000000002,-6.55,-2.4]
[25,3,4,3.0666666666666669,2.6666666666666665,-6.5666666666666664,-2.1166666666666667]
[26,2,58,2.9666666666666668,2.8833333333333333,-6.5666666666666664,-1.8333333333333335]
[27,2,51,2.85,3.0833333333333335,-6.55,-1.55]
[28,2,44,2.7333333333333334,3.2833333333333332,-6.5333333333333332,-1.25]
[29,2,36,2.6,3.5,-6.5,-0.95]
[30,2,28,2.4666666666666668,3.6833333333333336,-6.4666666666666668,-0.65]
[31,2,19,2.3166666666666664,null,-6.416666666666667,-0.33333333333333331]
["Juni",null,null,"Juni"]
[1,2,10,{"$f":"(B157+(C157/60))","v":2.1666666666666665}]
[2,2,1,2.0166666666666666]
[3,1,51,1.85]
[4,1,41,1.6833333333333333]
[5,1,30,1.5]
[6,1,20,1.3333333333333333]
[7,1,8,1.1333333333333333]
[8,0,57,0.95]
[9,0,45,0.75]
[10,0,33,0.55000000000000004]
[11,0,21,0.35]
[12,0,9,0.15]
[13,0,4,{"$f":"-(B169-(C169/60))","v":6.6666666666666666E-2}]
[14,0,17,{"$f":"-(B170-(C170/60))","v":0.28333333333333333}]
[15,0,30,0.5]
[16,0,43,0.71666666666666667]
[17,0,56,0.93333333333333335]
[18,-1,9,1.1499999999999999]
[19,-1,22,1.3666666666666667]
[20,-1,35,1.5833333333333335]
[21,-1,48,1.8]
[22,-2,1,2.0166666666666666]
[23,-2,14,2.2333333333333334]
[24,-2,27,2.4500000000000002]
[25,-2,40,2.6666666666666665]
[26,-2,53,2.8833333333333333]
[27,-3,5,3.0833333333333335]
[28,-3,17,3.2833333333333332]
[29,-3,30,3.5]
[30,-3,41,3.6833333333333336]
["Juli",null,null,"Juli"]
[1,{"$f":"(3*-1)","v":-3},53,{"$f":"(B188-(C188/60))","v":-3.8833333333333333}]
[2,-4,4,{"$f":"(B189-(C189/60))","v":-4.0666666666666664}]
[3,-4,15,-4.25]
[4,-4,26,-4.4333333333333336]
[5,-4,37,-4.6166666666666671]
[6,-4,47,-4.7833333333333332]
[7,-4,57,-4.95]
[8,-5,6,-5.0999999999999996]
[9,-5,15,-5.25]
[10,-5,24,-5.4]
[11,-5,32,-5.5333333333333332]
[12,-5,40,-5.666666666666667]
[13,-5,47,-5.7833333333333332]
[14,-5,54,-5.9]
[15,-6,0,-6]
[16,-6,6,-6.1]
[17,-6,12,-6.2]
[18,-6,16,-6.2666666666666666]
[19,-6,21,-6.35]
[20,-6,24,-6.4]
[21,-6,27,-6.45]
[22,-6,30,-6.5]
[23,-6,32,-6.5333333333333332]
[24,-6,33,-6.55]
[25,-6,34,-6.5666666666666664]
[26,-6,34,-6.5666666666666664]
[27,-6,33,-6.55]
[28,-6,32,-6.5333333333333332]
[29,-6,30,-6.5]
[30,-6,28,-6.4666666666666668]
[31,-6,25,-6.416666666666667]
["August",null,null,"August"]
[1,-6,22,{"$f":"(B220-(C220/60))","v":-6.3666666666666663}]
[2,-6,17,{"$f":"(B221-(C221/60))","v":-6.2833333333333332}]
[3,-6,13,-6.2166666666666668]
[4,-6,7,-6.1166666666666663]
[5,-6,1,-6.0166666666666666]
[6,-5,55,-5.916666666666667]
[7,-5,48,-5.8]
[8,-5,40,-5.666666666666667]
[9,-5,32,-5.5333333333333332]
[10,-5,23,-5.3833333333333337]
[11,-5,14,-5.2333333333333334]
[12,-5,4,-5.0666666666666664]
[13,-4,53,-4.8833333333333329]
[14,-4,42,-4.7]
[15,-4,31,-4.5166666666666666]
[16,-4,19,-4.3166666666666664]
[17,-4,6,-4.0999999999999996]
[18,-3,53,-3.8833333333333333]
[19,-3,39,-3.65]
[20,-3,25,-3.4166666666666665]
[21,-3,10,-3.1666666666666665]
[22,-2,55,-2.9166666666666665]
[23,-2,40,-2.6666666666666665]
[24,-2,24,-2.4]
[25,-2,7,-2.1166666666666667]
[26,-1,50,-1.8333333333333335]
[27,-1,33,-1.55]
[28,-1,15,-1.25]
[29,0,57,-0.95]
[30,0,39,-0.65]
[31,0,20,-0.33333333333333331]
["September",null,null,"September","Oktober","November","Dezember"]
[1,0,1,{"$f":"(B252-(C252/60))","v":-1.6666666666666666E-2},10.316666666666666,16.416666666666668,11.016666666666667,null,"GRAFIKEN SIEHE \"BERECHNUNG\""]
[2,0,18,{"$f":"(B253+(C253/60))","v":0.3},10.633333333333333,16.433333333333334,10.633333333333333]
[3,0,38,0.6333333333333333,10.95,16.433333333333334,10.233333333333333]
[4,0,57,0.95,11.266666666666667,16.433333333333334,9.8333333333333339]
[5,1,17,1.2833333333333332,11.566666666666666,16.416666666666668,9.4333333333333336]
[6,1,38,1.6333333333333333,11.866666666666667,16.383333333333333,9.0166666666666675]
[7,1,58,1.9666666666666668,12.15,16.333333333333332,8.5833333333333339]
[8,2,18,2.2999999999999998,12.433333333333334,16.266666666666666,8.15]
[9,2,39,2.65,12.716666666666667,16.2,7.7]
[10,3,0,3,12.983333333333333,16.100000000000001,7.25]
[11,3,21,3.35,13.25,16,6.7833333333333332]
[12,3,42,3.7,13.5,15.883333333333333,6.3166666666666664]
[13,4,3,4.05,13.75,15.75,5.85]
[14,4,25,4.416666666666667,13.983333333333333,15.6,5.3833333333333337]
[15,4,46,4.7666666666666666,14.216666666666667,15.433333333333334,4.9000000000000004]
[16,5,7,5.1166666666666663,14.433333333333334,15.266666666666667,4.416666666666667]
[17,5,29,5.4833333333333334,14.65,15.066666666666666,3.9333333333333336]
[18,5,50,5.833333333333333,14.85,14.866666666666667,3.4333333333333336]
[19,6,12,6.2,15.033333333333333,14.65,2.95]
[20,6,33,6.55,15.2,14.416666666666666,2.4500000000000002]
[21,6,54,6.9,15.366666666666667,14.166666666666666,1.95]
[22,7,16,7.2666666666666666,15.533333333333333,13.916666666666666,1.4666666666666668]
[23,7,37,7.6166666666666671,15.666666666666666,13.633333333333333,0.96666666666666667]
[24,7,58,7.9666666666666668,15.8,13.35,0.46666666666666667]
[25,8,19,8.3166666666666664,15.916666666666666,13.05,-1.6666666666666666E-2]
[26,8,39,8.65,16.033333333333335,12.75,-0.51666666666666672]
[27,9,0,9,16.116666666666667,12.416666666666666,-1.0166666666666666]
[28,9,20,9.3333333333333339,16.2,12.083333333333334,-1.5]
[29,9,40,9.6666666666666661,16.283333333333335,11.733333333333333,-1.9833333333333334]
[30,10,0,10,16.333333333333332,11.383333333333333,-2.4666666666666668]
[31,null,null,null,16.383333333333333,null,-2.95]
["Oktober",null,null,"Oktober"]
[1,10,20,{"$f":"(B284+(C284/60))","v":10.333333333333334}]
[2,10,39,10.65]
[3,10,58,10.966666666666667]
[4,11,17,11.283333333333333]
[5,11,35,11.583333333333334]
[6,11,53,11.883333333333333]
[7,12,10,12.166666666666666]
[8,12,27,12.45]
[9,12,43,12.716666666666667]
[10,13,0,13]
[11,13,15,13.25]
[12,13,30,13.5]
[13,13,45,13.75]
[14,13,59,13.983333333333333]
[15,14,12,14.2]
[16,14,25,14.416666666666666]
[17,14,38,14.633333333333333]
[18,14,50,14.833333333333334]
[19,15,1,15.016666666666667]
[20,15,12,15.2]
[21,15,22,15.366666666666667]
[22,15,31,15.516666666666667]
[23,15,40,15.666666666666666]
[24,15,48,15.8]
[25,15,55,15.916666666666666]
[26,16,2,16.033333333333335]
[27,16,8,16.133333333333333]
[28,16,13,16.216666666666665]
[29,16,17,16.283333333333335]
[30,16,21,16.350000000000001]
[31,16,23,16.383333333333333]
["November",null,null,"November"]
[1,16,25,{"$f":"(B316+(C316/60))","v":16.416666666666668}]
[2,16,27,16.45]
[3,16,27,16.45]
[4,16,26,16.433333333333334]
[5,16,25,16.416666666666668]
[6,16,23,16.383333333333333]
[7,16,20,16.333333333333332]
[8,16,16,16.266666666666666]
[9,16,11,16.183333333333334]
[10,16,5,16.083333333333332]
[11,15,59,15.983333333333333]
[12,15,52,15.866666666666667]
[13,15,44,15.733333333333333]
[14,15,35,15.583333333333334]
[15,15,25,15.416666666666666]
[16,15,14,15.233333333333333]
[17,15,3,15.05]
[18,14,51,14.85]
[19,14,37,14.616666666666667]
[20,14,24,14.4]
[21,14,9,14.15]
[22,13,53,13.883333333333333]
[23,13,37,13.616666666666667]
[24,13,20,13.333333333333334]
[25,13,3,13.05]
[26,12,44,12.733333333333333]
[27,12,25,12.416666666666666]
[28,12,5,12.083333333333334]
[29,11,44,11.733333333333333]
[30,11,23,11.383333333333333]
["Dezember",null,null,"Dezember"]
[1,11,1,{"$f":"(B347+(C347/60))","v":11.016666666666667}]
[2,10,38,10.633333333333333]
[3,10,14,10.233333333333333]
[4,9,50,9.8333333333333339]
[5,9,26,9.4333333333333336]
[6,9,1,9.0166666666666675]
[7,8,35,8.5833333333333339]
[8,8,9,8.15]
[9,7,42,7.7]
[10,7,15,7.25]
[11,6,47,6.7833333333333332]
[12,6,19,6.3166666666666664]
[13,5,51,5.85]
[14,5,23,5.3833333333333337]
[15,4,54,4.9000000000000004]
[16,4,25,4.416666666666667]
[17,3,56,3.9333333333333336]
[18,3,26,3.4333333333333336]
[19,2,57,2.95]
[20,2,27,2.4500000000000002]
[21,1,57,1.95]
[22,1,28,1.4666666666666668]
[23,0,58,0.96666666666666667]
[24,0,28,0.46666666666666667]
[25,0,1,{"$f":"(B371-(C371/60))","v":-1.6666666666666666E-2}]
[26,0,31,{"$f":"(B372-(C372/60))","v":-0.51666666666666672}]
[27,-1,1,{"$f":"(B373-(C373/60))","v":-1.0166666666666666}]
[28,-1,30,-1.5]
[29,-1,59,-1.9833333333333334]
[30,-2,28,-2.4666666666666668]
[31,-2,57,-2.95]

{"sheet":"BERECHNUNG","index":6,"n_rows":377,"n_cols":33,"rows_kept":377,"cut":false,"hidden":true,"merged":[[54,26,54,28],[58,26,58,28],[30,26,30,28],[34,26,34,28],[38,26,38,28],[42,26,42,28],[46,26,46,28],[50,26,50,28],[26,26,26,28],[10,21,10,23],[14,26,14,28],[14,30,14,32],[18,26,18,28],[22,26,22,28]]}
[1,-3,33,{"$f":"(C1/60)","v":0.55000000000000004},null,"Januar","Februar","März","April"]
[2,-4,1,1.6666666666666666E-2,1,{"$f":"(B1-D1)","v":-3.55},-13.533333333333333,-12.3,-3.85,null,null,null,null,null,null,null,null,null,null,null,null,"std","min","sec","Summe sec"]
[3,-4,28,0.46666666666666667,2,-4.0166666666666666,-13.666666666666666,-12.1,-3.55,null,null,null,null,null,null,null,null,null,null,null,"ARMBAND - UHRZEIT (mein Standort)",{"$f":"'EINGABEN UND AUSDRUCK'!$D$8","v":9},{"$f":"'EINGABEN UND AUSDRUCK'!$E$8","v":43},{"$f":"'EINGABEN UND AUSDRUCK'!$F$8","v":21},{"$f":"(3600*V3+60*W3+X3)","v":35001}]
[4,-4,55,0.91666666666666663,3,-4.4666666666666668,-13.766666666666667,-11.883333333333333,-3.25,null,null,null,null,null,null,null,null,null,null,null,"(berichtigt auf UTC; CH / MEZ: Sommer -2, Winter - 1)",null,null,"Längngrad - Zuschalag",{"$f":"(V5*4*60)","v":2059.4301839999998},"Wenn V8 = negativ, dann 24 + (Y6/3600)"]
[5,-5,22,0.36666666666666664,4,-4.916666666666667,-13.866666666666667,-11.666666666666666,-2.9666666666666668,null,null,null,null,null,null,null,null,null,null,null,"LÄNGENGRAD (mein Standort)",{"$f":"'EINGABEN UND AUSDRUCK'!$D$11","v":8.5809590999999994},null,"Summe am Standort",{"$f":"(Y3+Y4)","v":37060.430183999997},"↓"]
[6,-5,49,0.81666666666666665,5,-5.3666666666666663,-13.95,-11.45,-2.6666666666666665,null,null,null,null,null,null,null,null,null,null,null,"(z.B. Google Maps)",null,null,"Summe am Zielort",{"$f":"(Y5+((V7-V5)*4*60)+((0)*0))","v":17244.416759999996},{"$f":"(24+(Y6/3600))","v":28.790115766666666}]
[7,-6,15,0.25,6,-5.8166666666666664,-14.016666666666667,-11.216666666666667,-2.3833333333333333,null,null,null,null,null,null,null,null,null,null,null,"LÄNGENGRAD (Zielort)",{"$f":"'EINGABEN UND AUSDRUCK'!$D$14","v":-73.985763500000004},null,null,{"$f":"'EINGABEN UND AUSDRUCK'!$E$14","v":"NEW YORK EMP.ST. BUILDING "}]
[8,-6,40,0.66666666666666663,7,-6.25,-14.083333333333334,-10.983333333333333,-2.1,null,null,null,null,null,null,null,null,null,null,null,"(z.B. Google Maps)                                     MOZ am Zielort",{"$f":"(Y6/3600)","v":4.7901157666666654},{"$f":"IF(V8>=0,(V8-V13),1+(V8-ROUNDDOWN(V8,0)))","v":0.79011576666666539},{"$f":"(W8*60)","v":47.40694599999992},"Zerlegung"]
[9,-7,5,8.3333333333333329E-2,8,-6.666666666666667,-14.116666666666667,-10.733333333333333,-1.8333333333333335,null,null,null,null,null,null,null,null,null,null,null,"\"n - ter\" -  TAG DES MONATS (mein Standort)",{"$f":"'STARTE DIE UHR!'!$B$11","v":28},"JAHRZAHL (-DEZIMALE) DER ZEITGLEICHUNGS-TABELLE",null,26]
[10,-7,29,0.48333333333333334,9,-7.083333333333333,-14.15,-10.483333333333333,-1.55,null,null,null,null,null,null,null,null,null,null,null,"MOZ am Standort",{"$f":"(Y5/3600)","v":10.29456394},{"$f":"V10-ROUNDDOWN(V10,0)","v":0.29456393999999975},{"$f":"(W10*60)","v":17.673836399999985}]
[11,-7,53,0.8833333333333333,10,-7.4833333333333334,-14.166666666666666,-10.233333333333333,-1.2833333333333332,null,null,null,null,null,null,null,null,null,null,null,null,"MITTLERE ORTSZEIT AM ZIELORT (MOZ)",null,null,"Summendiff. sec für"]
[12,-8,16,0.26666666666666666,11,-7.8833333333333329,-14.166666666666666,-9.9666666666666668,-1.0166666666666666,null,null,null,null,null,null,null,null,null,null,null,null,"std","min","sec","Zeitgleichung \"vor/nach\" 12:00"]
[13,-8,39,0.65,12,-8.2666666666666675,-14.166666666666666,-9.6999999999999993,-0.76666666666666672,null,null,null,null,null,null,null,null,null,null,null,null,{"$f":"IF($V$8>=0,ROUNDDOWN($V$8,0),ROUNDDOWN(-1*$V$14,0))","v":4},{"$f":"ROUNDDOWN(IF($V$8>=0,ROUNDDOWN($X$8,0),W14*60),0)","v":47},{"$f":"IF(V8>=0,ROUND((X8-W13)*60,0),ROUND(X14*60,0))","v":24},{"$f":"((V17-12)*60*60+W17*60+X17)-((V5/15)*60*60)","v":-8199.4301840000007}]
[14,-9,1,1.6666666666666666E-2,13,-8.65,-14.15,-9.4333333333333336,-0.5,null,null,null,null,null,null,null,null,null,null,null,null,{"$f":"$Z$6","v":28.790115766666666},{"$f":"($V$14-ROUNDDOWN($V$14,0))","v":0.79011576666666627},{"$f":"(W14*60-W13)","v":0.40694599999997649},"GEMESSEN AM 0° - MERIDIAN"]
[15,-9,23,0.38333333333333336,14,-9.0166666666666675,-14.116666666666667,-9.1666666666666661,-0.25,null,null,null,null,null,null,null,null,null,null,null,null,"X am 0° - Meridian=",{"$f":"($V$9+((1.1574074074*10^-5)*$Y$13))","v":27.905099187685792},"(n-ter Tag)","MIN","SEC","WAHRE ORTSZEIT AM ZIELORT (WOZ) (std:min:sec)",null,null,"Monat","WAHRE ORTSZEIT AM STANDORT"]
[16,-9,43,0.71666666666666667,15,-9.3833333333333329,-14.066666666666666,-8.8833333333333329,-1.6666666666666666E-2,null,null,null,null,null,null,null,null,null,null,null,"JANUAR","Y gleitende ZG am 0°-Meridian= ",{"$f":"(0.0056*W15^2-0.5078*W15-3.1064)","v":-12.915919827729187},"Y =",{"$f":"ROUNDDOWN(W16,0)","v":-12},{"$f":"IF(Y16>=0,ROUND(ABS(W16-Y16)*60,0),-ROUND(ABS(W16-Y16)*60,0))","v":-55},{"$f":"IF($V$8>=0,ROUNDDOWN(AA17,0),ROUNDDOWN(AA18*-1,0))","v":4},{"$f":"IF($V$8>=0,ROUNDDOWN(AB17,0),ROUNDDOWN(AB18,0))","v":34},{"$f":"IF($V$8>=0,ROUNDDOWN(AC17,0),ROUNDUP(AC18,0))","v":29},1,{"$f":"ROUNDDOWN(AE17,0)","v":10},{"$f":"ROUNDDOWN(AF17,0)","v":4},{"$f":"ROUND(AG17*60,0)","v":45}]
[17,-10,3,0.05,16,-9.7166666666666668,-14.016666666666667,-8.6,0.21666666666666667,null,null,null,null,null,null,null,null,null,null,null,"Hilfszeile: MOZ am Standort (std:min:sec)",{"$f":"ROUNDDOWN($V$10,0)","v":10},{"$f":"ROUNDDOWN($X$10,0)","v":17},{"$f":"ROUND((X10-W17)*60,0)","v":40},null,null,{"$f":"($V$8*60*60+W16*60)/3600","v":4.574850436204513},{"$f":"(AA17-ROUNDDOWN(AA17,0))*60","v":34.491026172270779},{"$f":"(AB17-ROUNDDOWN(AB17,0))*60","v":29.461570336246723},null,{"$f":"($V$10*60*60+W16*60)/3600","v":10.079298609537849},{"$f":"(AE17-ROUNDDOWN(AE17,0))*60","v":4.7579165722709504},{"$f":"(AF17-ROUNDDOWN(AF17,0))","v":0.75791657227095044}]
[18,-10,23,0.38333333333333336,17,-10.050000000000001,-13.95,-8.3166666666666664,0.45,null,null,null,null,null,null,null,null,null,null,null,null,null,null,null,null,null,{"$f":"(AD18/3600)","v":28.574837988888888},{"$f":"(AA18-ROUNDDOWN(AA18,0))*60","v":34.490279333333262},{"$f":"(AB18-ROUNDDOWN(AB18,0))*60","v":29.416759999995747},{"$f":"($Z$6*3600+Y16*60+Z16)","v":102869.41675999999}]
[19,-10,42,0.7,18,-10.383333333333333,-13.866666666666667,-8.0333333333333332,0.68333333333333335,null,null,null,null,null,null,null,null,null,null,null,null,"X am 0° - Meridian=",{"$f":"($V$9+((1.1574074074*10^-5)*$Y$13))","v":27.905099187685792},"(n-ter Tag)","MIN","SEC","WAHRE ORTSZEIT AM ZIELORT (std:min:sec)"]
[20,-10,59,0.98333333333333328,19,-10.7,-13.783333333333333,-7.7333333333333334,0.9,null,null,null,null,null,null,null,null,null,null,null,"FEBRUAR","Y gleitende ZG am 0°-Meridian= ",{"$f":"(0.006*W19^2-0.1334*W19-13.438)","v":-12.488372867589792},"Y =",{"$f":"ROUNDDOWN(W20,0)","v":-12},{"$f":"IF(Y20>=0,ROUND(ABS(W20-Y20)*60,0),-ROUND(ABS(W20-Y20)*60,0))","v":-29},{"$f":"IF($V$8>=0,ROUNDDOWN(AA21,0),ROUNDDOWN(AA22*-1,0))","v":4},{"$f":"IF($V$8>=0,ROUNDDOWN(AB21,0),ROUNDDOWN(AB22,0))","v":34},{"$f":"IF($V$8>=0,ROUNDDOWN(AC21,0),ROUNDUP(AC22,0))","v":55},2,{"$f":"ROUNDDOWN(AE21,0)","v":10},{"$f":"ROUNDDOWN(AF21,0)","v":5},{"$f":"ROUND(AG21*60,0)","v":11}]
[21,-11,17,0.28333333333333333,20,-10.983333333333333,-13.683333333333334,-7.45,1.1000000000000001,null,null,null,null,null,null,null,null,null,null,null,null,null,null,null,null,null,{"$f":"($V$8*60*60+W20*60)/3600","v":4.5819762188735025},{"$f":"(AA21-ROUNDDOWN(AA21,0))*60","v":34.918573132410145},{"$f":"(AB21-ROUNDDOWN(AB21,0))*60","v":55.114387944608723},null,{"$f":"($V$10*60*60+W20*60)/3600","v":10.086424392206837},{"$f":"(AE21-ROUNDDOWN(AE21,0))*60","v":5.1854635324102105},{"$f":"(AF21-ROUNDDOWN(AF21,0))","v":0.18546353241021052}]
[22,-11,33,0.55000000000000004,21,-11.283333333333333,-13.566666666666666,-7.15,1.3,null,null,null,null,null,null,null,null,null,null,null,null,null,null,null,null,null,{"$f":"(AD22/3600)","v":28.582060211111109},{"$f":"(AA22-ROUNDDOWN(AA22,0))*60","v":34.923612666666557},{"$f":"(AB22-ROUNDDOWN(AB22,0))*60","v":55.416759999993417},{"$f":"($Z$6*3600+Y20*60+Z20)","v":102895.41675999999}]
[23,-11,49,0.81666666666666665,22,-11.55,-13.45,-6.85,1.5,null,null,null,null,null,null,null,null,null,null,null,null,"X am 0° - Meridian=",{"$f":"($V$9+((1.1574074074*10^-5)*$Y$13))","v":27.905099187685792},"(n-ter Tag)","MIN","SEC","WAHRE ORTSZEIT AM ZIELORT (std:min:sec)"]
[24,-12,3,0.05,23,-11.816666666666666,-13.316666666666666,-6.55,1.6833333333333333,null,null,null,null,null,null,null,null,null,null,null,"MÄRZ","Y gleitende ZG am 0°-Meridian= ",{"$f":"(0.0018*W23^2+0.2202*W23-12.611)","v":-5.064646949657341},"Y =",{"$f":"ROUNDDOWN(W24,0)","v":-5},{"$f":"IF(Y24>=0,ROUND(ABS(W24-Y24)*60,0),-ROUND(ABS(W24-Y24)*60,0))","v":-4},{"$f":"IF($V$8>=0,ROUNDDOWN(AA25,0),ROUNDDOWN(AA26*-1,0))","v":4},{"$f":"IF($V$8>=0,ROUNDDOWN(AB25,0),ROUNDDOWN(AB26,0))","v":42},{"$f":"IF($V$8>=0,ROUNDDOWN(AC25,0),ROUNDUP(AC26,0))","v":20},3,{"$f":"ROUNDDOWN(AE25,0)","v":10},{"$f":"ROUNDDOWN(AF25,0)","v":12},{"$f":"ROUND(AG25*60,0)","v":37}]
[25,-12,17,0.28333333333333333,24,-12.05,-13.166666666666666,-6.25,1.8666666666666667,null,null,null,null,null,null,null,null,null,null,null,null,null,null,null,null,null,{"$f":"($V$8*60*60+W24*60)/3600","v":4.7057049841723773},{"$f":"(AA25-ROUNDDOWN(AA25,0))*60","v":42.342299050342632},{"$f":"(AB25-ROUNDDOWN(AB25,0))*60","v":20.537943020557918},null,{"$f":"($V$10*60*60+W24*60)/3600","v":10.210153157505712},{"$f":"(AE25-ROUNDDOWN(AE25,0))*60","v":12.609189450342697},{"$f":"(AF25-ROUNDDOWN(AF25,0))","v":0.60918945034269711}]
[26,-12,31,0.51666666666666672,25,-12.283333333333333,-13.016666666666667,-5.95,2.0499999999999998,null,null,null,null,null,null,null,null,null,null,null,null,null,null,null,null,null,{"$f":"(AD26/3600)","v":28.705671322222219},{"$f":"(AA26-ROUNDDOWN(AA26,0))*60","v":42.340279333333157},{"$f":"(AB26-ROUNDDOWN(AB26,0))*60","v":20.416759999989438},{"$f":"($Z$6*3600+Y24*60+Z24)","v":103340.41675999999}]
[27,-12,43,0.71666666666666667,26,-12.516666666666667,-12.85,-5.65,2.2166666666666668,null,null,null,null,null,null,null,null,null,null,null,null,"X am 0° - Meridian=",{"$f":"($V$9+((1.1574074074*10^-5)*$Y$13))","v":27.905099187685792},"(n-ter Tag)","MIN","SEC","WAHRE ORTSZEIT AM ZIELORT (std:min:sec)"]
[28,-12,54,0.9,27,-12.716666666666667,-12.666666666666666,-5.35,2.3666666666666667,null,null,null,null,null,null,null,null,null,null,null,"APRIL","Y gleitende ZG am 0°-Meridian= ",{"$f":"(-0.0029*W27^2+0.3223*W27-4.3157)","v":2.4198992422348411},"Y =",{"$f":"ROUNDDOWN(W28,0)","v":2},{"$f":"IF(Y28>=0,ROUND(ABS(W28-Y28)*60,0),-ROUND(ABS(W28-Y28)*60,0))","v":25},{"$f":"IF($V$8>=0,ROUNDDOWN(AA29,0),ROUNDDOWN(AA30*-1,0))","v":4},{"$f":"IF($V$8>=0,ROUNDDOWN(AB29,0),ROUNDDOWN(AB30,0))","v":49},{"$f":"IF($V$8>=0,ROUNDDOWN(AC29,0),ROUNDUP(AC30,0))","v":49},4,{"$f":"ROUNDDOWN(AE29,0)","v":10},{"$f":"ROUNDDOWN(AF29,0)","v":20},{"$f":"ROUND(AG29*60,0)","v":6}]
[29,-13,5,8.3333333333333329E-2,28,-12.9,-12.483333333333333,-5.05,2.5166666666666666,null,null,null,null,null,null,null,null,null,null,null,null,null,null,null,null,null,{"$f":"($V$8*60*60+W28*60)/3600","v":4.830447420703913},{"$f":"(AA29-ROUNDDOWN(AA29,0))*60","v":49.826845242234782},{"$f":"(AB29-ROUNDDOWN(AB29,0))*60","v":49.610714534086924},null,{"$f":"($V$10*60*60+W28*60)/3600","v":10.334895594037249},{"$f":"(AE29-ROUNDDOWN(AE29,0))*60","v":20.093735642234947},{"$f":"(AF29-ROUNDDOWN(AF29,0))","v":9.3735642234946681E-2}]
[30,-13,15,0.25,29,-13.083333333333334,null,-4.75,2.6666666666666665,null,null,null,null,null,null,null,null,null,null,null,null,null,null,null,null,null,{"$f":"(AD30/3600)","v":28.830393544444444},{"$f":"(AA30-ROUNDDOWN(AA30,0))*60","v":49.823612666666648},{"$f":"(AB30-ROUNDDOWN(AB30,0))*60","v":49.416759999998874},{"$f":"($Z$6*3600+Y28*60+Z28)","v":103789.41675999999}]
[31,-13,24,0.4,30,-13.25,null,-4.45,2.8,null,null,null,null,null,null,null,null,null,null,null,null,"X am 0° - Meridian=",{"$f":"($V$9+((1.1574074074*10^-5)*$Y$13))","v":27.905099187685792},"(n-ter Tag)","MIN","SEC","WAHRE ORTSZEIT AM ZIELORT (std:min:sec)"]
["Februar",null,null,"Februar",31,-13.4,null,-4.1500000000000004,null,null,null,null,null,null,null,null,null,null,null,null,"MAI","Y gleitende ZG am 0°-Meridian= ",{"$f":"(-0.0046*W31^2+0.1248*W31+2.8255)","v":2.7260613995201086},"Y =",{"$f":"ROUNDDOWN(W32,0)","v":2},{"$f":"IF(Y32>=0,ROUND(ABS(W32-Y32)*60,0),-ROUND(ABS(W32-Y32)*60,0))","v":44},{"$f":"IF($V$8>=0,ROUNDDOWN(AA33,0),ROUNDDOWN(AA34*-1,0))","v":4},{"$f":"IF($V$8>=0,ROUNDDOWN(AB33,0),ROUNDDOWN(AB34,0))","v":50},{"$f":"IF($V$8>=0,ROUNDDOWN(AC33,0),ROUNDUP(AC34,0))","v":7},5,{"$f":"ROUNDDOWN(AE33,0)","v":10},{"$f":"ROUNDDOWN(AF33,0)","v":20},{"$f":"ROUND(AG33*60,0)","v":24}]
[1,-13,32,{"$f":"(B33-(C33/60))","v":-13.533333333333333},null,null,null,null,null,null,null,null,null,null,null,null,null,null,null,null,null,null,null,null,null,null,{"$f":"($V$8*60*60+W32*60)/3600","v":4.8355501233253344},{"$f":"(AA33-ROUNDDOWN(AA33,0))*60","v":50.133007399520068},{"$f":"(AB33-ROUNDDOWN(AB33,0))*60","v":7.9804439712040676},null,{"$f":"($V$10*60*60+W32*60)/3600","v":10.339998296658671},{"$f":"(AE33-ROUNDDOWN(AE33,0))*60","v":20.399897799520232},{"$f":"(AF33-ROUNDDOWN(AF33,0))","v":0.39989779952023241}]
[2,-13,40,-13.666666666666666,null,null,null,null,null,null,null,null,null,null,null,null,null,null,null,null,null,null,null,null,null,null,{"$f":"(AD34/3600)","v":28.835671322222222},{"$f":"(AA34-ROUNDDOWN(AA34,0))*60","v":50.140279333333311},{"$f":"(AB34-ROUNDDOWN(AB34,0))*60","v":8.4167599999986464},{"$f":"($Z$6*3600+Y32*60+Z32)","v":103808.41675999999}]
[3,-13,46,-13.766666666666667,null,null,null,null,null,null,null,null,null,null,null,null,null,null,null,null,null,"X am 0° - Meridian=",{"$f":"($V$9+((1.1574074074*10^-5)*$Y$13))","v":27.905099187685792},"(n-ter Tag)","MIN","SEC","WAHRE ORTSZEIT AM ZIELORT (std:min:sec)"]
[4,-13,52,-13.866666666666667,null,null,null,null,null,null,null,null,null,null,null,null,null,null,null,null,"JUNI","Y gleitende ZG am 0°-Meridian= ",{"$f":"(-0.0006*W35^2-0.1879*W35+2.4035)","v":-3.3070848737709095},"Y =",{"$f":"ROUNDDOWN(W36,0)","v":-3},{"$f":"IF(Y36>=0,ROUND(ABS(W36-Y36)*60,0),-ROUND(ABS(W36-Y36)*60,0))","v":-18},{"$f":"IF($V$8>=0,ROUNDDOWN(AA37,0),ROUNDDOWN(AA38*-1,0))","v":4},{"$f":"IF($V$8>=0,ROUNDDOWN(AB37,0),ROUNDDOWN(AB38,0))","v":44},{"$f":"IF($V$8>=0,ROUNDDOWN(AC37,0),ROUNDUP(AC38,0))","v":5},6,{"$f":"ROUNDDOWN(AE37,0)","v":10},{"$f":"ROUNDDOWN(AF37,0)","v":14},{"$f":"ROUND(AG37*60,0)","v":22}]
[5,-13,57,-13.95,null,null,null,null,null,null,null,null,null,null,null,null,null,null,null,null,null,null,null,null,null,null,{"$f":"($V$8*60*60+W36*60)/3600","v":4.7349976854371505},{"$f":"(AA37-ROUNDDOWN(AA37,0))*60","v":44.09986112622903},{"$f":"(AB37-ROUNDDOWN(AB37,0))*60","v":5.9916675737417791},null,{"$f":"($V$10*60*60+W36*60)/3600","v":10.239445858770488},{"$f":"(AE37-ROUNDDOWN(AE37,0))*60","v":14.366751526229251},{"$f":"(AF37-ROUNDDOWN(AF37,0))","v":0.36675152622925111}]
[6,-14,1,-14.016666666666667,null,null,null,null,null,null,null,null,null,null,null,null,null,null,null,null,null,null,null,null,null,null,{"$f":"(AD38/3600)","v":28.735115766666663},{"$f":"(AA38-ROUNDDOWN(AA38,0))*60","v":44.10694599999978},{"$f":"(AB38-ROUNDDOWN(AB38,0))*60","v":6.416759999986823},{"$f":"($Z$6*3600+Y36*60+Z36)","v":103446.41675999999}]
[7,-14,5,-14.083333333333334,null,null,null,null,null,null,null,null,null,null,null,null,null,null,null,null,null,"X am 0° - Meridian=",{"$f":"($V$9+((1.1574074074*10^-5)*$Y$13))","v":27.905099187685792},"(n-ter Tag)","MIN","SEC","WAHRE ORTSZEIT AM ZIELORT (std:min:sec)"]
[8,-14,7,-14.116666666666667,null,null,null,null,null,null,null,null,null,null,null,null,null,null,null,null,"JULI","Y gleitende ZG am 0°-Meridian= ",{"$f":"(0.0043*W39^2-0.2233*W39-3.638)","v":-6.5208220377095332},"Y =",{"$f":"ROUNDDOWN(W40,0)","v":-6},{"$f":"IF(Y40>=0,ROUND(ABS(W40-Y40)*60,0),-ROUND(ABS(W40-Y40)*60,0))","v":-31},{"$f":"IF($V$8>=0,ROUNDDOWN(AA41,0),ROUNDDOWN(AA42*-1,0))","v":4},{"$f":"IF($V$8>=0,ROUNDDOWN(AB41,0),ROUNDDOWN(AB42,0))","v":40},{"$f":"IF($V$8>=0,ROUNDDOWN(AC41,0),ROUNDUP(AC42,0))","v":53},7,{"$f":"ROUNDDOWN(AE41,0)","v":10},{"$f":"ROUNDDOWN(AF41,0)","v":11},{"$f":"ROUND(AG41*60,0)","v":9}]
[9,-14,9,-14.15,null,null,null,null,null,null,null,null,null,null,null,null,null,null,null,null,null,null,null,null,null,null,{"$f":"($V$8*60*60+W40*60)/3600","v":4.681435399371507},{"$f":"(AA41-ROUNDDOWN(AA41,0))*60","v":40.886123962290419},{"$f":"(AB41-ROUNDDOWN(AB41,0))*60","v":53.167437737425161},null,{"$f":"($V$10*60*60+W40*60)/3600","v":10.185883572704842},{"$f":"(AE41-ROUNDDOWN(AE41,0))*60","v":11.153014362290534},{"$f":"(AF41-ROUNDDOWN(AF41,0))","v":0.15301436229053422}]
[10,-14,10,-14.166666666666666,null,null,null,null,null,null,null,null,null,null,null,null,null,null,null,null,null,null,null,null,null,null,{"$f":"(AD42/3600)","v":28.681504655555553},{"$f":"(AA42-ROUNDDOWN(AA42,0))*60","v":40.890279333333197},{"$f":"(AB42-ROUNDDOWN(AB42,0))*60","v":53.416759999991825},{"$f":"($Z$6*3600+Y40*60+Z40)","v":103253.41675999999}]
[11,-14,10,-14.166666666666666,null,null,null,null,null,null,null,null,null,null,null,null,null,null,null,null,null,"X am 0° - Meridian=",{"$f":"($V$9+((1.1574074074*10^-5)*$Y$13))","v":27.905099187685792},"(n-ter Tag)","MIN","SEC","WAHRE ORTSZEIT AM ZIELORT (std:min:sec)"]
[12,-14,10,-14.166666666666666,null,null,null,null,null,null,null,null,null,null,null,null,null,null,null,null,"AUGUST","Y gleitende ZG am 0°-Meridian= ",{"$f":"(0.0043*W43^2+0.067*W43-6.4196)","v":-1.2015717435243483},"Y =",{"$f":"ROUNDDOWN(W44,0)","v":-1},{"$f":"IF(Y44>=0,ROUND(ABS(W44-Y44)*60,0),-ROUND(ABS(W44-Y44)*60,0))","v":-12},{"$f":"IF($V$8>=0,ROUNDDOWN(AA45,0),ROUNDDOWN(AA46*-1,0))","v":4},{"$f":"IF($V$8>=0,ROUNDDOWN(AB45,0),ROUNDDOWN(AB46,0))","v":46},{"$f":"IF($V$8>=0,ROUNDDOWN(AC45,0),ROUNDUP(AC46,0))","v":12},8,{"$f":"ROUNDDOWN(AE45,0)","v":10},{"$f":"ROUNDDOWN(AF45,0)","v":16},{"$f":"ROUND(AG45*60,0)","v":28}]
[13,-14,9,-14.15,null,null,null,null,null,null,null,null,null,null,null,null,null,null,null,null,null,null,null,null,null,null,{"$f":"($V$8*60*60+W44*60)/3600","v":4.7700895709412592},{"$f":"(AA45-ROUNDDOWN(AA45,0))*60","v":46.205374256475551},{"$f":"(AB45-ROUNDDOWN(AB45,0))*60","v":12.322455388533058},null,{"$f":"($V$10*60*60+W44*60)/3600","v":10.274537744274594},{"$f":"(AE45-ROUNDDOWN(AE45,0))*60","v":16.472264656475666},{"$f":"(AF45-ROUNDDOWN(AF45,0))","v":0.47226465647566584}]
[14,-14,7,-14.116666666666667,null,null,null,null,null,null,null,null,null,null,null,null,null,null,null,null,null,null,null,null,null,null,{"$f":"(AD46/3600)","v":28.770115766666663},{"$f":"(AA46-ROUNDDOWN(AA46,0))*60","v":46.206945999999789},{"$f":"(AB46-ROUNDDOWN(AB46,0))*60","v":12.416759999987335},{"$f":"($Z$6*3600+Y44*60+Z44)","v":103572.41675999999}]
[15,-14,4,-14.066666666666666,null,null,null,null,null,null,null,null,null,null,null,null,null,null,null,null,null,"X am 0° - Meridian=",{"$f":"($V$9+((1.1574074074*10^-5)*$Y$13))","v":27.905099187685792},"(n-ter Tag)","MIN","SEC","WAHRE ORTSZEIT AM ZIELORT (std:min:sec)"]
[16,-14,1,-14.016666666666667,null,null,null,null,null,null,null,null,null,null,null,null,null,null,null,null,"SEPTEMBER","Y gleitende ZG am 0°-Meridian= ",{"$f":"(0.0002*W47^2+0.3435*W47-0.3333)","v":9.4078404831049873},"Y =",{"$f":"ROUNDDOWN(W48,0)","v":9},{"$f":"IF(Y48>=0,ROUND(ABS(W48-Y48)*60,0),-ROUND(ABS(W48-Y48)*60,0))","v":24},{"$f":"IF($V$8>=0,ROUNDDOWN(AA49,0),ROUNDDOWN(AA50*-1,0))","v":4},{"$f":"IF($V$8>=0,ROUNDDOWN(AB49,0),ROUNDDOWN(AB50,0))","v":56},{"$f":"IF($V$8>=0,ROUNDDOWN(AC49,0),ROUNDUP(AC50,0))","v":48},9,{"$f":"ROUNDDOWN(AE49,0)","v":10},{"$f":"ROUNDDOWN(AF49,0)","v":27},{"$f":"ROUND(AG49*60,0)","v":5}]
[17,-13,57,-13.95,null,null,null,null,null,null,null,null,null,null,null,null,null,null,null,null,null,null,null,null,null,null,{"$f":"($V$8*60*60+W48*60)/3600","v":4.9469131080517492},{"$f":"(AA49-ROUNDDOWN(AA49,0))*60","v":56.814786483104953},{"$f":"(AB49-ROUNDDOWN(AB49,0))*60","v":48.88718898629719},null,{"$f":"($V$10*60*60+W48*60)/3600","v":10.451361281385084},{"$f":"(AE49-ROUNDDOWN(AE49,0))*60","v":27.081676883105068},{"$f":"(AF49-ROUNDDOWN(AF49,0))","v":8.1676883105068043E-2}]
[18,-13,52,-13.866666666666667,null,null,null,null,null,null,null,null,null,null,null,null,null,null,null,null,null,null,null,null,null,null,{"$f":"(AD50/3600)","v":28.946782433333333},{"$f":"(AA50-ROUNDDOWN(AA50,0))*60","v":56.806945999999954},{"$f":"(AB50-ROUNDDOWN(AB50,0))*60","v":48.416759999997225},{"$f":"($Z$6*3600+Y48*60+Z48)","v":104208.41675999999}]
[19,-13,47,-13.783333333333333,null,null,null,null,null,null,null,null,null,null,null,null,null,null,null,null,null,"X am 0° - Meridian=",{"$f":"($V$9+((1.1574074074*10^-5)*$Y$13))","v":27.905099187685792},"(n-ter Tag)","MIN","SEC","WAHRE ORTSZEIT AM ZIELORT (std:min:sec)"]
[20,-13,41,-13.683333333333334,null,null,null,null,null,null,null,null,null,null,null,null,null,null,null,null,"OKTOBER","Y gleitende ZG am 0°-Meridian= ",{"$f":"(-0.0048*W51^2+0.3608*W51+9.8956)","v":16.22602589567904},"Y =",{"$f":"ROUNDDOWN(W52,0)","v":16},{"$f":"IF(Y52>=0,ROUND(ABS(W52-Y52)*60,0),-ROUND(ABS(W52-Y52)*60,0))","v":14},{"$f":"IF($V$8>=0,ROUNDDOWN(AA53,0),ROUNDDOWN(AA54*-1,0))","v":5},{"$f":"IF($V$8>=0,ROUNDDOWN(AB53,0),ROUNDDOWN(AB54,0))","v":3},{"$f":"IF($V$8>=0,ROUNDDOWN(AC53,0),ROUNDUP(AC54,0))","v":37},10,{"$f":"ROUNDDOWN(AE53,0)","v":10},{"$f":"ROUNDDOWN(AF53,0)","v":33},{"$f":"ROUND(AG53*60,0)","v":54}]
[21,-13,34,-13.566666666666666,null,null,null,null,null,null,null,null,null,null,null,null,null,null,null,null,null,null,null,null,null,null,{"$f":"($V$8*60*60+W52*60)/3600","v":5.06054953159465},{"$f":"(AA53-ROUNDDOWN(AA53,0))*60","v":3.6329718956790025},{"$f":"(AB53-ROUNDDOWN(AB53,0))*60","v":37.978313740740148},null,{"$f":"($V$10*60*60+W52*60)/3600","v":10.564997704927986},{"$f":"(AE53-ROUNDDOWN(AE53,0))*60","v":33.899862295679171},{"$f":"(AF53-ROUNDDOWN(AF53,0))","v":0.89986229567917064}]
[22,-13,27,-13.45,null,null,null,null,null,null,null,null,null,null,null,null,null,null,null,null,null,null,null,null,null,null,{"$f":"(AD54/3600)","v":29.06067132222222},{"$f":"(AA54-ROUNDDOWN(AA54,0))*60","v":3.6402793333331829},{"$f":"(AB54-ROUNDDOWN(AB54,0))*60","v":38.416759999990973},{"$f":"($Z$6*3600+Y52*60+Z52)","v":104618.41675999999}]
[23,-13,19,-13.316666666666666,null,null,null,null,null,null,null,null,null,null,null,null,null,null,null,null,null,"X am 0° - Meridian=",{"$f":"($V$9+((1.1574074074*10^-5)*$Y$13))","v":27.905099187685792},"(n-ter Tag)","MIN","SEC","WAHRE ORTSZEIT AM ZIELORT (std:min:sec)"]
[24,-13,10,-13.166666666666666,null,null,null,null,null,null,null,null,null,null,null,null,null,null,null,null,"NOVEMBER","Y gleitende ZG am 0°-Meridian= ",{"$f":"(-0.0069*W55^2+0.0405*W55+16.386)","v":12.143164048446657},"Y =",{"$f":"ROUNDDOWN(W56,0)","v":12},{"$f":"IF(Y56>=0,ROUND(ABS(W56-Y56)*60,0),-ROUND(ABS(W56-Y56)*60,0))","v":9},{"$f":"IF($V$8>=0,ROUNDDOWN(AA57,0),ROUNDDOWN(AA58*-1,0))","v":4},{"$f":"IF($V$8>=0,ROUNDDOWN(AB57,0),ROUNDDOWN(AB58,0))","v":59},{"$f":"IF($V$8>=0,ROUNDDOWN(AC57,0),ROUNDUP(AC58,0))","v":33},11,{"$f":"ROUNDDOWN(AE57,0)","v":10},{"$f":"ROUNDDOWN(AF57,0)","v":29},{"$f":"ROUND(AG57*60,0)","v":49}]
[25,-13,1,-13.016666666666667,null,null,null,null,null,null,null,null,null,null,null,null,null,null,null,null,null,null,null,null,null,null,{"$f":"($V$8*60*60+W56*60)/3600","v":4.9925018341407768},{"$f":"(AA57-ROUNDDOWN(AA57,0))*60","v":59.550110048446605},{"$f":"(AB57-ROUNDDOWN(AB57,0))*60","v":33.006602906796303},null,{"$f":"($V$10*60*60+W56*60)/3600","v":10.496950007474112},{"$f":"(AE57-ROUNDDOWN(AE57,0))*60","v":29.81700044844672},{"$f":"(AF57-ROUNDDOWN(AF57,0))","v":0.81700044844671993}]
[26,-12,51,-12.85,null,null,null,null,null,null,null,null,null,null,null,null,null,null,null,null,null,null,null,null,null,null,{"$f":"(AD58/3600)","v":28.992615766666663},{"$f":"(AA58-ROUNDDOWN(AA58,0))*60","v":59.556945999999797},{"$f":"(AB58-ROUNDDOWN(AB58,0))*60","v":33.416759999987846},{"$f":"($Z$6*3600+Y56*60+Z56)","v":104373.41675999999}]
[27,-12,40,-12.666666666666666,null,null,null,null,null,null,null,null,null,null,null,null,null,null,null,null,null,"X am 0° - Meridian=",{"$f":"($V$9+((1.1574074074*10^-5)*$Y$13))","v":27.905099187685792},"(n-ter Tag)","MIN","SEC","WAHRE ORTSZEIT AM ZIELORT (std:min:sec)"]
[28,-12,29,-12.483333333333333,null,null,null,null,null,null,null,null,null,null,null,null,null,null,null,null,"DEZEMBER","Y gleitende ZG am 0°-Meridian= ",{"$f":"(-0.0018*W59^2-0.413*W59+11.533)","v":-1.3934561737284792},"Y =",{"$f":"ROUNDDOWN(W60,0)","v":-1},{"$f":"IF(Y60>=0,ROUND(ABS(W60-Y60)*60,0),-ROUND(ABS(W60-Y60)*60,0))","v":-24},{"$f":"IF($V$8>=0,ROUNDDOWN(AA61,0),ROUNDDOWN(AA62*-1,0))","v":4},{"$f":"IF($V$8>=0,ROUNDDOWN(AB61,0),ROUNDDOWN(AB62,0))","v":46},{"$f":"IF($V$8>=0,ROUNDDOWN(AC61,0),ROUNDUP(AC62,0))","v":0},12,{"$f":"ROUNDDOWN(AE61,0)","v":10},{"$f":"ROUNDDOWN(AF61,0)","v":16},{"$f":"ROUND(AG61*60,0)","v":17}]
[29,null,null,null,null,null,null,null,null,null,null,null,null,null,null,null,null,null,null,null,null,null,null,null,null,null,{"$f":"($V$8*60*60+W60*60)/3600","v":4.766891497104524},{"$f":"(AA61-ROUNDDOWN(AA61,0))*60","v":46.013489826271439},{"$f":"(AB61-ROUNDDOWN(AB61,0))*60","v":0.80938957628632124},null,{"$f":"($V$10*60*60+W60*60)/3600","v":10.271339670437861},{"$f":"(AE61-ROUNDDOWN(AE61,0))*60","v":16.28038022627166},{"$f":"(AF61-ROUNDDOWN(AF61,0))","v":0.28038022627166015}]
["2001-03-01",-12,18,{"$f":"(B62-(C62/60))","v":-12.3},null,null,null,null,null,null,null,null,null,null,null,null,null,null,null,null,null,null,null,null,null,null,{"$f":"(AD62/3600)","v":28.766782433333333},{"$f":"(AA62-ROUNDDOWN(AA62,0))*60","v":46.006945999999971},{"$f":"(AB62-ROUNDDOWN(AB62,0))*60","v":0.41675999999824853},{"$f":"($Z$6*3600+Y60*60+Z60)","v":103560.41675999999}]
[2,-12,6,-12.1]
[3,-11,53,-11.883333333333333]
[4,-11,40,-11.666666666666666]
[5,-11,27,-11.45]
[6,-11,13,-11.216666666666667]
[7,-10,59,-10.983333333333333]
[8,-10,44,-10.733333333333333]
[9,-10,29,-10.483333333333333]
[10,-10,14,-10.233333333333333]
[11,-9,58,-9.9666666666666668]
[12,-9,42,-9.6999999999999993]
[13,-9,26,-9.4333333333333336]
[14,-9,10,-9.1666666666666661]
[15,-8,53,-8.8833333333333329]
[16,-8,36,-8.6]
[17,-8,19,-8.3166666666666664]
[18,-8,2,-8.0333333333333332]
[19,-7,44,-7.7333333333333334]
[20,-7,27,-7.45]
[21,-7,9,-7.15]
[22,-6,51,-6.85]
[23,-6,33,-6.55]
[24,-6,15,-6.25]
[25,-5,57,-5.95]
[26,-5,39,-5.65]
[27,-5,21,-5.35]
[28,-5,3,-5.05]
[29,-4,45,-4.75]
[30,-4,27,-4.45]
[31,-4,9,-4.1500000000000004]
["April:",null,null,"April"]
[1,-3,51,{"$f":"(B94-(C94/60))","v":-3.85}]
[{"$f":"(A94+1)","v":2},-3,33,-3.55]
[3,-3,15,-3.25]
[4,-2,58,-2.9666666666666668]
[5,-2,40,-2.6666666666666665]
[6,-2,23,-2.3833333333333333]
[7,-2,6,-2.1]
[8,-1,50,-1.8333333333333335]
[9,-1,33,-1.55]
[10,-1,17,-1.2833333333333332]
[11,-1,1,-1.0166666666666666]
[12,0,46,-0.76666666666666672]
[13,0,30,-0.5]
[14,0,15,-0.25]
[15,0,1,-1.6666666666666666E-2]
[16,0,13,{"$f":"(B109+(C109/60))","v":0.21666666666666667}]
[17,0,27,0.45]
[18,0,41,0.68333333333333335]
[19,0,54,0.9]
[20,1,6,1.1000000000000001]
[21,1,18,1.3]
[22,1,30,1.5]
[23,1,41,1.6833333333333333]
[24,1,52,1.8666666666666667]
[25,2,3,2.0499999999999998]
[26,2,13,2.2166666666666668]
[27,2,22,2.3666666666666667]
[28,2,31,2.5166666666666666]
[29,2,40,2.6666666666666665]
[30,2,48,2.8,null,null,null,null,null,"Mai","Juni","Juli","August"]
["Mai",null,null,"Mai","Juni","Juli","August",null,1,2.9166666666666665,2.1666666666666665,-3.8833333333333333,-6.3666666666666663]
[1,2,55,{"$f":"(B125+(C125/60))","v":2.9166666666666665},2.1666666666666665,-3.8833333333333333,-6.3666666666666663,null,2,3.0333333333333332,2.0166666666666666,-4.0666666666666664,-6.2833333333333332]
[2,3,2,3.0333333333333332,2.0166666666666666,-4.0666666666666664,-6.2833333333333332,null,3,3.1333333333333333,1.85,-4.25,-6.2166666666666668]
[3,3,8,3.1333333333333333,1.85,-4.25,-6.2166666666666668,null,4,3.2333333333333334,1.6833333333333333,-4.4333333333333336,-6.1166666666666663]
[4,3,14,3.2333333333333334,1.6833333333333333,-4.4333333333333336,-6.1166666666666663,null,5,3.3333333333333335,1.5,-4.6166666666666671,-6.0166666666666666]
[5,3,20,3.3333333333333335,1.5,-4.6166666666666671,-6.0166666666666666,null,6,3.4,1.3333333333333333,-4.7833333333333332,-5.916666666666667]
[6,3,24,3.4,1.3333333333333333,-4.7833333333333332,-5.916666666666667,null,7,3.4666666666666668,1.1333333333333333,-4.95,-5.8]
[7,3,28,3.4666666666666668,1.1333333333333333,-4.95,-5.8,null,8,3.5333333333333332,0.95,-5.0999999999999996,-5.666666666666667]
[8,3,32,3.5333333333333332,0.95,-5.0999999999999996,-5.666666666666667,null,9,3.5833333333333335,0.75,-5.25,-5.5333333333333332]
[9,3,35,3.5833333333333335,0.75,-5.25,-5.5333333333333332,null,10,3.6166666666666667,0.55000000000000004,-5.4,-5.3833333333333337]
[10,3,37,3.6166666666666667,0.55000000000000004,-5.4,-5.3833333333333337,null,11,3.65,0.35,-5.5333333333333332,-5.2333333333333334]
[11,3,39,3.65,0.35,-5.5333333333333332,-5.2333333333333334,null,12,3.6666666666666665,0.15,-5.666666666666667,-5.0666666666666664]
[12,3,40,3.6666666666666665,0.15,-5.666666666666667,-5.0666666666666664,null,13,3.6833333333333336,6.6666666666666666E-2,-5.7833333333333332,-4.8833333333333329]
[13,3,41,3.6833333333333336,6.6666666666666666E-2,-5.7833333333333332,-4.8833333333333329,null,14,3.6833333333333336,0.28333333333333333,-5.9,-4.7]
[14,3,41,3.6833333333333336,0.28333333333333333,-5.9,-4.7,null,15,3.6666666666666665,0.5,-6,-4.5166666666666666]
[15,3,40,3.6666666666666665,0.5,-6,-4.5166666666666666,null,16,3.65,0.71666666666666667,-6.1,-4.3166666666666664]
[16,3,39,3.65,0.71666666666666667,-6.1,-4.3166666666666664,null,17,3.6166666666666667,0.93333333333333335,-6.2,-4.0999999999999996]
[17,3,37,3.6166666666666667,0.93333333333333335,-6.2,-4.0999999999999996,null,18,3.5833333333333335,1.1499999999999999,-6.2666666666666666,-3.8833333333333333]
[18,3,35,3.5833333333333335,1.1499999999999999,-6.2666666666666666,-3.8833333333333333,null,19,3.5333333333333332,1.3666666666666667,-6.35,-3.65]
[19,3,32,3.5333333333333332,1.3666666666666667,-6.35,-3.65,null,20,3.4666666666666668,1.5833333333333335,-6.4,-3.4166666666666665]
[20,3,28,3.4666666666666668,1.5833333333333335,-6.4,-3.4166666666666665,null,21,3.4166666666666665,1.8,-6.45,-3.1666666666666665]
[21,3,25,3.4166666666666665,1.8,-6.45,-3.1666666666666665,null,22,3.3333333333333335,2.0166666666666666,-6.5,-2.9166666666666665]
[22,3,20,3.3333333333333335,2.0166666666666666,-6.5,-2.9166666666666665,null,23,3.25,2.2333333333333334,-6.5333333333333332,-2.6666666666666665]
[23,3,15,3.25,2.2333333333333334,-6.5333333333333332,-2.6666666666666665,null,24,3.1666666666666665,2.4500000000000002,-6.55,-2.4]
[24,3,10,3.1666666666666665,2.4500000000000002,-6.55,-2.4,null,25,3.0666666666666669,2.6666666666666665,-6.5666666666666664,-2.1166666666666667]
[25,3,4,3.0666666666666669,2.6666666666666665,-6.5666666666666664,-2.1166666666666667,null,26,2.9666666666666668,2.8833333333333333,-6.5666666666666664,-1.8333333333333335]
[26,2,58,2.9666666666666668,2.8833333333333333,-6.5666666666666664,-1.8333333333333335,null,27,2.85,3.0833333333333335,-6.55,-1.55]
[27,2,51,2.85,3.0833333333333335,-6.55,-1.55,null,28,2.7333333333333334,3.2833333333333332,-6.5333333333333332,-1.25]
[28,2,44,2.7333333333333334,3.2833333333333332,-6.5333333333333332,-1.25,null,29,2.6,3.5,-6.5,-0.95]
[29,2,36,2.6,3.5,-6.5,-0.95,null,30,2.4666666666666668,3.6833333333333336,-6.4666666666666668,-0.65]
[30,2,28,2.4666666666666668,3.6833333333333336,-6.4666666666666668,-0.65,null,31,2.3166666666666664,null,-6.416666666666667,-0.33333333333333331]
[31,2,19,2.3166666666666664,null,-6.416666666666667,-0.33333333333333331]
["Juni",null,null,"Juni"]
[1,2,10,{"$f":"(B157+(C157/60))","v":2.1666666666666665}]
[2,2,1,2.0166666666666666]
[3,1,51,1.85]
[4,1,41,1.6833333333333333]
[5,1,30,1.5]
[6,1,20,1.3333333333333333]
[7,1,8,1.1333333333333333]
[8,0,57,0.95]
[9,0,45,0.75]
[10,0,33,0.55000000000000004]
[11,0,21,0.35]
[12,0,9,0.15]
[13,0,4,{"$f":"-(B169-(C169/60))","v":6.6666666666666666E-2}]
[14,0,17,{"$f":"-(B170-(C170/60))","v":0.28333333333333333}]
[15,0,30,0.5]
[16,0,43,0.71666666666666667]
[17,0,56,0.93333333333333335]
[18,-1,9,1.1499999999999999]
[19,-1,22,1.3666666666666667]
[20,-1,35,1.5833333333333335]
[21,-1,48,1.8]
[22,-2,1,2.0166666666666666]
[23,-2,14,2.2333333333333334]
[24,-2,27,2.4500000000000002]
[25,-2,40,2.6666666666666665]
[26,-2,53,2.8833333333333333]
[27,-3,5,3.0833333333333335]
[28,-3,17,3.2833333333333332]
[29,-3,30,3.5]
[30,-3,41,3.6833333333333336]
["Juli",null,null,"Juli"]
[1,{"$f":"(3*-1)","v":-3},53,{"$f":"(B188-(C188/60))","v":-3.8833333333333333}]
[2,-4,4,{"$f":"(B189-(C189/60))","v":-4.0666666666666664}]
[3,-4,15,-4.25]
[4,-4,26,-4.4333333333333336]
[5,-4,37,-4.6166666666666671]
[6,-4,47,-4.7833333333333332]
[7,-4,57,-4.95]
[8,-5,6,-5.0999999999999996]
[9,-5,15,-5.25]
[10,-5,24,-5.4]
[11,-5,32,-5.5333333333333332]
[12,-5,40,-5.666666666666667]
[13,-5,47,-5.7833333333333332]
[14,-5,54,-5.9]
[15,-6,0,-6]
[16,-6,6,-6.1]
[17,-6,12,-6.2]
[18,-6,16,-6.2666666666666666]
[19,-6,21,-6.35]
[20,-6,24,-6.4]
[21,-6,27,-6.45]
[22,-6,30,-6.5]
[23,-6,32,-6.5333333333333332]
[24,-6,33,-6.55]
[25,-6,34,-6.5666666666666664]
[26,-6,34,-6.5666666666666664]
[27,-6,33,-6.55]
[28,-6,32,-6.5333333333333332]
[29,-6,30,-6.5]
[30,-6,28,-6.4666666666666668]
[31,-6,25,-6.416666666666667]
["August",null,null,"August"]
[1,-6,22,{"$f":"(B220-(C220/60))","v":-6.3666666666666663}]
[2,-6,17,{"$f":"(B221-(C221/60))","v":-6.2833333333333332}]
[3,-6,13,-6.2166666666666668]
[4,-6,7,-6.1166666666666663]
[5,-6,1,-6.0166666666666666]
[6,-5,55,-5.916666666666667]
[7,-5,48,-5.8]
[8,-5,40,-5.666666666666667]
[9,-5,32,-5.5333333333333332]
[10,-5,23,-5.3833333333333337]
[11,-5,14,-5.2333333333333334]
[12,-5,4,-5.0666666666666664]
[13,-4,53,-4.8833333333333329]
[14,-4,42,-4.7]
[15,-4,31,-4.5166666666666666]
[16,-4,19,-4.3166666666666664]
[17,-4,6,-4.0999999999999996]
[18,-3,53,-3.8833333333333333]
[19,-3,39,-3.65]
[20,-3,25,-3.4166666666666665]
[21,-3,10,-3.1666666666666665]
[22,-2,55,-2.9166666666666665]
[23,-2,40,-2.6666666666666665]
[24,-2,24,-2.4]
[25,-2,7,-2.1166666666666667]
[26,-1,50,-1.8333333333333335]
[27,-1,33,-1.55]
[28,-1,15,-1.25]
[29,0,57,-0.95]
[30,0,39,-0.65]
[31,0,20,-0.33333333333333331,null,null,null,null,"Übertrag","WOZU SCHON WIEDER??"]
["September",null,null,"September","Oktober","November","Dezember",null,"September","Oktober","November","Dezember"]
[1,0,1,{"$f":"(B252-(C252/60))","v":-1.6666666666666666E-2},10.316666666666666,16.416666666666668,11.016666666666667,1,0.15,10.333333333333334,16.416666666666668,11.016666666666667]
[2,0,18,{"$f":"(B253+(C253/60))","v":0.3},10.633333333333333,16.433333333333334,10.633333333333333,2,0.3,10.65,16.45,10.633333333333333]
[3,0,38,0.6333333333333333,10.95,16.433333333333334,10.233333333333333,3,0.6333333333333333,10.966666666666667,16.45,10.233333333333333]
[4,0,57,0.95,11.266666666666667,16.433333333333334,9.8333333333333339,4,0.95,11.283333333333333,16.433333333333334,9.8333333333333339]
[5,1,17,1.2833333333333332,11.566666666666666,16.416666666666668,9.4333333333333336,5,1.2833333333333332,11.583333333333334,16.416666666666668,9.4333333333333336]
[6,1,38,1.6333333333333333,11.866666666666667,16.383333333333333,9.0166666666666675,6,1.6333333333333333,11.883333333333333,16.383333333333333,9.0166666666666675]
[7,1,58,1.9666666666666668,12.15,16.333333333333332,8.5833333333333339,7,1.9666666666666668,12.166666666666666,16.333333333333332,8.5833333333333339]
[8,2,18,2.2999999999999998,12.433333333333334,16.266666666666666,8.15,8,2.2999999999999998,12.45,16.266666666666666,8.15]
[9,2,39,2.65,12.716666666666667,16.2,7.7,9,2.65,12.716666666666667,16.183333333333334,7.7]
[10,3,0,3,12.983333333333333,16.100000000000001,7.25,10,3,13,16.083333333333332,7.25]
[11,3,21,3.35,13.25,16,6.7833333333333332,11,3.35,13.25,15.983333333333333,6.7833333333333332]
[12,3,42,3.7,13.5,15.883333333333333,6.3166666666666664,12,3.7,13.5,15.866666666666667,6.3166666666666664]
[13,4,3,4.05,13.75,15.75,5.85,13,4.05,13.75,15.733333333333333,5.85]
[14,4,25,4.416666666666667,13.983333333333333,15.6,5.3833333333333337,14,4.416666666666667,13.983333333333333,15.583333333333334,5.3833333333333337]
[15,4,46,4.7666666666666666,14.216666666666667,15.433333333333334,4.9000000000000004,15,4.7666666666666666,14.2,15.416666666666666,4.9000000000000004]
[16,5,7,5.1166666666666663,14.433333333333334,15.266666666666667,4.416666666666667,16,5.1166666666666663,14.416666666666666,15.233333333333333,4.416666666666667]
[17,5,29,5.4833333333333334,14.65,15.066666666666666,3.9333333333333336,17,5.4833333333333334,14.633333333333333,15.05,3.9333333333333336]
[18,5,50,5.833333333333333,14.85,14.866666666666667,3.4333333333333336,18,5.833333333333333,14.833333333333334,14.85,3.4333333333333336]
[19,6,12,6.2,15.033333333333333,14.65,2.95,19,6.2,15.016666666666667,14.616666666666667,2.95]
[20,6,33,6.55,15.2,14.416666666666666,2.4500000000000002,20,6.55,15.2,14.4,2.4500000000000002]
[21,6,54,6.9,15.366666666666667,14.166666666666666,1.95,21,6.9,15.366666666666667,14.15,1.95]
[22,7,16,7.2666666666666666,15.533333333333333,13.916666666666666,1.4666666666666668,22,7.2666666666666666,15.516666666666667,13.883333333333333,1.4666666666666668]
[23,7,37,7.6166666666666671,15.666666666666666,13.633333333333333,0.96666666666666667,23,7.6166666666666671,15.666666666666666,13.616666666666667,0.96666666666666667]
[24,7,58,7.9666666666666668,15.8,13.35,0.46666666666666667,24,7.9666666666666668,15.8,13.333333333333334,0.46666666666666667]
[25,8,19,8.3166666666666664,15.916666666666666,13.05,-1.6666666666666666E-2,25,8.3166666666666664,15.916666666666666,13.05,-1.6666666666666666E-2]
[26,8,39,8.65,16.033333333333335,12.75,-0.51666666666666672,26,8.65,16.033333333333335,12.733333333333333,-0.51666666666666672]
[27,9,0,9,16.116666666666667,12.416666666666666,-1.0166666666666666,27,9,16.133333333333333,12.416666666666666,-1.0166666666666666]
[28,9,20,9.3333333333333339,16.2,12.083333333333334,-1.5,28,9.3333333333333339,16.216666666666665,12.083333333333334,-1.5]
[29,9,40,9.6666666666666661,16.283333333333335,11.733333333333333,-1.9833333333333334,29,9.6666666666666661,16.283333333333335,11.733333333333333,-1.9833333333333334]
[30,10,0,10,16.333333333333332,11.383333333333333,-2.4666666666666668,30,10,16.350000000000001,11.383333333333333,-2.4666666666666668]
[31,null,null,null,16.383333333333333,null,-2.95,31,null,16.383333333333333,null,-2.95]
["Oktober",null,null,"Oktober"]
[1,10,20,{"$f":"(B284+(C284/60))","v":10.333333333333334}]
[2,10,39,10.65]
[3,10,58,10.966666666666667]
[4,11,17,11.283333333333333]
[5,11,35,11.583333333333334]
[6,11,53,11.883333333333333]
[7,12,10,12.166666666666666]
[8,12,27,12.45]
[9,12,43,12.716666666666667]
[10,13,0,13]
[11,13,15,13.25]
[12,13,30,13.5]
[13,13,45,13.75]
[14,13,59,13.983333333333333]
[15,14,12,14.2]
[16,14,25,14.416666666666666]
[17,14,38,14.633333333333333]
[18,14,50,14.833333333333334]
[19,15,1,15.016666666666667]
[20,15,12,15.2]
[21,15,22,15.366666666666667]
[22,15,31,15.516666666666667]
[23,15,40,15.666666666666666]
[24,15,48,15.8]
[25,15,55,15.916666666666666]
[26,16,2,16.033333333333335]
[27,16,8,16.133333333333333]
[28,16,13,16.216666666666665]
[29,16,17,16.283333333333335]
[30,16,21,16.350000000000001]
[31,16,23,16.383333333333333]
["November",null,null,"November"]
[1,16,25,{"$f":"(B316+(C316/60))","v":16.416666666666668}]
[2,16,27,16.45]
[3,16,27,16.45]
[4,16,26,16.433333333333334]
[5,16,25,16.416666666666668]
[6,16,23,16.383333333333333]
[7,16,20,16.333333333333332]
[8,16,16,16.266666666666666]
[9,16,11,16.183333333333334]
[10,16,5,16.083333333333332]
[11,15,59,15.983333333333333]
[12,15,52,15.866666666666667]
[13,15,44,15.733333333333333]
[14,15,35,15.583333333333334]
[15,15,25,15.416666666666666]
[16,15,14,15.233333333333333]
[17,15,3,15.05]
[18,14,51,14.85]
[19,14,37,14.616666666666667]
[20,14,24,14.4]
[21,14,9,14.15]
[22,13,53,13.883333333333333]
[23,13,37,13.616666666666667]
[24,13,20,13.333333333333334]
[25,13,3,13.05]
[26,12,44,12.733333333333333]
[27,12,25,12.416666666666666]
[28,12,5,12.083333333333334]
[29,11,44,11.733333333333333]
[30,11,23,11.383333333333333]
["Dezember",null,null,"Dezember"]
[1,11,1,{"$f":"(B347+(C347/60))","v":11.016666666666667}]
[2,10,38,10.633333333333333]
[3,10,14,10.233333333333333]
[4,9,50,9.8333333333333339]
[5,9,26,9.4333333333333336]
[6,9,1,9.0166666666666675]
[7,8,35,8.5833333333333339]
[8,8,9,8.15]
[9,7,42,7.7]
[10,7,15,7.25]
[11,6,47,6.7833333333333332]
[12,6,19,6.3166666666666664]
[13,5,51,5.85]
[14,5,23,5.3833333333333337]
[15,4,54,4.9000000000000004]
[16,4,25,4.416666666666667]
[17,3,56,3.9333333333333336]
[18,3,26,3.4333333333333336]
[19,2,57,2.95]
[20,2,27,2.4500000000000002]
[21,1,57,1.95]
[22,1,28,1.4666666666666668]
[23,0,58,0.96666666666666667]
[24,0,28,0.46666666666666667]
[25,0,1,{"$f":"(B371-(C371/60))","v":-1.6666666666666666E-2}]
[26,0,31,{"$f":"(B372-(C372/60))","v":-0.51666666666666672}]
[27,-1,1,{"$f":"(B373-(C373/60))","v":-1.0166666666666666}]
[28,-1,30,-1.5]
[29,-1,59,-1.9833333333333334]
[30,-2,28,-2.4666666666666668]
[31,-2,57,-2.95]