{"text_format":"1","workbook":"xlsx","n_sheets":7,"sheets":["THEMA UND INHALT","THEMA + INHALT"," EINGABEN UND AUSDRUCK","EINGABEN UND AUSDRUCK","BERECHNUNG 2","STARTE DIE UHR!","BERECHNUNG"],"not_rendered":{"charts":20,"images":4,"macros":1,"external_links":1,"defined_names":2,"comments":0,"pivot_tables":0},"unopened":[],"bounds":{"document_bytes":16777216,"sheet_cells":100000,"rows_first":2000,"rows_last":500,"rows_between":2000,"halvings":0,"cell_chars":16384,"cell_head_chars":4096},"cells_cut":0,"cells_raw":0,"read":"whole","date_system":"1900"}

{"sheet":"THEMA UND INHALT","index":0,"n_rows":2,"n_cols":16,"rows_kept":2,"cut":false,"hidden":false,"merged":[]}
[]
[null,null,null,null,null,null,null,null,"ABBILDUNG A) STATISCHE SONNEN – UND UHRZEIT",null,null,null,null,null,null,"                       ABBILDUNG B) DYNAMISCHE SONNEN – UND UHRZEIT"]

{"sheet":"THEMA + INHALT","index":1,"n_rows":8,"n_cols":16,"rows_kept":8,"cut":false,"hidden":false,"merged":[]}
[null,"16:39:02"]
[null,null,null,null,null,null,null,null,"ABBILDUNG A) STATISCHE SONNEN – UND UHRZEIT",null,null,null,null,null,null,"                       ABBILDUNG B) DYNAMISCHE SONNEN – UND UHRZEIT"]
[]
[]
[]
[]
[]
[null,"2023-04-28"]

{"sheet":" EINGABEN UND AUSDRUCK","index":2,"n_rows":50,"n_cols":11,"rows_kept":50,"cut":false,"hidden":false,"merged":[[10,4,10,5],[13,4,13,5],[22,1,22,2],[17,1,17,2],[17,3,17,5]]}
[null,"13:21:12"]
[]
[null,"BESTIMMUNG DER SOLAREN ORTSZEIT AM STANDORT UND AM ZIELORT (WOZ UND MOZ)"]
[]
[null,"DATUM AM STANDORT (Anzeige rechts eintragen - exkl. Jahrzahl)",null,7,1,{"$f":"'BERECHNUNG 2'!$Y$9","v":23},{"$f":"TODAY()","v":"2023-04-28"}]
[null,null,null,"(1 - 31)","(1 - 12)"]
[null,"UHRZEIT AM STANDORT MINUS ZEITVERSCHIEBUNG ZU UTC"]
[null,"2021-12-24",null,10,15,0,{"$f":"NOW()","v":45044.696920023147}]
[null,"(berichtigt auf UTC! CH/MEZ: Sommer - 2; Winter - 1)",null,"(0 - 23)","(0 -59)","(0 - 59)"]
[]
[null,"LÄNGENGRAD AM STANDORT *Rechtsklick auf Bild od. Marke",null,8.5809590999999994,"KLOTEN STADTHAUS",null,"*Längengrad?"]
[null,null,null,"(± X,…....)","(Name des Standorts, fakultativ)"]
[]
[null,"LÄNGENGRAD AM ZIELORT *Rechtsklick auf Bild od. Marke",null,-73.985763500000004,"NEW YORK EMP.ST. BUILDING ",null,"*Längengrad?"]
[null,null,null,"(± X,…....)","(Name des Zielorts, fakultativ)"]
[]
[]
[null,{"$f":"$E$11","v":"KLOTEN STADTHAUS"},null,{"$f":"$E$14","v":"NEW YORK EMP.ST. BUILDING "}]
[]
[]
[]
[]
[]
[]
[null,null,null,null,null,null,"Uhren mit WOZ"]
[null,null,null,null,null,null,null,null,null," "]
[]
[]
[]
[null,null,null,{"$f":"(E33/60)+(F33/3600)","v":0.41944444444444445},{"$f":"(F33/60)","v":0.16666666666666666}]
[null,null,null,{"$f":"IF(D33>=12,(D33+D30)-12,(D33+D30))","v":5.4194444444444443},{"$f":"$E$33+E30","v":25.166666666666668},{"$f":"$F$33","v":10},"oekopriority.com",null,"Differenzbildung:"]
[null,null,null,{"$f":"(D31-12)","v":-6.5805555555555557},{"$f":"(60-E31)","v":34.833333333333329},{"$f":"(60-F31)","v":50}]
[null,"WOZ",{"$f":"$E$14","v":"NEW YORK EMP.ST. BUILDING "},{"$f":"IF('BERECHNUNG 2'!$Y$9=$F$5,IF($E$5='BERECHNUNG 2'!$AD$16,'BERECHNUNG 2'!$AA16,IF($E$5='BERECHNUNG 2'!$AD$20,'BERECHNUNG 2'!$AA20,IF($E$5='BERECHNUNG 2'!$AD$24,'BERECHNUNG 2'!$AA24,IF($E$5='BERECHNUNG 2'!$AD$28,'BERECHNUNG 2'!$AA28,IF($E$5='BERECHNUNG 2'!$AD$32,'BERECHNUNG 2'!$AA32,IF($E$5='BERECHNUNG 2'!$AD$36,'BERECHNUNG 2'!$AA36,IF($E$5='BERECHNUNG 2'!$AD$40,'BERECHNUNG 2'!$AA40,IF($E$5='BERECHNUNG 2'!$AD$44,'BERECHNUNG 2'!$AA44,IF($E$5='BERECHNUNG 2'!$AD$48,'BERECHNUNG 2'!$AA48,IF($E$5='BERECHNUNG 2'!$AD$52,'BERECHNUNG 2'!$AA52,IF($E$5='BERECHNUNG 2'!$AD$56,'BERECHNUNG 2'!$AA56,IF($E$5='BERECHNUNG 2'!$AD$60,'BERECHNUNG 2'!$AA60,\"\")))))))))))),\"AUSSTEHEND\")","v":5},{"$f":"IF('BERECHNUNG 2'!$Y$9=$F$5,IF($E$5='BERECHNUNG 2'!$AD$16,'BERECHNUNG 2'!$AB16,IF($E$5='BERECHNUNG 2'!$AD$20,'BERECHNUNG 2'!$AB20,IF($E$5='BERECHNUNG 2'!$AD$24,'BERECHNUNG 2'!$AB24,IF($E$5='BERECHNUNG 2'!$AD$28,'BERECHNUNG 2'!$AB28,IF($E$5='BERECHNUNG 2'!$AD$32,'BERECHNUNG 2'!$AB32,IF($E$5='BERECHNUNG 2'!$AD$36,'BERECHNUNG 2'!$AB36,IF($E$5='BERECHNUNG 2'!$AD$40,'BERECHNUNG 2'!$AB40,IF($E$5='BERECHNUNG 2'!$AD$44,'BERECHNUNG 2'!$AB44,IF($E$5='BERECHNUNG 2'!$AD$48,'BERECHNUNG 2'!$AB48,IF($E$5='BERECHNUNG 2'!$AD$52,'BERECHNUNG 2'!$AB52,IF($E$5='BERECHNUNG 2'!$AD$56,'BERECHNUNG 2'!$AB56,IF($E$5='BERECHNUNG 2'!$AD$60,'BERECHNUNG 2'!$AB60,\"\")))))))))))),\"AUSSTEHEND\")","v":25},{"$f":"IF('BERECHNUNG 2'!$Y$9=$F$5,IF($E$5='BERECHNUNG 2'!$AD$16,'BERECHNUNG 2'!$AC16,IF($E$5='BERECHNUNG 2'!$AD$20,'BERECHNUNG 2'!$AC20,IF($E$5='BERECHNUNG 2'!$AD$24,'BERECHNUNG 2'!$AC24,IF($E$5='BERECHNUNG 2'!$AD$28,'BERECHNUNG 2'!$AC28,IF($E$5='BERECHNUNG 2'!$AD$32,'BERECHNUNG 2'!$AC32,IF($E$5='BERECHNUNG 2'!$AD$36,'BERECHNUNG 2'!$AC36,IF($E$5='BERECHNUNG 2'!$AD$40,'BERECHNUNG 2'!$AC40,IF($E$5='BERECHNUNG 2'!$AD$44,'BERECHNUNG 2'!$AC44,IF($E$5='BERECHNUNG 2'!$AD$48,'BERECHNUNG 2'!$AC48,IF($E$5='BERECHNUNG 2'!$AD$52,'BERECHNUNG 2'!$AC52,IF($E$5='BERECHNUNG 2'!$AD$56,'BERECHNUNG 2'!$AC56,IF($E$5='BERECHNUNG 2'!$AD$60,'BERECHNUNG 2'!$AC60,\"\")))))))))))),\"AUSSTEHEND\")","v":10},"ZIELORT",null,"Summensec. WOZ Standort",{"$f":"(D41*3600+E41*60+F41)","v":39326}]
[null,null,"(Ein allf.  Vermerk \"AUSSTEHEND\" bedeutet, dass die Daten zur Zeitgleichung noch nicht aktualisiert sind)"]
[null,null,null,null,null,null,null,null,"Summenbsec. WOZ Zielort",{"$f":"(D33*3600+E33*60+F33)","v":19510}]
[null,"MOZ",{"$f":"$E$14","v":"NEW YORK EMP.ST. BUILDING "},{"$f":"'BERECHNUNG 2'!V13","v":5},{"$f":"'BERECHNUNG 2'!W13","v":19},{"$f":"'BERECHNUNG 2'!X13","v":3},"ZIELORT"]
[null,null,null,{"$f":"IF(D36<0,\"Minus  = Vortag\",\"\")","v":""},null,null,null,null,"Differe nzsec absolut",{"$f":"ABS(J33-J35)","v":19816}]
[null,null,null,{"$f":"(E41/60+F41/3600)","v":0.92388888888888887},{"$f":"(F41/60)","v":0.43333333333333335}]
[null,null,null,{"$f":"IF(D41>=12,(D41+D38)-12,(D41+D38))","v":10.923888888888889},{"$f":"$E$41+E38","v":55.43333333333333},{"$f":"$F$41","v":26},null,null,"Anzahl Stunden",{"$f":"(J37/3600)","v":5.5044444444444443},{"$f":"ROUNDDOWN(J39,0)","v":5}]
[null,null,null,{"$f":"(D39-12)","v":-1.0761111111111106},{"$f":"(60-E39)","v":4.56666666666667},{"$f":"(60-F39)","v":34}]
[null,"WOZ",{"$f":"$E$11","v":"KLOTEN STADTHAUS"},{"$f":"IF('BERECHNUNG 2'!$Y$9=$F$5,IF($E$5='BERECHNUNG 2'!$AD$16,'BERECHNUNG 2'!$AE16,IF($E$5='BERECHNUNG 2'!$AD$20,'BERECHNUNG 2'!$AE20,IF($E$5='BERECHNUNG 2'!$AD$24,'BERECHNUNG 2'!$AE24,IF($E$5='BERECHNUNG 2'!$AD$28,'BERECHNUNG 2'!$AE28,IF($E$5='BERECHNUNG 2'!$AD$32,'BERECHNUNG 2'!$AE32,IF($E$5='BERECHNUNG 2'!$AD$36,'BERECHNUNG 2'!$AE36,IF($E$5='BERECHNUNG 2'!$AD$40,'BERECHNUNG 2'!$AE40,IF($E$5='BERECHNUNG 2'!$AD$44,'BERECHNUNG 2'!$AE44,IF($E$5='BERECHNUNG 2'!$AD$48,'BERECHNUNG 2'!$AE48,IF($E$5='BERECHNUNG 2'!$AD$52,'BERECHNUNG 2'!$AE52,IF($E$5='BERECHNUNG 2'!$AD$56,'BERECHNUNG 2'!$AE56,IF($E$5='BERECHNUNG 2'!$AD$60,'BERECHNUNG 2'!$AE60,\"\")))))))))))),\"AUSSTEHEND\")","v":10},{"$f":"IF('BERECHNUNG 2'!$Y$9=$F$5,IF($E$5='BERECHNUNG 2'!$AD$16,'BERECHNUNG 2'!$AF16,IF($E$5='BERECHNUNG 2'!$AD$20,'BERECHNUNG 2'!$AF20,IF($E$5='BERECHNUNG 2'!$AD$24,'BERECHNUNG 2'!$AF24,IF($E$5='BERECHNUNG 2'!$AD$28,'BERECHNUNG 2'!$AF28,IF($E$5='BERECHNUNG 2'!$AD$32,'BERECHNUNG 2'!$AF32,IF($E$5='BERECHNUNG 2'!$AD$36,'BERECHNUNG 2'!$AF36,IF($E$5='BERECHNUNG 2'!$AD$40,'BERECHNUNG 2'!$AF40,IF($E$5='BERECHNUNG 2'!$AD$44,'BERECHNUNG 2'!$AF44,IF($E$5='BERECHNUNG 2'!$AD$48,'BERECHNUNG 2'!$AF48,IF($E$5='BERECHNUNG 2'!$AD$52,'BERECHNUNG 2'!$AF52,IF($E$5='BERECHNUNG 2'!$AD$56,'BERECHNUNG 2'!$AF56,IF($E$5='BERECHNUNG 2'!$AD$60,'BERECHNUNG 2'!$AF60,\"\")))))))))))),\"AUSSTEHEND\")","v":55},{"$f":"IF('BERECHNUNG 2'!$Y$9=$F$5,IF($E$5='BERECHNUNG 2'!$AD$16,'BERECHNUNG 2'!$AG16,IF($E$5='BERECHNUNG 2'!$AD$20,'BERECHNUNG 2'!$AG20,IF($E$5='BERECHNUNG 2'!$AD$24,'BERECHNUNG 2'!$AG24,IF($E$5='BERECHNUNG 2'!$AD$28,'BERECHNUNG 2'!$AG28,IF($E$5='BERECHNUNG 2'!$AD$32,'BERECHNUNG 2'!$AG32,IF($E$5='BERECHNUNG 2'!$AD$36,'BERECHNUNG 2'!$AG36,IF($E$5='BERECHNUNG 2'!$AD$40,'BERECHNUNG 2'!$AG40,IF($E$5='BERECHNUNG 2'!$AD$44,'BERECHNUNG 2'!$AG44,IF($E$5='BERECHNUNG 2'!$AD$48,'BERECHNUNG 2'!$AG48,IF($E$5='BERECHNUNG 2'!$AD$52,'BERECHNUNG 2'!$AG52,IF($E$5='BERECHNUNG 2'!$AD$56,'BERECHNUNG 2'!$AG56,IF($E$5='BERECHNUNG 2'!$AD$60,'BERECHNUNG 2'!$AG60,\"\")))))))))))),\"AUSSTEHEND\")","v":26},"STANDORT",null,"Anzahl Minuten",{"$f":"(J39-K39)*60","v":30.266666666666655},{"$f":"ROUNDDOWN(J41,0)","v":30}]
[null,null,"(Ein allf.  Vermerk \"AUSSTEHEND\" bedeutet, dass die Daten zur Zeitgleichung noch nicht aktualisiert sind)"]
[null,null,null,null,null,null,null,null,"Anzahl Sekunden",null,{"$f":"(J41-K41)*60","v":15.999999999999304}]
[null,"MOZ",{"$f":"$E$11","v":"KLOTEN STADTHAUS"},{"$f":"'BERECHNUNG 2'!V17","v":10},{"$f":"'BERECHNUNG 2'!W17","v":49},{"$f":"'BERECHNUNG 2'!X17","v":19},"STANDORT"]
[]
[]
[]
[null,null,"WAHRE ZEITDIFFERENZ",{"$f":"IF('BERECHNUNG 2'!$V$8>=0,K39,24-ROUNDUP('BERECHNUNG 2'!$Z$6-(D8+0),0))","v":5},{"$f":"$K$41","v":30},{"$f":"$K$43","v":15.999999999999304}]
[]
[null,"2022-01-01","rev. 04.06.2022"]

{"sheet":"EINGABEN UND AUSDRUCK","index":3,"n_rows":51,"n_cols":11,"rows_kept":51,"cut":false,"hidden":false,"merged":[[45,1,45,3],[46,1,46,3],[48,1,48,2],[10,4,10,5],[13,4,13,5],[17,1,17,2],[17,3,17,5],[22,1,22,2],[11,4,11,5],[14,4,14,5]]}
[null,"18:35:02"]
[]
[]
[]
[null,"DATUM AM STANDORT (Anzeige rechts eintragen)",null,{"$f":"'STARTE DIE UHR!'!$B$11","v":28},{"$f":"'STARTE DIE UHR!'!$B$10","v":4},{"$f":"'STARTE DIE UHR!'!$B$9-2000","v":23},{"$f":"TODAY()","v":"2023-04-28"}]
[null,"BESTIMMUNG DER SOLAREN ORTSZEIT AM STANDORT UND AM ZIELORT (WOZ UND MOZ)"]
[]
[null,"2021-10-02",null,{"$f":"'STARTE DIE UHR!'!$B$2+D9","v":14},{"$f":"'STARTE DIE UHR!'!$B$3","v":43},{"$f":"'STARTE DIE UHR!'!$B$4","v":34},{"$f":"NOW()","v":45044.696920023147}]
[null,"BERICHTIGUNG DER LOKALEN UHRZEIT AM STANDORT AUF UTC-ZEIT ",null,-2,"LOKALE UHRZEIT",{"$f":"'STARTE DIE UHR!'!$B$1","v":45044.696920023147}]
[null,"(Schweiz /MEZ: Sommer -2; Winter -1)",null,null,null,{"$f":"'STARTE DIE UHR!'!B3","v":43}]
[null,"LÄNGENGRAD AM ZIELORT *Rechtsklick auf Bild od. Marke",null,8.5809590999999994,"KLOTEN STADTHAUS",null,"*Längengrad?"]
[null,null,null,"(± X,……......)","(Name des Standorts, fakultativ)"]
[]
[null,"LÄNGENGRAD AM ZIELORT *Rechtsklick auf Bild od. Marke",null,-73.985763500000004,"NEW YORK EMP.ST. BUILDING ",null,"*Längengrad?"]
[null,null,null,"(± X,……......)","(Name des Zielorts, fakultativ)"]
[]
[]
[null,{"$f":"$E$11","v":"KLOTEN STADTHAUS"},null,{"$f":"$E$14","v":"NEW YORK EMP.ST. BUILDING "}]
[]
[]
[]
[]
[]
[]
[null,null,null,null,null,null,"Uhren mit WOZ"]
[null,null,null,null,null,null,null,null,null," "]
[]
[]
[]
[null,null,null,{"$f":"(E33/60)+(F33/3600)","v":0.75277777777777777},{"$f":"(F33/60)","v":0.16666666666666666}]
[null,null,null,{"$f":"IF(D33>=12,(D33+D30)-12,(D33+D30))","v":9.7527777777777782},{"$f":"$E$33+E30","v":45.166666666666664},{"$f":"$F$33","v":10},"oekopriority.com",null,"Differenzbildung:"]
[null,null,null,{"$f":"(D31-12)","v":-2.2472222222222218},{"$f":"(60-E31)","v":14.833333333333336},{"$f":"(60-F31)","v":50}]
[null,"WOZ",{"$f":"$E$14","v":"NEW YORK EMP.ST. BUILDING "},{"$f":"IF(BERECHNUNG!$Y$9=$F$5,IF($E$5=BERECHNUNG!$AD$16,BERECHNUNG!$AA16,IF($E$5=BERECHNUNG!$AD$20,BERECHNUNG!$AA20,IF($E$5=BERECHNUNG!$AD$24,BERECHNUNG!$AA24,IF($E$5=BERECHNUNG!$AD$28,BERECHNUNG!$AA28,IF($E$5=BERECHNUNG!$AD$32,BERECHNUNG!$AA32,IF($E$5=BERECHNUNG!$AD$36,BERECHNUNG!$AA36,IF($E$5=BERECHNUNG!$AD$40,BERECHNUNG!$AA40,IF($E$5=BERECHNUNG!$AD$44,BERECHNUNG!$AA44,IF($E$5=BERECHNUNG!$AD$48,BERECHNUNG!$AA48,IF($E$5=BERECHNUNG!$AD$52,BERECHNUNG!$AA52,IF($E$5=BERECHNUNG!$AD$56,BERECHNUNG!$AA56,IF($E$5=BERECHNUNG!$AD$60,BERECHNUNG!$AA60,\"\")))))))))))),\"AUSSTEHEND\")","v":9},{"$f":"IF(BERECHNUNG!$Y$9=$F$5,IF($E$5=BERECHNUNG!$AD$16,BERECHNUNG!$AB16,IF($E$5=BERECHNUNG!$AD$20,BERECHNUNG!$AB20,IF($E$5=BERECHNUNG!$AD$24,BERECHNUNG!$AB24,IF($E$5=BERECHNUNG!$AD$28,BERECHNUNG!$AB28,IF($E$5=BERECHNUNG!$AD$32,BERECHNUNG!$AB32,IF($E$5=BERECHNUNG!$AD$36,BERECHNUNG!$AB36,IF($E$5=BERECHNUNG!$AD$40,BERECHNUNG!$AB40,IF($E$5=BERECHNUNG!$AD$44,BERECHNUNG!$AB44,IF($E$5=BERECHNUNG!$AD$48,BERECHNUNG!$AB48,IF($E$5=BERECHNUNG!$AD$52,BERECHNUNG!$AB52,IF($E$5=BERECHNUNG!$AD$56,BERECHNUNG!$AB56,IF($E$5=BERECHNUNG!$AD$60,BERECHNUNG!$AB60,\"\")))))))))))),\"AUSSTEHEND\")","v":45},{"$f":"IF(BERECHNUNG!$Y$9=$F$5,IF($E$5=BERECHNUNG!$AD$16,BERECHNUNG!$AC16,IF($E$5=BERECHNUNG!$AD$20,BERECHNUNG!$AC20,IF($E$5=BERECHNUNG!$AD$24,BERECHNUNG!$AC24,IF($E$5=BERECHNUNG!$AD$28,BERECHNUNG!$AC28,IF($E$5=BERECHNUNG!$AD$32,BERECHNUNG!$AC32,IF($E$5=BERECHNUNG!$AD$36,BERECHNUNG!$AC36,IF($E$5=BERECHNUNG!$AD$40,BERECHNUNG!$AC40,IF($E$5=BERECHNUNG!$AD$44,BERECHNUNG!$AC44,IF($E$5=BERECHNUNG!$AD$48,BERECHNUNG!$AC48,IF($E$5=BERECHNUNG!$AD$52,BERECHNUNG!$AC52,IF($E$5=BERECHNUNG!$AD$56,BERECHNUNG!$AC56,IF($E$5=BERECHNUNG!$AD$60,BERECHNUNG!$AC60,\"\")))))))))))),\"AUSSTEHEND\")","v":10},"ZIELORT",null,null,{"$f":"(D41*3600+E41*60+F41)","v":54926}]
[null,null,"(Ein allf.  Vermerk \"AUSSTEHEND\" bedeutet, dass die Daten zur Zeitgleichung noch nicht aktualisiert sind)"]
[null,null,null,null,null,null,null,null,"Summenbsec. WOZ Zielort",{"$f":"(D33*3600+E33*60+F33)","v":35110}]
[null,"MOZ",{"$f":"$E$14","v":"NEW YORK EMP.ST. BUILDING "},{"$f":"BERECHNUNG!$V$13","v":9},{"$f":"BERECHNUNG!$W$13","v":47},{"$f":"BERECHNUNG!$X$13","v":37},"ZIELORT"]
[null,null,null,{"$f":"IF(D36<0,\"Minus  = Vortag\",\"\")","v":""},null,null,null,null,"Differe nzsec absolut",{"$f":"ABS(J33-J35)","v":19816}]
[null,null,null,{"$f":"(E41/60+F41/3600)","v":0.25722222222222224},{"$f":"(F41/60)","v":0.43333333333333335}]
[null,null,null,{"$f":"IF(D41>=12,(D41+D38)-12,(D41+D38))","v":3.2572222222222216},{"$f":"$E$41+E38","v":15.433333333333334},{"$f":"$F$41","v":26},null,null,"Anzahl Stunden",{"$f":"(J37/3600)","v":5.5044444444444443},{"$f":"ROUNDDOWN(J39,0)","v":5}]
[null,null,null,{"$f":"(D39-12)","v":-8.7427777777777784},{"$f":"(60-E39)","v":44.566666666666663},{"$f":"(60-F39)","v":34}]
[null,"WOZ",{"$f":"$E$11","v":"KLOTEN STADTHAUS"},{"$f":"IF(BERECHNUNG!$Y$9=$F$5,IF($E$5=BERECHNUNG!$AD$16,BERECHNUNG!$AE16,IF($E$5=BERECHNUNG!$AD$20,BERECHNUNG!$AE20,IF($E$5=BERECHNUNG!$AD$24,BERECHNUNG!$AE24,IF($E$5=BERECHNUNG!$AD$28,BERECHNUNG!$AE28,IF($E$5=BERECHNUNG!$AD$32,BERECHNUNG!$AE32,IF($E$5=BERECHNUNG!$AD$36,BERECHNUNG!$AE36,IF($E$5=BERECHNUNG!$AD$40,BERECHNUNG!$AE40,IF($E$5=BERECHNUNG!$AD$44,BERECHNUNG!$AE44,IF($E$5=BERECHNUNG!$AD$48,BERECHNUNG!$AE48,IF($E$5=BERECHNUNG!$AD$52,BERECHNUNG!$AE52,IF($E$5=BERECHNUNG!$AD$56,BERECHNUNG!$AE56,IF($E$5=BERECHNUNG!$AD$60,BERECHNUNG!$AE60,\"\")))))))))))),\"AUSSTEHEND\")","v":15},{"$f":"IF(BERECHNUNG!$Y$9=$F$5,IF($E$5=BERECHNUNG!$AD$16,BERECHNUNG!$AF16,IF($E$5=BERECHNUNG!$AD$20,BERECHNUNG!$AF20,IF($E$5=BERECHNUNG!$AD$24,BERECHNUNG!$AF24,IF($E$5=BERECHNUNG!$AD$28,BERECHNUNG!$AF28,IF($E$5=BERECHNUNG!$AD$32,BERECHNUNG!$AF32,IF($E$5=BERECHNUNG!$AD$36,BERECHNUNG!$AF36,IF($E$5=BERECHNUNG!$AD$40,BERECHNUNG!$AF40,IF($E$5=BERECHNUNG!$AD$44,BERECHNUNG!$AF44,IF($E$5=BERECHNUNG!$AD$48,BERECHNUNG!$AF48,IF($E$5=BERECHNUNG!$AD$52,BERECHNUNG!$AF52,IF($E$5=BERECHNUNG!$AD$56,BERECHNUNG!$AF56,IF($E$5=BERECHNUNG!$AD$60,BERECHNUNG!$AF60,\"\")))))))))))),\"AUSSTEHEND\")","v":15},{"$f":"IF(BERECHNUNG!$Y$9=$F$5,IF($E$5=BERECHNUNG!$AD$16,BERECHNUNG!$AG16,IF($E$5=BERECHNUNG!$AD$20,BERECHNUNG!$AG20,IF($E$5=BERECHNUNG!$AD$24,BERECHNUNG!$AG24,IF($E$5=BERECHNUNG!$AD$28,BERECHNUNG!$AG28,IF($E$5=BERECHNUNG!$AD$32,BERECHNUNG!$AG32,IF($E$5=BERECHNUNG!$AD$36,BERECHNUNG!$AG36,IF($E$5=BERECHNUNG!$AD$40,BERECHNUNG!$AG40,IF($E$5=BERECHNUNG!$AD$44,BERECHNUNG!$AG44,IF($E$5=BERECHNUNG!$AD$48,BERECHNUNG!$AG48,IF($E$5=BERECHNUNG!$AD$52,BERECHNUNG!$AG52,IF($E$5=BERECHNUNG!$AD$56,BERECHNUNG!$AG56,IF($E$5=BERECHNUNG!$AD$60,BERECHNUNG!$AG60,\"\")))))))))))),\"AUSSTEHEND\")","v":26},"STANDORT",null,null,{"$f":"(J39-K39)*60","v":30.266666666666655},{"$f":"ROUNDDOWN(J41,0)","v":30}]
[null,null,"(Ein allf.  Vermerk \"AUSSTEHEND\" bedeutet, dass die Daten zur Zeitgleichung noch nicht aktualisiert sind)"]
[null,null,null,null,null,null,null,null,"Anzahl Sekunden",null,{"$f":"(J41-K41)*60","v":15.999999999999304}]
[null,"MOZ",{"$f":"$C$41","v":"KLOTEN STADTHAUS"},{"$f":"BERECHNUNG!$V$17","v":15},{"$f":"BERECHNUNG!$W$17","v":17},{"$f":"BERECHNUNG!$X$17","v":53},"STANDORT"]
[]
[null,"Informativ: MOMENTANE ZEITGLEICHUNG  MEZ. Polynomische Funktionen basierend auf:",null,null,{"$f":"$J$49*-1","v":2},{"$f":"$K$49","v":27.000000000000011}]
[null,"LINK --> HELIOS Zeitgleichungstabelle 2023 (für Standorte mit MEZ)"]
[null,null,null,null,null,null,null,"Sek. Summe WOZ",{"$f":"(D41*3600+E41*60+F41)","v":54926},"Dezimal Min.Diff",{"$f":"(I48-I49)/60","v":-2.4500000000000002}]
[null,"WAHRE ZEITDIFFERENZ",null,{"$f":"IF([1]BERECHNUNG!$V$8>=0,K39,24-ROUNDUP([1]BERECHNUNG!$Z$6-(D8+0),0))","v":5},{"$f":"$K$41","v":30},{"$f":"$K$43","v":15.999999999999304},null,"Sek. Summe MOZ",{"$f":"(D44*3600+E44*60+F44)","v":55073},{"$f":"ROUNDDOWN($K$48,0)","v":-2},{"$f":"ABS(K48-J49)*60","v":27.000000000000011}]
[]
[null,"2022-01-01","rev. 04.06.2022           erweitert 07.01.2023"]

{"sheet":"BERECHNUNG 2","index":4,"n_rows":377,"n_cols":33,"rows_kept":377,"cut":false,"hidden":true,"merged":[[26,26,26,28],[50,26,50,28],[54,26,54,28],[58,26,58,28],[30,26,30,28],[34,26,34,28],[38,26,38,28],[42,26,42,28],[46,26,46,28],[14,30,14,32],[10,21,10,23],[14,26,14,28],[18,26,18,28],[22,26,22,28]]}
[{"$f":"BERECHNUNG!A1","v":1},{"$f":"BERECHNUNG!B1","v":-3},{"$f":"BERECHNUNG!C1","v":24},{"$f":"(C1/60)","v":0.4},null,"Januar","Februar","März","April"]
[{"$f":"BERECHNUNG!A2","v":2},{"$f":"BERECHNUNG!B2","v":-3},{"$f":"BERECHNUNG!C2","v":53},0.8833333333333333,1,{"$f":"(B1-D1)","v":-3.4},-13.533333333333333,-12.316666666666666,-3.8833333333333333,null,"GRAFIKEN SIEHE \"BERECHNUNG\"",null,null,null,null,null,null,null,null,null,null,"std","min","sec","Summe sec"]
[{"$f":"BERECHNUNG!A3","v":3},{"$f":"BERECHNUNG!B3","v":-4},{"$f":"BERECHNUNG!C3","v":20},0.33333333333333331,2,-3.8833333333333333,-13.666666666666666,-12.116666666666667,-3.5833333333333335,null,null,null,null,null,null,null,null,null,null,null,"ARMBAND - UHRZEIT (mein Standort)",{"$f":"' EINGABEN UND AUSDRUCK'!$D$8","v":10},{"$f":"' EINGABEN UND AUSDRUCK'!$E$8","v":15},{"$f":"' EINGABEN UND AUSDRUCK'!$F$8","v":0},{"$f":"(3600*V3+60*W3+X3)","v":36900}]
[{"$f":"BERECHNUNG!A4","v":4},{"$f":"BERECHNUNG!B4","v":-4},{"$f":"BERECHNUNG!C4","v":48},0.8,3,-4.333333333333333,-13.783333333333333,-11.916666666666666,-3.3,null,null,null,null,null,null,null,null,null,null,null,"(berichtigt auf UTC; CH / MEZ: Sommer -2, Winter - 1)",null,null,"Längngrad - Zuschalag",{"$f":"(V5*4*60)","v":2059.4301839999998},"Wenn V8 = negativ, dann 24 + (Y6/3600)"]
[{"$f":"BERECHNUNG!A5","v":5},{"$f":"BERECHNUNG!B5","v":-5},{"$f":"BERECHNUNG!C5","v":15},0.25,4,-4.8,-13.866666666666667,-11.7,-3,null,null,null,null,null,null,null,null,null,null,null,"LÄNGENGRAD (mein Standort)",{"$f":"' EINGABEN UND AUSDRUCK'!$D$11","v":8.5809590999999994},null,"Summe am Standort",{"$f":"(Y3+Y4)","v":38959.430183999997},"↓"]
[{"$f":"BERECHNUNG!A6","v":6},{"$f":"BERECHNUNG!B6","v":-5},{"$f":"BERECHNUNG!C6","v":41},0.68333333333333335,5,-5.25,-13.966666666666667,-11.483333333333333,-2.7166666666666668,null,null,null,null,null,null,null,null,null,null,null,"(z.B. Google Maps)",null,null,"Summe am Zielort",{"$f":"(Y5+((V7-V5)*4*60)+((0)*0))","v":19143.416759999996},{"$f":"(24+(Y6/3600))","v":29.317615766666666}]
[{"$f":"BERECHNUNG!A7","v":7},{"$f":"BERECHNUNG!B7","v":-6},{"$f":"BERECHNUNG!C7","v":7},0.11666666666666667,6,-5.6833333333333336,-14.033333333333333,-11.25,-2.4333333333333336,null,null,null,null,null,null,null,null,null,null,null,"LÄNGENGRAD (Zielort)",{"$f":"' EINGABEN UND AUSDRUCK'!$D$14","v":-73.985763500000004},null,null,{"$f":"' EINGABEN UND AUSDRUCK'!$E$14","v":"NEW YORK EMP.ST. BUILDING "}]
[{"$f":"BERECHNUNG!A8","v":8},{"$f":"BERECHNUNG!B8","v":-6},{"$f":"BERECHNUNG!C8","v":33},0.55000000000000004,7,-6.1166666666666663,-14.1,-11.016666666666667,-2.15,null,null,null,null,null,null,null,null,null,null,null,"(z.B. Google Maps)                                     MOZ am Zielort",{"$f":"(Y6/3600)","v":5.3176157666666652},{"$f":"IF(V8>=0,(V8-V13),1+(V8-ROUNDDOWN(V8,0)))","v":0.31761576666666524},{"$f":"(W8*60)","v":19.056945999999915},"Zerlegung"]
[{"$f":"BERECHNUNG!A9","v":9},{"$f":"BERECHNUNG!B9","v":-6},{"$f":"BERECHNUNG!C9","v":58},0.96666666666666667,8,-6.55,-14.133333333333333,-10.766666666666667,-1.8666666666666667,null,null,null,null,null,null,null,null,null,null,null,"\"n - ter\" -  TAG DES MONATS (mein Standort)",{"$f":"' EINGABEN UND AUSDRUCK'!$D$5","v":7},"JAHRZAHL (-DEZIMALE) DER ZEITGLEICHUNGS-TABELLE",null,23]
[{"$f":"BERECHNUNG!A10","v":10},{"$f":"BERECHNUNG!B10","v":-7},{"$f":"BERECHNUNG!C10","v":22},0.36666666666666664,9,-6.9666666666666668,-14.166666666666666,-10.533333333333333,-1.6,null,null,null,null,null,null,null,null,null,null,null,"MOZ am Standort",{"$f":"(Y5/3600)","v":10.82206394},{"$f":"V10-ROUNDDOWN(V10,0)","v":0.8220639399999996},{"$f":"(W10*60)","v":49.323836399999976},null,null,null,2]
[{"$f":"BERECHNUNG!A11","v":11},{"$f":"BERECHNUNG!B11","v":-7},{"$f":"BERECHNUNG!C11","v":46},0.76666666666666672,10,-7.3666666666666663,-14.183333333333334,-10.266666666666667,-1.3333333333333333,null,null,null,null,null,null,null,null,null,null,null,null,"MITTLERE ORTSZEIT AM ZIELORT (MOZ)",null,null,"Summendiff. sec für"]
[{"$f":"BERECHNUNG!A12","v":12},{"$f":"BERECHNUNG!B12","v":-8},{"$f":"BERECHNUNG!C12","v":9},0.15,11,-7.7666666666666666,-14.2,-10.016666666666667,-1.0666666666666667,null,null,null,null,null,null,null,null,null,null,null,null,"std","min","sec","Zeitgleichung \"vor/nach\" 12:00"]
[{"$f":"BERECHNUNG!A13","v":13},{"$f":"BERECHNUNG!B13","v":-8},{"$f":"BERECHNUNG!C13","v":32},0.53333333333333333,12,-8.15,-14.183333333333334,-9.75,-0.8,null,null,null,null,null,null,null,null,null,null,null,null,{"$f":"IF($V$8>=0,ROUNDDOWN($V$8,0),ROUNDDOWN(-1*$V$14,0))","v":5},{"$f":"ROUNDDOWN(IF($V$8>=0,ROUNDDOWN($X$8,0),W14*60),0)","v":19},{"$f":"IF(V8>=0,ROUND((X8-W13)*60,0),ROUND(X14*60,0))","v":3},{"$f":"((V17-12)*60*60+W17*60+X17)-((V5/15)*60*60)","v":-6300.4301839999998}]
[{"$f":"BERECHNUNG!A14","v":14},{"$f":"BERECHNUNG!B14","v":-8},{"$f":"BERECHNUNG!C14","v":54},0.9,13,-8.5333333333333332,-14.166666666666666,-9.4833333333333325,-0.55000000000000004,null,null,null,null,null,null,null,null,null,null,null,null,{"$f":"$Z$6","v":29.317615766666666},{"$f":"($V$14-ROUNDDOWN($V$14,0))","v":0.31761576666666613},{"$f":"(W14*60-W13)","v":5.6945999999967967E-2},"GEMESSEN AM 0° - MERIDIAN"]
[{"$f":"BERECHNUNG!A15","v":15},{"$f":"BERECHNUNG!B15","v":-9},{"$f":"BERECHNUNG!C15","v":16},0.26666666666666666,14,-8.9,-14.133333333333333,-9.1999999999999993,-0.3,null,null,null,null,null,null,null,null,null,null,null,null,"X am 0° - Meridian=",{"$f":"($V$9+((1.1574074074*10^-5)*$Y$13))","v":6.9270783543523189},"(n-ter Tag)","MIN","SEC","WAHRE ORTSZEIT AM ZIELORT (WOZ) (std:min:sec)",null,null,"Monat","WAHRE ORTSZEIT AM STANDORT"]
[{"$f":"BERECHNUNG!A16","v":16},{"$f":"BERECHNUNG!B16","v":-9},{"$f":"BERECHNUNG!C16","v":37},0.6166666666666667,15,-9.2666666666666675,-14.083333333333334,-8.9166666666666661,-0.05,null,null,null,null,null,null,null,null,null,null,null,"JANUAR","Y gleitende ZG am 0°-Meridian= ",{"$f":"(0.0055*W15^2-0.5116*W15-2.837)","v":-6.1169790061862965},"Y =",{"$f":"ROUNDDOWN(W16,0)","v":-6},{"$f":"IF(Y16>=0,ROUND(ABS(W16-Y16)*60,0),-ROUND(ABS(W16-Y16)*60,0))","v":-7},{"$f":"IF($V$8>=0,ROUNDDOWN(AA17,0),ROUNDDOWN(AA18*-1,0))","v":5},{"$f":"IF($V$8>=0,ROUNDDOWN(AB17,0),ROUNDDOWN(AB18,0))","v":25},{"$f":"IF($V$8>=0,ROUNDDOWN(AC17,0),ROUNDUP(AC18,0))","v":10},1,{"$f":"ROUNDDOWN(AE17,0)","v":10},{"$f":"ROUNDDOWN(AF17,0)","v":55},{"$f":"ROUND(AG17*60,0)","v":26}]
[{"$f":"BERECHNUNG!A17","v":17},{"$f":"BERECHNUNG!B17","v":-9},{"$f":"BERECHNUNG!C17","v":57},0.95,16,-9.6166666666666671,-14.033333333333333,-8.6333333333333329,0.18333333333333332,null,null,null,null,null,null,null,null,null,null,null,"Hilfszeile: MOZ am Standort (std:min:sec)",{"$f":"ROUNDDOWN($V$10,0)","v":10},{"$f":"ROUNDDOWN($X$10,0)","v":49},{"$f":"ROUND((X10-W17)*60,0)","v":19},null,null,{"$f":"($V$8*60*60-W16*60)/3600","v":5.4195654167697711},{"$f":"(AA17-ROUNDDOWN(AA17,0))*60","v":25.173925006186266},{"$f":"(AB17-ROUNDDOWN(AB17,0))*60","v":10.435500371175976},null,{"$f":"($V$10*60*60-W16*60)/3600","v":10.924013590103103},{"$f":"(AE17-ROUNDDOWN(AE17,0))*60","v":55.440815406186168},{"$f":"(AF17-ROUNDDOWN(AF17,0))","v":0.44081540618616799}]
[{"$f":"BERECHNUNG!A18","v":18},{"$f":"BERECHNUNG!B18","v":-10},{"$f":"BERECHNUNG!C18","v":17},0.28333333333333333,17,-9.9499999999999993,-13.966666666666667,-8.35,0.41666666666666669,null,null,null,null,null,null,null,null,null,null,null,null,null,null,null,null,null,{"$f":"(AD18/3600)","v":29.215671322222221},{"$f":"(AA18-ROUNDDOWN(AA18,0))*60","v":12.940279333333251},{"$f":"(AB18-ROUNDDOWN(AB18,0))*60","v":56.416759999995065},{"$f":"($Z$6*3600+Y16*60+Z16)","v":105176.41675999999}]
[{"$f":"BERECHNUNG!A19","v":19},{"$f":"BERECHNUNG!B19","v":-10},{"$f":"BERECHNUNG!C19","v":36},0.6,18,-10.283333333333333,-13.883333333333333,-8.0666666666666664,0.65,null,null,null,null,null,null,null,null,null,null,null,null,"X am 0° - Meridian=",{"$f":"($V$9+((1.1574074074*10^-5)*$Y$13))","v":6.9270783543523189},"(n-ter Tag)","MIN","SEC","WAHRE ORTSZEIT AM ZIELORT (std:min:sec)"]
[{"$f":"BERECHNUNG!A20","v":20},{"$f":"BERECHNUNG!B20","v":-10},{"$f":"BERECHNUNG!C20","v":54},0.9,19,-10.6,-13.783333333333333,-7.7666666666666666,0.8666666666666667,null,null,null,null,null,null,null,null,null,null,null,"FEBRUAR","Y gleitende ZG am 0°-Meridian= ",{"$f":"(0.006*W19^2-0.1334*W19-13.438)","v":-14.074165765306581},"Y =",{"$f":"ROUNDDOWN(W20,0)","v":-14},{"$f":"IF(Y20>=0,ROUND(ABS(W20-Y20)*60,0),-ROUND(ABS(W20-Y20)*60,0))","v":-4},{"$f":"IF($V$8>=0,ROUNDDOWN(AA21,0),ROUNDDOWN(AA22*-1,0))","v":5},{"$f":"IF($V$8>=0,ROUNDDOWN(AB21,0),ROUNDDOWN(AB22,0))","v":33},{"$f":"IF($V$8>=0,ROUNDDOWN(AC21,0),ROUNDUP(AC22,0))","v":7},2,{"$f":"ROUNDDOWN(AE21,0)","v":11},{"$f":"ROUNDDOWN(AF21,0)","v":3},{"$f":"ROUND(AG21*60,0)","v":24}]
[{"$f":"BERECHNUNG!A21","v":21},{"$f":"BERECHNUNG!B21","v":-11},{"$f":"BERECHNUNG!C21","v":11},0.18333333333333332,20,-10.9,-13.683333333333334,-7.4666666666666668,1.0833333333333333,null,null,null,null,null,null,null,null,null,null,null,null,null,null,null,null,null,{"$f":"($V$8*60*60-W20*60)/3600","v":5.5521851960884421},{"$f":"(AA21-ROUNDDOWN(AA21,0))*60","v":33.131111765306528},{"$f":"(AB21-ROUNDDOWN(AB21,0))*60","v":7.8667059183916876},null,{"$f":"($V$10*60*60-W20*60)/3600","v":11.056633369421775},{"$f":"(AE21-ROUNDDOWN(AE21,0))*60","v":3.3980021653064796},{"$f":"(AF21-ROUNDDOWN(AF21,0))","v":0.39800216530647958}]
[{"$f":"BERECHNUNG!A22","v":22},{"$f":"BERECHNUNG!B22","v":-11},{"$f":"BERECHNUNG!C22","v":28},0.46666666666666667,21,-11.183333333333334,-13.566666666666666,-7.166666666666667,1.2833333333333332,null,null,null,null,null,null,null,null,null,null,null,null,null,null,null,null,null,{"$f":"(AD22/3600)","v":29.083171322222221},{"$f":"(AA22-ROUNDDOWN(AA22,0))*60","v":4.990279333333234},{"$f":"(AB22-ROUNDDOWN(AB22,0))*60","v":59.416759999994042},{"$f":"($Z$6*3600+Y20*60+Z20)","v":104699.41675999999}]
[{"$f":"BERECHNUNG!A23","v":23},{"$f":"BERECHNUNG!B23","v":-11},{"$f":"BERECHNUNG!C23","v":44},0.73333333333333328,22,-11.466666666666667,-13.45,-6.8833333333333329,1.4833333333333334,null,null,null,null,null,null,null,null,null,null,null,null,"X am 0° - Meridian=",{"$f":"($V$9+((1.1574074074*10^-5)*$Y$13))","v":6.9270783543523189},"(n-ter Tag)","MIN","SEC","WAHRE ORTSZEIT AM ZIELORT (std:min:sec)"]
[{"$f":"BERECHNUNG!A24","v":24},{"$f":"BERECHNUNG!B24","v":-11},{"$f":"BERECHNUNG!C24","v":59},0.98333333333333328,23,-11.733333333333333,-13.316666666666666,-6.583333333333333,1.6666666666666665,null,null,null,null,null,null,null,null,null,null,null,"MÄRZ","Y gleitende ZG am 0°-Meridian= ",{"$f":"(0.0018*W23^2+0.2202*W23-12.611)","v":-10.999285400222414},"Y =",{"$f":"ROUNDDOWN(W24,0)","v":-10},{"$f":"IF(Y24>=0,ROUND(ABS(W24-Y24)*60,0),-ROUND(ABS(W24-Y24)*60,0))","v":-60},{"$f":"IF($V$8>=0,ROUNDDOWN(AA25,0),ROUNDDOWN(AA26*-1,0))","v":5},{"$f":"IF($V$8>=0,ROUNDDOWN(AB25,0),ROUNDDOWN(AB26,0))","v":30},{"$f":"IF($V$8>=0,ROUNDDOWN(AC25,0),ROUNDUP(AC26,0))","v":3},3,{"$f":"ROUNDDOWN(AE25,0)","v":11},{"$f":"ROUNDDOWN(AF25,0)","v":0},{"$f":"ROUND(AG25*60,0)","v":19}]
[{"$f":"BERECHNUNG!A25","v":25},{"$f":"BERECHNUNG!B25","v":-12},{"$f":"BERECHNUNG!C25","v":13},0.21666666666666667,24,-11.983333333333333,-13.166666666666666,-6.2666666666666666,1.85,null,null,null,null,null,null,null,null,null,null,null,null,null,null,null,null,null,{"$f":"($V$8*60*60-W24*60)/3600","v":5.5009371900037056},{"$f":"(AA25-ROUNDDOWN(AA25,0))*60","v":30.056231400222337},{"$f":"(AB25-ROUNDDOWN(AB25,0))*60","v":3.3738840133402448},null,{"$f":"($V$10*60*60-W24*60)/3600","v":11.005385363337039},{"$f":"(AE25-ROUNDDOWN(AE25,0))*60","v":0.32312180022234571},{"$f":"(AF25-ROUNDDOWN(AF25,0))","v":0.32312180022234571}]
[{"$f":"BERECHNUNG!A26","v":26},{"$f":"BERECHNUNG!B26","v":-12},{"$f":"BERECHNUNG!C26","v":26},0.43333333333333335,25,-12.216666666666667,-13.016666666666667,-5.9666666666666668,2.0166666666666666,null,null,null,null,null,null,null,null,null,null,null,null,null,null,null,null,null,{"$f":"(AD26/3600)","v":29.134282433333333},{"$f":"(AA26-ROUNDDOWN(AA26,0))*60","v":8.0569459999999538},{"$f":"(AB26-ROUNDDOWN(AB26,0))*60","v":3.4167599999972253},{"$f":"($Z$6*3600+Y24*60+Z24)","v":104883.41675999999}]
[{"$f":"BERECHNUNG!A27","v":27},{"$f":"BERECHNUNG!B27","v":-12},{"$f":"BERECHNUNG!C27","v":39},0.65,26,-12.433333333333334,-12.85,-5.666666666666667,2.1833333333333331,null,null,null,null,null,null,null,null,null,null,null,null,"X am 0° - Meridian=",{"$f":"($V$9+((1.1574074074*10^-5)*$Y$13))","v":6.9270783543523189},"(n-ter Tag)","MIN","SEC","WAHRE ORTSZEIT AM ZIELORT (std:min:sec)"]
[{"$f":"BERECHNUNG!A28","v":28},{"$f":"BERECHNUNG!B28","v":-12},{"$f":"BERECHNUNG!C28","v":51},0.85,27,-12.65,-12.683333333333334,-5.3666666666666663,2.35,null,null,null,null,null,null,null,null,null,null,null,"APRIL","Y gleitende ZG am 0°-Meridian= ",{"$f":"(-0.0029*W27^2+0.3223*W27-4.3157)","v":-2.222257448521523},"Y =",{"$f":"ROUNDDOWN(W28,0)","v":-2},{"$f":"IF(Y28>=0,ROUND(ABS(W28-Y28)*60,0),-ROUND(ABS(W28-Y28)*60,0))","v":-13},{"$f":"IF($V$8>=0,ROUNDDOWN(AA29,0),ROUNDDOWN(AA30*-1,0))","v":5},{"$f":"IF($V$8>=0,ROUNDDOWN(AB29,0),ROUNDDOWN(AB30,0))","v":21},{"$f":"IF($V$8>=0,ROUNDDOWN(AC29,0),ROUNDUP(AC30,0))","v":16},4,{"$f":"ROUNDDOWN(AE29,0)","v":10},{"$f":"ROUNDDOWN(AF29,0)","v":51},{"$f":"ROUND(AG29*60,0)","v":33}]
[{"$f":"BERECHNUNG!A29","v":29},{"$f":"BERECHNUNG!B29","v":-13},{"$f":"BERECHNUNG!C29","v":2},3.3333333333333333E-2,28,-12.85,-12.5,-5.0666666666666664,2.5,null,null,null,null,null,null,null,null,null,null,null,null,null,null,null,null,null,{"$f":"($V$8*60*60-W28*60)/3600","v":5.3546533908086911},{"$f":"(AA29-ROUNDDOWN(AA29,0))*60","v":21.279203448521464},{"$f":"(AB29-ROUNDDOWN(AB29,0))*60","v":16.752206911287857},null,{"$f":"($V$10*60*60-W28*60)/3600","v":10.859101564142025},{"$f":"(AE29-ROUNDDOWN(AE29,0))*60","v":51.546093848521473},{"$f":"(AF29-ROUNDDOWN(AF29,0))","v":0.54609384852147258}]
[{"$f":"BERECHNUNG!A30","v":30},{"$f":"BERECHNUNG!B30","v":-13},{"$f":"BERECHNUNG!C30","v":12},0.2,29,-13.033333333333333,null,-4.7666666666666666,2.6333333333333333,null,null,null,null,null,null,null,null,null,null,null,null,null,null,null,null,null,{"$f":"(AD30/3600)","v":29.280671322222219},{"$f":"(AA30-ROUNDDOWN(AA30,0))*60","v":16.840279333333115},{"$f":"(AB30-ROUNDDOWN(AB30,0))*60","v":50.41675999998688},{"$f":"($Z$6*3600+Y28*60+Z28)","v":105410.41675999999}]
[{"$f":"BERECHNUNG!A31","v":31},{"$f":"BERECHNUNG!B31","v":-13},{"$f":"BERECHNUNG!C31","v":21},0.35,30,-13.2,null,-4.4666666666666668,2.7666666666666666,null,null,null,null,null,null,null,null,null,null,null,null,"X am 0° - Meridian=",{"$f":"($V$9+((1.1574074074*10^-5)*$Y$13))","v":6.9270783543523189},"(n-ter Tag)","MIN","SEC","WAHRE ORTSZEIT AM ZIELORT (std:min:sec)"]
[{"$f":"BERECHNUNG!A32","v":"Februar"},null,null,"Februar",31,-13.35,null,-4.166666666666667,null,null,null,null,null,null,null,null,null,null,null,null,"MAI","Y gleitende ZG am 0°-Meridian= ",{"$f":"(-0.0046*W31^2+0.12777*W31+2.7528)","v":3.4171444945098481},"Y =",{"$f":"ROUNDDOWN(W32,0)","v":3},{"$f":"IF(Y32>=0,ROUND(ABS(W32-Y32)*60,0),-ROUND(ABS(W32-Y32)*60,0))","v":25},{"$f":"IF($V$8>=0,ROUNDDOWN(AA33,0),ROUNDDOWN(AA34*-1,0))","v":5},{"$f":"IF($V$8>=0,ROUNDDOWN(AB33,0),ROUNDDOWN(AB34,0))","v":15},{"$f":"IF($V$8>=0,ROUNDDOWN(AC33,0),ROUNDUP(AC34,0))","v":38},5,{"$f":"ROUNDDOWN(AE33,0)","v":10},{"$f":"ROUNDDOWN(AF33,0)","v":45},{"$f":"ROUND(AG33*60,0)","v":54}]
[{"$f":"BERECHNUNG!A33","v":1},{"$f":"BERECHNUNG!B33","v":-13},{"$f":"BERECHNUNG!C33","v":30},{"$f":"(B33-(C33/60))","v":-13.5},null,null,null,null,null,null,null,null,null,null,null,null,null,null,null,null,null,null,null,null,null,null,{"$f":"($V$8*60*60-W32*60)/3600","v":5.2606633584248348},{"$f":"(AA33-ROUNDDOWN(AA33,0))*60","v":15.639801505490087},{"$f":"(AB33-ROUNDDOWN(AB33,0))*60","v":38.388090329405244},null,{"$f":"($V$10*60*60-W32*60)/3600","v":10.765111531758169},{"$f":"(AE33-ROUNDDOWN(AE33,0))*60","v":45.906691905490149},{"$f":"(AF33-ROUNDDOWN(AF33,0))","v":0.906691905490149}]
[{"$f":"BERECHNUNG!A34","v":2},{"$f":"BERECHNUNG!B34","v":-13},{"$f":"BERECHNUNG!C34","v":37},-13.616666666666667,null,null,null,null,null,null,null,null,null,null,null,null,null,null,null,null,null,null,null,null,null,null,{"$f":"(AD34/3600)","v":29.37456021111111},{"$f":"(AA34-ROUNDDOWN(AA34,0))*60","v":22.473612666666583},{"$f":"(AB34-ROUNDDOWN(AB34,0))*60","v":28.416759999994952},{"$f":"($Z$6*3600+Y32*60+Z32)","v":105748.41675999999}]
[{"$f":"BERECHNUNG!A35","v":3},{"$f":"BERECHNUNG!B35","v":-13},{"$f":"BERECHNUNG!C35","v":44},-13.733333333333333,null,null,null,null,null,null,null,null,null,null,null,null,null,null,null,null,null,"X am 0° - Meridian=",{"$f":"($V$9+((1.1574074074*10^-5)*$Y$13))","v":6.9270783543523189},"(n-ter Tag)","MIN","SEC","WAHRE ORTSZEIT AM ZIELORT (std:min:sec)"]
[{"$f":"BERECHNUNG!A36","v":4},{"$f":"BERECHNUNG!B36","v":-13},{"$f":"BERECHNUNG!C36","v":50},-13.833333333333334,null,null,null,null,null,null,null,null,null,null,null,null,null,null,null,null,"JUNI","Y gleitende ZG am 0°-Meridian= ",{"$f":"(-0.0006*W35^2-0.1879*W35+2.4035)","v":1.0731113285007976},"Y =",{"$f":"ROUNDDOWN(W36,0)","v":1},{"$f":"IF(Y36>=0,ROUND(ABS(W36-Y36)*60,0),-ROUND(ABS(W36-Y36)*60,0))","v":4},{"$f":"IF($V$8>=0,ROUNDDOWN(AA37,0),ROUNDDOWN(AA38*-1,0))","v":5},{"$f":"IF($V$8>=0,ROUNDDOWN(AB37,0),ROUNDDOWN(AB38,0))","v":17},{"$f":"IF($V$8>=0,ROUNDDOWN(AC37,0),ROUNDUP(AC38,0))","v":59},6,{"$f":"ROUNDDOWN(AE37,0)","v":10},{"$f":"ROUNDDOWN(AF37,0)","v":48},{"$f":"ROUND(AG37*60,0)","v":15}]
[{"$f":"BERECHNUNG!A37","v":5},{"$f":"BERECHNUNG!B37","v":-13},{"$f":"BERECHNUNG!C37","v":56},-13.933333333333334,null,null,null,null,null,null,null,null,null,null,null,null,null,null,null,null,null,null,null,null,null,null,{"$f":"($V$8*60*60-W36*60)/3600","v":5.2997305778583188},{"$f":"(AA37-ROUNDDOWN(AA37,0))*60","v":17.983834671499128},{"$f":"(AB37-ROUNDDOWN(AB37,0))*60","v":59.030080289947691},null,{"$f":"($V$10*60*60-W36*60)/3600","v":10.804178751191651},{"$f":"(AE37-ROUNDDOWN(AE37,0))*60","v":48.250725071499083},{"$f":"(AF37-ROUNDDOWN(AF37,0))","v":0.25072507149908319}]
[{"$f":"BERECHNUNG!A38","v":6},{"$f":"BERECHNUNG!B38","v":-14},{"$f":"BERECHNUNG!C38","v":0},-14,null,null,null,null,null,null,null,null,null,null,null,null,null,null,null,null,null,null,null,null,null,null,{"$f":"(AD38/3600)","v":29.335393544444443},{"$f":"(AA38-ROUNDDOWN(AA38,0))*60","v":20.123612666666588},{"$f":"(AB38-ROUNDDOWN(AB38,0))*60","v":7.4167599999952927},{"$f":"($Z$6*3600+Y36*60+Z36)","v":105607.41675999999}]
[{"$f":"BERECHNUNG!A39","v":7},{"$f":"BERECHNUNG!B39","v":-14},{"$f":"BERECHNUNG!C39","v":4},-14.066666666666666,null,null,null,null,null,null,null,null,null,null,null,null,null,null,null,null,null,"X am 0° - Meridian=",{"$f":"($V$9+((1.1574074074*10^-5)*$Y$13))","v":6.9270783543523189},"(n-ter Tag)","MIN","SEC","WAHRE ORTSZEIT AM ZIELORT (std:min:sec)"]
[{"$f":"BERECHNUNG!A40","v":8},{"$f":"BERECHNUNG!B40","v":-14},{"$f":"BERECHNUNG!C40","v":6},-14.1,null,null,null,null,null,null,null,null,null,null,null,null,null,null,null,null,"JULI","Y gleitende ZG am 0°-Meridian= ",{"$f":"(0.0043*W39^2-0.2233*W39-3.638)","v":-4.9784836140593258},"Y =",{"$f":"ROUNDDOWN(W40,0)","v":-4},{"$f":"IF(Y40>=0,ROUND(ABS(W40-Y40)*60,0),-ROUND(ABS(W40-Y40)*60,0))","v":-59},{"$f":"IF($V$8>=0,ROUNDDOWN(AA41,0),ROUNDDOWN(AA42*-1,0))","v":5},{"$f":"IF($V$8>=0,ROUNDDOWN(AB41,0),ROUNDDOWN(AB42,0))","v":24},{"$f":"IF($V$8>=0,ROUNDDOWN(AC41,0),ROUNDUP(AC42,0))","v":2},7,{"$f":"ROUNDDOWN(AE41,0)","v":10},{"$f":"ROUNDDOWN(AF41,0)","v":54},{"$f":"ROUND(AG41*60,0)","v":18}]
[{"$f":"BERECHNUNG!A41","v":9},{"$f":"BERECHNUNG!B41","v":-14},{"$f":"BERECHNUNG!C41","v":8},-14.133333333333333,null,null,null,null,null,null,null,null,null,null,null,null,null,null,null,null,null,null,null,null,null,null,{"$f":"($V$8*60*60-W40*60)/3600","v":5.4005904935676545},{"$f":"(AA41-ROUNDDOWN(AA41,0))*60","v":24.035429614059272},{"$f":"(AB41-ROUNDDOWN(AB41,0))*60","v":2.1257768435562951},null,{"$f":"($V$10*60*60-W40*60)/3600","v":10.905038666900989},{"$f":"(AE41-ROUNDDOWN(AE41,0))*60","v":54.302320014059333},{"$f":"(AF41-ROUNDDOWN(AF41,0))","v":0.30232001405933318}]
[{"$f":"BERECHNUNG!A42","v":10},{"$f":"BERECHNUNG!B42","v":-14},{"$f":"BERECHNUNG!C42","v":10},-14.166666666666666,null,null,null,null,null,null,null,null,null,null,null,null,null,null,null,null,null,null,null,null,null,null,{"$f":"(AD42/3600)","v":29.234560211111109},{"$f":"(AA42-ROUNDDOWN(AA42,0))*60","v":14.073612666666548},{"$f":"(AB42-ROUNDDOWN(AB42,0))*60","v":4.4167599999929053},{"$f":"($Z$6*3600+Y40*60+Z40)","v":105244.41675999999}]
[{"$f":"BERECHNUNG!A43","v":11},{"$f":"BERECHNUNG!B43","v":-14},{"$f":"BERECHNUNG!C43","v":10},-14.166666666666666,null,null,null,null,null,null,null,null,null,null,null,null,null,null,null,null,null,"X am 0° - Meridian=",{"$f":"($V$9+((1.1574074074*10^-5)*$Y$13))","v":6.9270783543523189},"(n-ter Tag)","MIN","SEC","WAHRE ORTSZEIT AM ZIELORT (std:min:sec)"]
[{"$f":"BERECHNUNG!A44","v":12},{"$f":"BERECHNUNG!B44","v":-14},{"$f":"BERECHNUNG!C44","v":10},-14.166666666666666,null,null,null,null,null,null,null,null,null,null,null,null,null,null,null,null,"AUGUST","Y gleitende ZG am 0°-Meridian= ",{"$f":"(0.0043*W43^2+0.067*W43-6.4196)","v":-5.7491527677908483},"Y =",{"$f":"ROUNDDOWN(W44,0)","v":-5},{"$f":"IF(Y44>=0,ROUND(ABS(W44-Y44)*60,0),-ROUND(ABS(W44-Y44)*60,0))","v":-45},{"$f":"IF($V$8>=0,ROUNDDOWN(AA45,0),ROUNDDOWN(AA46*-1,0))","v":5},{"$f":"IF($V$8>=0,ROUNDDOWN(AB45,0),ROUNDDOWN(AB46,0))","v":24},{"$f":"IF($V$8>=0,ROUNDDOWN(AC45,0),ROUNDUP(AC46,0))","v":48},8,{"$f":"ROUNDDOWN(AE45,0)","v":10},{"$f":"ROUNDDOWN(AF45,0)","v":55},{"$f":"ROUND(AG45*60,0)","v":4}]
[{"$f":"BERECHNUNG!A45","v":13},{"$f":"BERECHNUNG!B45","v":-14},{"$f":"BERECHNUNG!C45","v":9},-14.15,null,null,null,null,null,null,null,null,null,null,null,null,null,null,null,null,null,null,null,null,null,null,{"$f":"($V$8*60*60-W44*60)/3600","v":5.4134349794631795},{"$f":"(AA45-ROUNDDOWN(AA45,0))*60","v":24.806098767790772},{"$f":"(AB45-ROUNDDOWN(AB45,0))*60","v":48.36592606744631},null,{"$f":"($V$10*60*60-W44*60)/3600","v":10.917883152796515},{"$f":"(AE45-ROUNDDOWN(AE45,0))*60","v":55.072989167790887},{"$f":"(AF45-ROUNDDOWN(AF45,0))","v":7.2989167790886711E-2}]
[{"$f":"BERECHNUNG!A46","v":14},{"$f":"BERECHNUNG!B46","v":-14},{"$f":"BERECHNUNG!C46","v":7},-14.116666666666667,null,null,null,null,null,null,null,null,null,null,null,null,null,null,null,null,null,null,null,null,null,null,{"$f":"(AD46/3600)","v":29.221782433333331},{"$f":"(AA46-ROUNDDOWN(AA46,0))*60","v":13.306945999999868},{"$f":"(AB46-ROUNDDOWN(AB46,0))*60","v":18.416759999992109},{"$f":"($Z$6*3600+Y44*60+Z44)","v":105198.41675999999}]
[{"$f":"BERECHNUNG!A47","v":15},{"$f":"BERECHNUNG!B47","v":-14},{"$f":"BERECHNUNG!C47","v":5},-14.083333333333334,null,null,null,null,null,null,null,null,null,null,null,null,null,null,null,null,null,"X am 0° - Meridian=",{"$f":"($V$9+((1.1574074074*10^-5)*$Y$13))","v":6.9270783543523189},"(n-ter Tag)","MIN","SEC","WAHRE ORTSZEIT AM ZIELORT (std:min:sec)"]
[{"$f":"BERECHNUNG!A48","v":16},{"$f":"BERECHNUNG!B48","v":-14},{"$f":"BERECHNUNG!C48","v":2},-14.033333333333333,null,null,null,null,null,null,null,null,null,null,null,null,null,null,null,null,"SEPTEMBER","Y gleitende ZG am 0°-Meridian= ",{"$f":"(0.0001*W47^2+0.3466*W47-0.4511)","v":1.9546237990712474},"Y =",{"$f":"ROUNDDOWN(W48,0)","v":1},{"$f":"IF(Y48>=0,ROUND(ABS(W48-Y48)*60,0),-ROUND(ABS(W48-Y48)*60,0))","v":57},{"$f":"IF($V$8>=0,ROUNDDOWN(AA49,0),ROUNDDOWN(AA50*-1,0))","v":5},{"$f":"IF($V$8>=0,ROUNDDOWN(AB49,0),ROUNDDOWN(AB50,0))","v":17},{"$f":"IF($V$8>=0,ROUNDDOWN(AC49,0),ROUNDUP(AC50,0))","v":6},9,{"$f":"ROUNDDOWN(AE49,0)","v":10},{"$f":"ROUNDDOWN(AF49,0)","v":47},{"$f":"ROUND(AG49*60,0)","v":22}]
[{"$f":"BERECHNUNG!A49","v":17},{"$f":"BERECHNUNG!B49","v":-13},{"$f":"BERECHNUNG!C49","v":58},-13.966666666666667,null,null,null,null,null,null,null,null,null,null,null,null,null,null,null,null,null,null,null,null,null,null,{"$f":"($V$8*60*60-W48*60)/3600","v":5.2850387033488113},{"$f":"(AA49-ROUNDDOWN(AA49,0))*60","v":17.102322200928679},{"$f":"(AB49-ROUNDDOWN(AB49,0))*60","v":6.1393320557207431},null,{"$f":"($V$10*60*60-W48*60)/3600","v":10.789486876682146},{"$f":"(AE49-ROUNDDOWN(AE49,0))*60","v":47.369212600928741},{"$f":"(AF49-ROUNDDOWN(AF49,0))","v":0.36921260092874064}]
[{"$f":"BERECHNUNG!A50","v":18},{"$f":"BERECHNUNG!B50","v":-13},{"$f":"BERECHNUNG!C50","v":53},-13.883333333333333,null,null,null,null,null,null,null,null,null,null,null,null,null,null,null,null,null,null,null,null,null,null,{"$f":"(AD50/3600)","v":29.350115766666665},{"$f":"(AA50-ROUNDDOWN(AA50,0))*60","v":21.0069459999999},{"$f":"(AB50-ROUNDDOWN(AB50,0))*60","v":0.41675999999398528},{"$f":"($Z$6*3600+Y48*60+Z48)","v":105660.41675999999}]
[{"$f":"BERECHNUNG!A51","v":19},{"$f":"BERECHNUNG!B51","v":-13},{"$f":"BERECHNUNG!C51","v":48},-13.8,null,null,null,null,null,null,null,null,null,null,null,null,null,null,null,null,null,"X am 0° - Meridian=",{"$f":"($V$9+((1.1574074074*10^-5)*$Y$13))","v":6.9270783543523189},"(n-ter Tag)","MIN","SEC","WAHRE ORTSZEIT AM ZIELORT (std:min:sec)"]
[{"$f":"BERECHNUNG!A52","v":20},{"$f":"BERECHNUNG!B52","v":-13},{"$f":"BERECHNUNG!C52","v":42},-13.7,null,null,null,null,null,null,null,null,null,null,null,null,null,null,null,null,"OKTOBER","Y gleitende ZG am 0°-Meridian= ",{"$f":"(-0.0048*W51^2+0.3608*W51+9.8856)","v":12.154564680519101},"Y =",{"$f":"ROUNDDOWN(W52,0)","v":12},{"$f":"IF(Y52>=0,ROUND(ABS(W52-Y52)*60,0),-ROUND(ABS(W52-Y52)*60,0))","v":9},{"$f":"IF($V$8>=0,ROUNDDOWN(AA53,0),ROUNDDOWN(AA54*-1,0))","v":5},{"$f":"IF($V$8>=0,ROUNDDOWN(AB53,0),ROUNDDOWN(AB54,0))","v":6},{"$f":"IF($V$8>=0,ROUNDDOWN(AC53,0),ROUNDUP(AC54,0))","v":54},10,{"$f":"ROUNDDOWN(AE53,0)","v":10},{"$f":"ROUNDDOWN(AF53,0)","v":37},{"$f":"ROUND(AG53*60,0)","v":10}]
[{"$f":"BERECHNUNG!A53","v":21},{"$f":"BERECHNUNG!B53","v":-13},{"$f":"BERECHNUNG!C53","v":36},-13.6,null,null,null,null,null,null,null,null,null,null,null,null,null,null,null,null,null,null,null,null,null,null,{"$f":"($V$8*60*60-W52*60)/3600","v":5.1150396886580145},{"$f":"(AA53-ROUNDDOWN(AA53,0))*60","v":6.9023813194808703},{"$f":"(AB53-ROUNDDOWN(AB53,0))*60","v":54.142879168852218},null,{"$f":"($V$10*60*60-W52*60)/3600","v":10.619487861991347},{"$f":"(AE53-ROUNDDOWN(AE53,0))*60","v":37.169271719480825},{"$f":"(AF53-ROUNDDOWN(AF53,0))","v":0.16927171948082531}]
[{"$f":"BERECHNUNG!A54","v":22},{"$f":"BERECHNUNG!B54","v":-13},{"$f":"BERECHNUNG!C54","v":29},-13.483333333333333,null,null,null,null,null,null,null,null,null,null,null,null,null,null,null,null,null,null,null,null,null,null,{"$f":"(AD54/3600)","v":29.520115766666663},{"$f":"(AA54-ROUNDDOWN(AA54,0))*60","v":31.206945999999789},{"$f":"(AB54-ROUNDDOWN(AB54,0))*60","v":12.416759999987335},{"$f":"($Z$6*3600+Y52*60+Z52)","v":106272.41675999999}]
[{"$f":"BERECHNUNG!A55","v":23},{"$f":"BERECHNUNG!B55","v":-13},{"$f":"BERECHNUNG!C55","v":21},-13.35,null,null,null,null,null,null,null,null,null,null,null,null,null,null,null,null,null,"X am 0° - Meridian=",{"$f":"($V$9+((1.1574074074*10^-5)*$Y$13))","v":6.9270783543523189},"(n-ter Tag)","MIN","SEC","WAHRE ORTSZEIT AM ZIELORT (std:min:sec)"]
[{"$f":"BERECHNUNG!A56","v":24},{"$f":"BERECHNUNG!B56","v":-13},{"$f":"BERECHNUNG!C56","v":12},-13.2,null,null,null,null,null,null,null,null,null,null,null,null,null,null,null,null,"NOVEMBER","Y gleitende ZG am 0°-Meridian= ",{"$f":"(-0.0069*W55^2+0.0405*W55+16.386)","v":16.335454213112648},"Y =",{"$f":"ROUNDDOWN(W56,0)","v":16},{"$f":"IF(Y56>=0,ROUND(ABS(W56-Y56)*60,0),-ROUND(ABS(W56-Y56)*60,0))","v":20},{"$f":"IF($V$8>=0,ROUNDDOWN(AA57,0),ROUNDDOWN(AA58*-1,0))","v":5},{"$f":"IF($V$8>=0,ROUNDDOWN(AB57,0),ROUNDDOWN(AB58,0))","v":2},{"$f":"IF($V$8>=0,ROUNDDOWN(AC57,0),ROUNDUP(AC58,0))","v":43},11,{"$f":"ROUNDDOWN(AE57,0)","v":10},{"$f":"ROUNDDOWN(AF57,0)","v":32},{"$f":"ROUND(AG57*60,0)","v":59}]
[{"$f":"BERECHNUNG!A57","v":25},{"$f":"BERECHNUNG!B57","v":-13},{"$f":"BERECHNUNG!C57","v":3},-13.05,null,null,null,null,null,null,null,null,null,null,null,null,null,null,null,null,null,null,null,null,null,null,{"$f":"($V$8*60*60-W56*60)/3600","v":5.045358196448122},{"$f":"(AA57-ROUNDDOWN(AA57,0))*60","v":2.7214917868873201},{"$f":"(AB57-ROUNDDOWN(AB57,0))*60","v":43.289507213239204},null,{"$f":"($V$10*60*60-W56*60)/3600","v":10.549806369781454},{"$f":"(AE57-ROUNDDOWN(AE57,0))*60","v":32.988382186887222},{"$f":"(AF57-ROUNDDOWN(AF57,0))","v":0.98838218688722179}]
[{"$f":"BERECHNUNG!A58","v":26},{"$f":"BERECHNUNG!B58","v":-12},{"$f":"BERECHNUNG!C58","v":54},-12.9,null,null,null,null,null,null,null,null,null,null,null,null,null,null,null,null,null,null,null,null,null,null,{"$f":"(AD58/3600)","v":29.589837988888888},{"$f":"(AA58-ROUNDDOWN(AA58,0))*60","v":35.390279333333297},{"$f":"(AB58-ROUNDDOWN(AB58,0))*60","v":23.416759999997794},{"$f":"($Z$6*3600+Y56*60+Z56)","v":106523.41675999999}]
[{"$f":"BERECHNUNG!A59","v":27},{"$f":"BERECHNUNG!B59","v":-12},{"$f":"BERECHNUNG!C59","v":43},-12.716666666666667,null,null,null,null,null,null,null,null,null,null,null,null,null,null,null,null,null,"X am 0° - Meridian=",{"$f":"($V$9+((1.1574074074*10^-5)*$Y$13))","v":6.9270783543523189},"(n-ter Tag)","MIN","SEC","WAHRE ORTSZEIT AM ZIELORT (std:min:sec)"]
[{"$f":"BERECHNUNG!A60","v":28},{"$f":"BERECHNUNG!B60","v":-12},{"$f":"BERECHNUNG!C60","v":33},-12.55,null,null,null,null,null,null,null,null,null,null,null,null,null,null,null,null,"DEZEMBER","Y gleitende ZG am 0°-Meridian= ",{"$f":"(-0.0018*W59^2-0.413*W59+11.533)","v":8.5857446935032868},"Y =",{"$f":"ROUNDDOWN(W60,0)","v":8},{"$f":"IF(Y60>=0,ROUND(ABS(W60-Y60)*60,0),-ROUND(ABS(W60-Y60)*60,0))","v":35},{"$f":"IF($V$8>=0,ROUNDDOWN(AA61,0),ROUNDDOWN(AA62*-1,0))","v":5},{"$f":"IF($V$8>=0,ROUNDDOWN(AB61,0),ROUNDDOWN(AB62,0))","v":10},{"$f":"IF($V$8>=0,ROUNDDOWN(AC61,0),ROUNDUP(AC62,0))","v":28},12,{"$f":"ROUNDDOWN(AE61,0)","v":10},{"$f":"ROUNDDOWN(AF61,0)","v":40},{"$f":"ROUND(AG61*60,0)","v":44}]
[{"$f":"BERECHNUNG!A61","v":"März:"},null,null,"März",null,null,null,null,null,null,null,null,null,null,null,null,null,null,null,null,null,null,null,null,null,null,{"$f":"($V$8*60*60-W60*60)/3600","v":5.1745200217749447},{"$f":"(AA61-ROUNDDOWN(AA61,0))*60","v":10.471201306496685},{"$f":"(AB61-ROUNDDOWN(AB61,0))*60","v":28.272078389801081},null,{"$f":"($V$10*60*60-W60*60)/3600","v":10.678968195108277},{"$f":"(AE61-ROUNDDOWN(AE61,0))*60","v":40.73809170649664},{"$f":"(AF61-ROUNDDOWN(AF61,0))","v":0.73809170649663969}]
[{"$f":"BERECHNUNG!A62","v":1},{"$f":"BERECHNUNG!B62","v":-12},{"$f":"BERECHNUNG!C62","v":21},{"$f":"(B62-(C62/60))","v":-12.35},null,null,null,null,null,null,null,null,null,null,null,null,null,null,null,null,null,null,null,null,null,null,{"$f":"(AD62/3600)","v":29.460671322222222},{"$f":"(AA62-ROUNDDOWN(AA62,0))*60","v":27.640279333333311},{"$f":"(AB62-ROUNDDOWN(AB62,0))*60","v":38.416759999998646},{"$f":"($Z$6*3600+Y60*60+Z60)","v":106058.41675999999}]
[{"$f":"BERECHNUNG!A63","v":2},{"$f":"BERECHNUNG!B63","v":-12},{"$f":"BERECHNUNG!C63","v":10},-12.166666666666666]
[{"$f":"BERECHNUNG!A64","v":3},{"$f":"BERECHNUNG!B64","v":-11},{"$f":"BERECHNUNG!C64","v":57},-11.95]
[{"$f":"BERECHNUNG!A65","v":4},{"$f":"BERECHNUNG!B65","v":-11},{"$f":"BERECHNUNG!C65","v":44},-11.733333333333333]
[{"$f":"BERECHNUNG!A66","v":5},{"$f":"BERECHNUNG!B66","v":-11},{"$f":"BERECHNUNG!C66","v":31},-11.516666666666667]
[{"$f":"BERECHNUNG!A67","v":6},{"$f":"BERECHNUNG!B67","v":-11},{"$f":"BERECHNUNG!C67","v":17},-11.283333333333333]
[{"$f":"BERECHNUNG!A68","v":7},{"$f":"BERECHNUNG!B68","v":-11},{"$f":"BERECHNUNG!C68","v":3},-11.05]
[{"$f":"BERECHNUNG!A69","v":8},{"$f":"BERECHNUNG!B69","v":-10},{"$f":"BERECHNUNG!C69","v":49},-10.816666666666666]
[{"$f":"BERECHNUNG!A70","v":9},{"$f":"BERECHNUNG!B70","v":-10},{"$f":"BERECHNUNG!C70","v":34},-10.566666666666666]
[{"$f":"BERECHNUNG!A71","v":10},{"$f":"BERECHNUNG!B71","v":-10},{"$f":"BERECHNUNG!C71","v":19},-10.316666666666666]
[{"$f":"BERECHNUNG!A72","v":11},{"$f":"BERECHNUNG!B72","v":-10},{"$f":"BERECHNUNG!C72","v":3},-10.050000000000001]
[{"$f":"BERECHNUNG!A73","v":12},{"$f":"BERECHNUNG!B73","v":-9},{"$f":"BERECHNUNG!C73","v":47},-9.7833333333333332]
[{"$f":"BERECHNUNG!A74","v":13},{"$f":"BERECHNUNG!B74","v":-9},{"$f":"BERECHNUNG!C74","v":31},-9.5166666666666675]
[{"$f":"BERECHNUNG!A75","v":14},{"$f":"BERECHNUNG!B75","v":-9},{"$f":"BERECHNUNG!C75","v":15},-9.25]
[{"$f":"BERECHNUNG!A76","v":15},{"$f":"BERECHNUNG!B76","v":-8},{"$f":"BERECHNUNG!C76","v":58},-8.9666666666666668]
[{"$f":"BERECHNUNG!A77","v":16},{"$f":"BERECHNUNG!B77","v":-8},{"$f":"BERECHNUNG!C77","v":41},-8.6833333333333336]
[{"$f":"BERECHNUNG!A78","v":17},{"$f":"BERECHNUNG!B78","v":-8},{"$f":"BERECHNUNG!C78","v":24},-8.4]
[{"$f":"BERECHNUNG!A79","v":18},{"$f":"BERECHNUNG!B79","v":-8},{"$f":"BERECHNUNG!C79","v":7},-8.1166666666666671]
[{"$f":"BERECHNUNG!A80","v":19},{"$f":"BERECHNUNG!B80","v":-7},{"$f":"BERECHNUNG!C80","v":49},-7.8166666666666664]
[{"$f":"BERECHNUNG!A81","v":20},{"$f":"BERECHNUNG!B81","v":-7},{"$f":"BERECHNUNG!C81","v":32},-7.5333333333333332]
[{"$f":"BERECHNUNG!A82","v":21},{"$f":"BERECHNUNG!B82","v":-7},{"$f":"BERECHNUNG!C82","v":14},-7.2333333333333334]
[{"$f":"BERECHNUNG!A83","v":22},{"$f":"BERECHNUNG!B83","v":-6},{"$f":"BERECHNUNG!C83","v":57},-6.95]
[{"$f":"BERECHNUNG!A84","v":23},{"$f":"BERECHNUNG!B84","v":-6},{"$f":"BERECHNUNG!C84","v":39},-6.65]
[{"$f":"BERECHNUNG!A85","v":24},{"$f":"BERECHNUNG!B85","v":-6},{"$f":"BERECHNUNG!C85","v":21},-6.35]
[{"$f":"BERECHNUNG!A86","v":25},{"$f":"BERECHNUNG!B86","v":-6},{"$f":"BERECHNUNG!C86","v":3},-6.05]
[{"$f":"BERECHNUNG!A87","v":26},{"$f":"BERECHNUNG!B87","v":-5},{"$f":"BERECHNUNG!C87","v":45},-5.75]
[{"$f":"BERECHNUNG!A88","v":27},{"$f":"BERECHNUNG!B88","v":-5},{"$f":"BERECHNUNG!C88","v":27},-5.45]
[{"$f":"BERECHNUNG!A89","v":28},{"$f":"BERECHNUNG!B89","v":-5},{"$f":"BERECHNUNG!C89","v":9},-5.15]
[{"$f":"BERECHNUNG!A90","v":29},{"$f":"BERECHNUNG!B90","v":-4},{"$f":"BERECHNUNG!C90","v":50},-4.833333333333333]
[{"$f":"BERECHNUNG!A91","v":30},{"$f":"BERECHNUNG!B91","v":-4},{"$f":"BERECHNUNG!C91","v":32},-4.5333333333333332]
[{"$f":"BERECHNUNG!A92","v":31},{"$f":"BERECHNUNG!B92","v":-4},{"$f":"BERECHNUNG!C92","v":14},-4.2333333333333334]
[{"$f":"BERECHNUNG!A93","v":"April:"},null,null,"April"]
[{"$f":"BERECHNUNG!A94","v":1},{"$f":"BERECHNUNG!B94","v":-3},{"$f":"BERECHNUNG!C94","v":57},{"$f":"(B94-(C94/60))","v":-3.95}]
[{"$f":"BERECHNUNG!A95","v":2},{"$f":"BERECHNUNG!B95","v":-3},{"$f":"BERECHNUNG!C95","v":39},-3.65]
[{"$f":"BERECHNUNG!A96","v":3},{"$f":"BERECHNUNG!B96","v":-3},{"$f":"BERECHNUNG!C96","v":21},-3.35]
[{"$f":"BERECHNUNG!A97","v":4},{"$f":"BERECHNUNG!B97","v":-3},{"$f":"BERECHNUNG!C97","v":4},-3.0666666666666669]
[{"$f":"BERECHNUNG!A98","v":5},{"$f":"BERECHNUNG!B98","v":-2},{"$f":"BERECHNUNG!C98","v":46},-2.7666666666666666]
[{"$f":"BERECHNUNG!A99","v":6},{"$f":"BERECHNUNG!B99","v":-2},{"$f":"BERECHNUNG!C99","v":29},-2.4833333333333334]
[{"$f":"BERECHNUNG!A100","v":7},{"$f":"BERECHNUNG!B100","v":-2},{"$f":"BERECHNUNG!C100","v":12},-2.2000000000000002]
[{"$f":"BERECHNUNG!A101","v":8},{"$f":"BERECHNUNG!B101","v":-1},{"$f":"BERECHNUNG!C101","v":55},-1.9166666666666665]
[{"$f":"BERECHNUNG!A102","v":9},{"$f":"BERECHNUNG!B102","v":-1},{"$f":"BERECHNUNG!C102","v":39},-1.65]
[{"$f":"BERECHNUNG!A103","v":10},{"$f":"BERECHNUNG!B103","v":-1},{"$f":"BERECHNUNG!C103","v":22},-1.3666666666666667]
[{"$f":"BERECHNUNG!A104","v":11},{"$f":"BERECHNUNG!B104","v":-1},{"$f":"BERECHNUNG!C104","v":6},-1.1000000000000001]
[{"$f":"BERECHNUNG!A105","v":12},{"$f":"BERECHNUNG!B105","v":0},{"$f":"BERECHNUNG!C105","v":-51},0.85]
[{"$f":"BERECHNUNG!A106","v":13},{"$f":"BERECHNUNG!B106","v":0},{"$f":"BERECHNUNG!C106","v":-35},0.58333333333333337]
[{"$f":"BERECHNUNG!A107","v":14},{"$f":"BERECHNUNG!B107","v":0},{"$f":"BERECHNUNG!C107","v":-20},0.33333333333333331]
[{"$f":"BERECHNUNG!A108","v":15},{"$f":"BERECHNUNG!B108","v":0},{"$f":"BERECHNUNG!C108","v":-6},0.1]
[{"$f":"BERECHNUNG!A109","v":16},{"$f":"BERECHNUNG!B109","v":0},{"$f":"BERECHNUNG!C109","v":9},{"$f":"(B109+(C109/60))","v":0.15}]
[{"$f":"BERECHNUNG!A110","v":17},{"$f":"BERECHNUNG!B110","v":0},{"$f":"BERECHNUNG!C110","v":22},0.36666666666666664]
[{"$f":"BERECHNUNG!A111","v":18},{"$f":"BERECHNUNG!B111","v":0},{"$f":"BERECHNUNG!C111","v":36},0.6]
[{"$f":"BERECHNUNG!A112","v":19},{"$f":"BERECHNUNG!B112","v":0},{"$f":"BERECHNUNG!C112","v":49},0.81666666666666665]
[{"$f":"BERECHNUNG!A113","v":20},{"$f":"BERECHNUNG!B113","v":1},{"$f":"BERECHNUNG!C113","v":2},1.0333333333333334]
[{"$f":"BERECHNUNG!A114","v":21},{"$f":"BERECHNUNG!B114","v":1},{"$f":"BERECHNUNG!C114","v":14},1.2333333333333334]
[{"$f":"BERECHNUNG!A115","v":22},{"$f":"BERECHNUNG!B115","v":1},{"$f":"BERECHNUNG!C115","v":26},1.4333333333333333]
[{"$f":"BERECHNUNG!A116","v":23},{"$f":"BERECHNUNG!B116","v":1},{"$f":"BERECHNUNG!C116","v":37},1.6166666666666667]
[{"$f":"BERECHNUNG!A117","v":24},{"$f":"BERECHNUNG!B117","v":1},{"$f":"BERECHNUNG!C117","v":48},1.8]
[{"$f":"BERECHNUNG!A118","v":25},{"$f":"BERECHNUNG!B118","v":1},{"$f":"BERECHNUNG!C118","v":59},1.9833333333333334]
[{"$f":"BERECHNUNG!A119","v":26},{"$f":"BERECHNUNG!B119","v":2},{"$f":"BERECHNUNG!C119","v":9},2.15]
[{"$f":"BERECHNUNG!A120","v":27},{"$f":"BERECHNUNG!B120","v":2},{"$f":"BERECHNUNG!C120","v":18},2.2999999999999998]
[{"$f":"BERECHNUNG!A121","v":28},{"$f":"BERECHNUNG!B121","v":2},{"$f":"BERECHNUNG!C121","v":27},2.4500000000000002]
[{"$f":"BERECHNUNG!A122","v":29},{"$f":"BERECHNUNG!B122","v":2},{"$f":"BERECHNUNG!C122","v":36},2.6]
[{"$f":"BERECHNUNG!A123","v":30},{"$f":"BERECHNUNG!B123","v":2},{"$f":"BERECHNUNG!C123","v":44},2.7333333333333334]
[{"$f":"BERECHNUNG!A124","v":"Mai"},null,null,"Mai","Juni","Juli","August"]
[{"$f":"BERECHNUNG!A125","v":1},{"$f":"BERECHNUNG!B125","v":2},{"$f":"BERECHNUNG!C125","v":52},{"$f":"(B125+(C125/60))","v":2.8666666666666667},2.1333333333333333,-3.9,-5.6166666666666663,null,"GRAFIKEN SIEHE \"BERECHNUNG\""]
[{"$f":"BERECHNUNG!A126","v":2},{"$f":"BERECHNUNG!B126","v":2},{"$f":"BERECHNUNG!C126","v":59},2.9833333333333334,1.9833333333333334,-4.0999999999999996,-5.6833333333333336]
[{"$f":"BERECHNUNG!A127","v":3},{"$f":"BERECHNUNG!B127","v":3},{"$f":"BERECHNUNG!C127","v":5},3.0833333333333335,1.8166666666666667,-4.2833333333333332,-5.7666666666666666]
[{"$f":"BERECHNUNG!A128","v":4},{"$f":"BERECHNUNG!B128","v":3},{"$f":"BERECHNUNG!C128","v":11},3.1833333333333331,1.65,-4.4666666666666668,-5.85]
[{"$f":"BERECHNUNG!A129","v":5},{"$f":"BERECHNUNG!B129","v":3},{"$f":"BERECHNUNG!C129","v":17},3.2833333333333332,1.4666666666666668,-4.6333333333333329,-5.95]
[{"$f":"BERECHNUNG!A130","v":6},{"$f":"BERECHNUNG!B130","v":3},{"$f":"BERECHNUNG!C130","v":21},3.35,1.2833333333333332,-4.8166666666666664,-4.0666666666666664]
[{"$f":"BERECHNUNG!A131","v":7},{"$f":"BERECHNUNG!B131","v":3},{"$f":"BERECHNUNG!C131","v":26},3.4333333333333336,1.1000000000000001,-4.9666666666666668,-4.1833333333333336]
[{"$f":"BERECHNUNG!A132","v":8},{"$f":"BERECHNUNG!B132","v":3},{"$f":"BERECHNUNG!C132","v":29},3.4833333333333334,0.91666666666666663,-5.1333333333333337,-4.3166666666666664]
[{"$f":"BERECHNUNG!A133","v":9},{"$f":"BERECHNUNG!B133","v":3},{"$f":"BERECHNUNG!C133","v":32},3.5333333333333332,0.71666666666666667,-5.2833333333333332,-4.45]
[{"$f":"BERECHNUNG!A134","v":10},{"$f":"BERECHNUNG!B134","v":3},{"$f":"BERECHNUNG!C134","v":35},3.5833333333333335,0.51666666666666672,-5.416666666666667,-4.5999999999999996]
[{"$f":"BERECHNUNG!A135","v":11},{"$f":"BERECHNUNG!B135","v":3},{"$f":"BERECHNUNG!C135","v":37},3.6166666666666667,0.31666666666666665,-5.55,-4.75]
[{"$f":"BERECHNUNG!A136","v":12},{"$f":"BERECHNUNG!B136","v":3},{"$f":"BERECHNUNG!C136","v":38},3.6333333333333333,0.11666666666666667,-5.6833333333333336,-4.9333333333333336]
[{"$f":"BERECHNUNG!A137","v":13},{"$f":"BERECHNUNG!B137","v":3},{"$f":"BERECHNUNG!C137","v":39},3.65,-8.3333333333333329E-2,-5.8,-3.1]
[{"$f":"BERECHNUNG!A138","v":14},{"$f":"BERECHNUNG!B138","v":3},{"$f":"BERECHNUNG!C138","v":39},3.65,-0.3,-5.916666666666667,-3.2833333333333332]
[{"$f":"BERECHNUNG!A139","v":15},{"$f":"BERECHNUNG!B139","v":3},{"$f":"BERECHNUNG!C139","v":39},3.65,-0.51666666666666672,-6.0166666666666666,-3.4833333333333334]
[{"$f":"BERECHNUNG!A140","v":16},{"$f":"BERECHNUNG!B140","v":3},{"$f":"BERECHNUNG!C140","v":38},3.6333333333333333,-0.73333333333333328,-5.1166666666666663,-3.6833333333333336]
[{"$f":"BERECHNUNG!A141","v":17},{"$f":"BERECHNUNG!B141","v":3},{"$f":"BERECHNUNG!C141","v":36},3.6,-0.93333333333333335,-6.2,-3.9]
[{"$f":"BERECHNUNG!A142","v":18},{"$f":"BERECHNUNG!B142","v":3},{"$f":"BERECHNUNG!C142","v":33},3.55,-1.1499999999999999,-6.2666666666666666,-2.1166666666666667]
[{"$f":"BERECHNUNG!A143","v":19},{"$f":"BERECHNUNG!B143","v":3},{"$f":"BERECHNUNG!C143","v":31},3.5166666666666666,-1.3666666666666667,-6.333333333333333,-2.35]
[{"$f":"BERECHNUNG!A144","v":20},{"$f":"BERECHNUNG!B144","v":3},{"$f":"BERECHNUNG!C144","v":28},3.4666666666666668,-1.5833333333333335,-6.4,-2.5833333333333335]
[{"$f":"BERECHNUNG!A145","v":21},{"$f":"BERECHNUNG!B145","v":3},{"$f":"BERECHNUNG!C145","v":24},3.4,-1.8166666666666667,-6.45,-2.8333333333333335]
[{"$f":"BERECHNUNG!A146","v":22},{"$f":"BERECHNUNG!B146","v":3},{"$f":"BERECHNUNG!C146","v":20},3.3333333333333335,-2.0333333333333332,-6.5,-1.0833333333333335]
[{"$f":"BERECHNUNG!A147","v":23},{"$f":"BERECHNUNG!B147","v":3},{"$f":"BERECHNUNG!C147","v":15},3.25,-2.25,-6.5333333333333332,-1.3333333333333335]
[{"$f":"BERECHNUNG!A148","v":24},{"$f":"BERECHNUNG!B148","v":3},{"$f":"BERECHNUNG!C148","v":10},3.1666666666666665,-2.4666666666666668,-6.55,-1.6]
[{"$f":"BERECHNUNG!A149","v":25},{"$f":"BERECHNUNG!B149","v":3},{"$f":"BERECHNUNG!C149","v":4},3.0666666666666669,-2.6666666666666665,-6.5666666666666664,-1.8833333333333333]
[{"$f":"BERECHNUNG!A150","v":26},{"$f":"BERECHNUNG!B150","v":2},{"$f":"BERECHNUNG!C150","v":58},2.9666666666666668,-2.8833333333333333,-6.5666666666666664,-0.15000000000000002]
[{"$f":"BERECHNUNG!A151","v":27},{"$f":"BERECHNUNG!B151","v":2},{"$f":"BERECHNUNG!C151","v":51},2.85,-3.1,-6.5666666666666664,-0.43333333333333335]
[{"$f":"BERECHNUNG!A152","v":28},{"$f":"BERECHNUNG!B152","v":2},{"$f":"BERECHNUNG!C152","v":44},2.7333333333333334,-3.3,-6.55,-0.73333333333333339]
[{"$f":"BERECHNUNG!A153","v":29},{"$f":"BERECHNUNG!B153","v":2},{"$f":"BERECHNUNG!C153","v":36},2.6,-3.5,-6.5166666666666666,-0.96666666666666667]
[{"$f":"BERECHNUNG!A154","v":30},{"$f":"BERECHNUNG!B154","v":2},{"$f":"BERECHNUNG!C154","v":28},2.4666666666666668,-3.7,-6.4833333333333334,-0.66666666666666663]
[{"$f":"BERECHNUNG!A155","v":31},{"$f":"BERECHNUNG!B155","v":2},{"$f":"BERECHNUNG!C155","v":20},2.3333333333333335,null,-6.4333333333333336,-0.35]
[{"$f":"BERECHNUNG!A156","v":"Juni"},null,null,"Juni"]
[{"$f":"BERECHNUNG!A157","v":1},{"$f":"BERECHNUNG!B157","v":2},{"$f":"BERECHNUNG!C157","v":11},{"$f":"(B157+(C157/60))","v":2.1833333333333331}]
[{"$f":"BERECHNUNG!A158","v":2},{"$f":"BERECHNUNG!B158","v":2},{"$f":"BERECHNUNG!C158","v":2},2.0333333333333332]
[{"$f":"BERECHNUNG!A159","v":3},{"$f":"BERECHNUNG!B159","v":1},{"$f":"BERECHNUNG!C159","v":52},1.8666666666666667]
[{"$f":"BERECHNUNG!A160","v":4},{"$f":"BERECHNUNG!B160","v":1},{"$f":"BERECHNUNG!C160","v":42},1.7]
[{"$f":"BERECHNUNG!A161","v":5},{"$f":"BERECHNUNG!B161","v":1},{"$f":"BERECHNUNG!C161","v":32},1.5333333333333332]
[{"$f":"BERECHNUNG!A162","v":6},{"$f":"BERECHNUNG!B162","v":1},{"$f":"BERECHNUNG!C162","v":21},1.35]
[{"$f":"BERECHNUNG!A163","v":7},{"$f":"BERECHNUNG!B163","v":1},{"$f":"BERECHNUNG!C163","v":10},1.1666666666666667]
[{"$f":"BERECHNUNG!A164","v":8},{"$f":"BERECHNUNG!B164","v":0},{"$f":"BERECHNUNG!C164","v":59},0.98333333333333328]
[{"$f":"BERECHNUNG!A165","v":9},{"$f":"BERECHNUNG!B165","v":0},{"$f":"BERECHNUNG!C165","v":47},0.78333333333333333]
[{"$f":"BERECHNUNG!A166","v":10},{"$f":"BERECHNUNG!B166","v":0},{"$f":"BERECHNUNG!C166","v":35},0.58333333333333337]
[{"$f":"BERECHNUNG!A167","v":11},{"$f":"BERECHNUNG!B167","v":0},{"$f":"BERECHNUNG!C167","v":23},0.38333333333333336]
[{"$f":"BERECHNUNG!A168","v":12},{"$f":"BERECHNUNG!B168","v":0},{"$f":"BERECHNUNG!C168","v":11},0.18333333333333332]
[{"$f":"BERECHNUNG!A169","v":13},{"$f":"BERECHNUNG!B169","v":0},{"$f":"BERECHNUNG!C169","v":-2},{"$f":"-(B169-(C169/60))","v":-3.3333333333333333E-2}]
[{"$f":"BERECHNUNG!A170","v":14},{"$f":"BERECHNUNG!B170","v":0},{"$f":"BERECHNUNG!C170","v":-14},{"$f":"-(B170-(C170/60))","v":-0.23333333333333334}]
[{"$f":"BERECHNUNG!A171","v":15},{"$f":"BERECHNUNG!B171","v":0},{"$f":"BERECHNUNG!C171","v":-27},{"$f":"-(B171-(C171/60))","v":-0.45}]
[{"$f":"BERECHNUNG!A172","v":16},{"$f":"BERECHNUNG!B172","v":0},{"$f":"BERECHNUNG!C172","v":-40},{"$f":"-(B172-(C172/60))","v":-0.66666666666666663}]
[{"$f":"BERECHNUNG!A173","v":17},{"$f":"BERECHNUNG!B173","v":0},{"$f":"BERECHNUNG!C173","v":-53},{"$f":"-(B173-(C173/60))","v":-0.8833333333333333}]
[{"$f":"BERECHNUNG!A174","v":18},{"$f":"BERECHNUNG!B174","v":-1},{"$f":"BERECHNUNG!C174","v":6},{"$f":"(B174-(C174/60))","v":-1.1000000000000001}]
[{"$f":"BERECHNUNG!A175","v":19},{"$f":"BERECHNUNG!B175","v":-1},{"$f":"BERECHNUNG!C175","v":20},-1.3333333333333333]
[{"$f":"BERECHNUNG!A176","v":20},{"$f":"BERECHNUNG!B176","v":-1},{"$f":"BERECHNUNG!C176","v":33},-1.55]
[{"$f":"BERECHNUNG!A177","v":21},{"$f":"BERECHNUNG!B177","v":-1},{"$f":"BERECHNUNG!C177","v":46},-1.7666666666666666]
[{"$f":"BERECHNUNG!A178","v":22},{"$f":"BERECHNUNG!B178","v":-1},{"$f":"BERECHNUNG!C178","v":59},-1.9833333333333334]
[{"$f":"BERECHNUNG!A179","v":23},{"$f":"BERECHNUNG!B179","v":-2},{"$f":"BERECHNUNG!C179","v":12},-2.2000000000000002]
[{"$f":"BERECHNUNG!A180","v":24},{"$f":"BERECHNUNG!B180","v":-2},{"$f":"BERECHNUNG!C180","v":25},-2.4166666666666665]
[{"$f":"BERECHNUNG!A181","v":25},{"$f":"BERECHNUNG!B181","v":-2},{"$f":"BERECHNUNG!C181","v":38},-2.6333333333333333]
[{"$f":"BERECHNUNG!A182","v":26},{"$f":"BERECHNUNG!B182","v":-2},{"$f":"BERECHNUNG!C182","v":51},-2.85]
[{"$f":"BERECHNUNG!A183","v":27},{"$f":"BERECHNUNG!B183","v":-3},{"$f":"BERECHNUNG!C183","v":3},-3.05]
[{"$f":"BERECHNUNG!A184","v":28},{"$f":"BERECHNUNG!B184","v":-3},{"$f":"BERECHNUNG!C184","v":16},-3.2666666666666666]
[{"$f":"BERECHNUNG!A185","v":29},{"$f":"BERECHNUNG!B185","v":-3},{"$f":"BERECHNUNG!C185","v":28},-3.4666666666666668]
[{"$f":"BERECHNUNG!A186","v":30},{"$f":"BERECHNUNG!B186","v":-3},{"$f":"BERECHNUNG!C186","v":40},-3.6666666666666665]
[{"$f":"BERECHNUNG!A187","v":"Juli"},null,null,"Juli"]
[{"$f":"BERECHNUNG!A188","v":1},{"$f":"BERECHNUNG!B188","v":-3},{"$f":"BERECHNUNG!C188","v":51},{"$f":"(B188-(C188/60))","v":-3.85}]
[{"$f":"BERECHNUNG!A189","v":2},{"$f":"BERECHNUNG!B189","v":-4},{"$f":"BERECHNUNG!C189","v":3},{"$f":"(B189-(C189/60))","v":-4.05}]
[{"$f":"BERECHNUNG!A190","v":3},{"$f":"BERECHNUNG!B190","v":-4},{"$f":"BERECHNUNG!C190","v":14},-4.2333333333333334]
[{"$f":"BERECHNUNG!A191","v":4},{"$f":"BERECHNUNG!B191","v":-4},{"$f":"BERECHNUNG!C191","v":25},-4.416666666666667]
[{"$f":"BERECHNUNG!A192","v":5},{"$f":"BERECHNUNG!B192","v":-4},{"$f":"BERECHNUNG!C192","v":35},-4.583333333333333]
[{"$f":"BERECHNUNG!A193","v":6},{"$f":"BERECHNUNG!B193","v":-4},{"$f":"BERECHNUNG!C193","v":45},-4.75]
[{"$f":"BERECHNUNG!A194","v":7},{"$f":"BERECHNUNG!B194","v":-4},{"$f":"BERECHNUNG!C194","v":55},-4.916666666666667]
[{"$f":"BERECHNUNG!A195","v":8},{"$f":"BERECHNUNG!B195","v":-5},{"$f":"BERECHNUNG!C195","v":4},-5.0666666666666664]
[{"$f":"BERECHNUNG!A196","v":9},{"$f":"BERECHNUNG!B196","v":-5},{"$f":"BERECHNUNG!C196","v":14},-5.2333333333333334]
[{"$f":"BERECHNUNG!A197","v":10},{"$f":"BERECHNUNG!B197","v":-5},{"$f":"BERECHNUNG!C197","v":22},-5.3666666666666663]
[{"$f":"BERECHNUNG!A198","v":11},{"$f":"BERECHNUNG!B198","v":-5},{"$f":"BERECHNUNG!C198","v":31},-5.5166666666666666]
[{"$f":"BERECHNUNG!A199","v":12},{"$f":"BERECHNUNG!B199","v":-5},{"$f":"BERECHNUNG!C199","v":38},-5.6333333333333329]
[{"$f":"BERECHNUNG!A200","v":13},{"$f":"BERECHNUNG!B200","v":-5},{"$f":"BERECHNUNG!C200","v":46},-5.7666666666666666]
[{"$f":"BERECHNUNG!A201","v":14},{"$f":"BERECHNUNG!B201","v":-5},{"$f":"BERECHNUNG!C201","v":53},-5.8833333333333329]
[{"$f":"BERECHNUNG!A202","v":15},{"$f":"BERECHNUNG!B202","v":-5},{"$f":"BERECHNUNG!C202","v":59},-5.9833333333333334]
[{"$f":"BERECHNUNG!A203","v":16},{"$f":"BERECHNUNG!B203","v":-6},{"$f":"BERECHNUNG!C203","v":5},-6.083333333333333]
[{"$f":"BERECHNUNG!A204","v":17},{"$f":"BERECHNUNG!B204","v":-6},{"$f":"BERECHNUNG!C204","v":11},-6.1833333333333336]
[{"$f":"BERECHNUNG!A205","v":18},{"$f":"BERECHNUNG!B205","v":-6},{"$f":"BERECHNUNG!C205","v":16},-6.2666666666666666]
[{"$f":"BERECHNUNG!A206","v":19},{"$f":"BERECHNUNG!B206","v":-6},{"$f":"BERECHNUNG!C206","v":20},-6.333333333333333]
[{"$f":"BERECHNUNG!A207","v":20},{"$f":"BERECHNUNG!B207","v":-6},{"$f":"BERECHNUNG!C207","v":24},-6.4]
[{"$f":"BERECHNUNG!A208","v":21},{"$f":"BERECHNUNG!B208","v":-6},{"$f":"BERECHNUNG!C208","v":27},-6.45]
[{"$f":"BERECHNUNG!A209","v":22},{"$f":"BERECHNUNG!B209","v":-6},{"$f":"BERECHNUNG!C209","v":30},-6.5]
[{"$f":"BERECHNUNG!A210","v":23},{"$f":"BERECHNUNG!B210","v":-6},{"$f":"BERECHNUNG!C210","v":32},-6.5333333333333332]
[{"$f":"BERECHNUNG!A211","v":24},{"$f":"BERECHNUNG!B211","v":-6},{"$f":"BERECHNUNG!C211","v":33},-6.55]
[{"$f":"BERECHNUNG!A212","v":25},{"$f":"BERECHNUNG!B212","v":-6},{"$f":"BERECHNUNG!C212","v":34},-6.5666666666666664]
[{"$f":"BERECHNUNG!A213","v":26},{"$f":"BERECHNUNG!B213","v":-6},{"$f":"BERECHNUNG!C213","v":34},-6.5666666666666664]
[{"$f":"BERECHNUNG!A214","v":27},{"$f":"BERECHNUNG!B214","v":-6},{"$f":"BERECHNUNG!C214","v":34},-6.5666666666666664]
[{"$f":"BERECHNUNG!A215","v":28},{"$f":"BERECHNUNG!B215","v":-6},{"$f":"BERECHNUNG!C215","v":33},-6.55]
[{"$f":"BERECHNUNG!A216","v":29},{"$f":"BERECHNUNG!B216","v":-6},{"$f":"BERECHNUNG!C216","v":32},-6.5333333333333332]
[{"$f":"BERECHNUNG!A217","v":30},{"$f":"BERECHNUNG!B217","v":-6},{"$f":"BERECHNUNG!C217","v":29},-6.4833333333333334]
[{"$f":"BERECHNUNG!A218","v":31},{"$f":"BERECHNUNG!B218","v":-6},{"$f":"BERECHNUNG!C218","v":27},-6.45]
[{"$f":"BERECHNUNG!A219","v":"August"},null,null,"August"]
[{"$f":"BERECHNUNG!A220","v":1},{"$f":"BERECHNUNG!B220","v":-6},{"$f":"BERECHNUNG!C220","v":23},{"$f":"(B220+(C220/60))","v":-5.6166666666666663}]
[{"$f":"BERECHNUNG!A221","v":2},{"$f":"BERECHNUNG!B221","v":-6},{"$f":"BERECHNUNG!C221","v":19},-5.6833333333333336]
[{"$f":"BERECHNUNG!A222","v":3},{"$f":"BERECHNUNG!B222","v":-6},{"$f":"BERECHNUNG!C222","v":14},-5.7666666666666666]
[{"$f":"BERECHNUNG!A223","v":4},{"$f":"BERECHNUNG!B223","v":-6},{"$f":"BERECHNUNG!C223","v":9},-5.85]
[{"$f":"BERECHNUNG!A224","v":5},{"$f":"BERECHNUNG!B224","v":-6},{"$f":"BERECHNUNG!C224","v":3},-5.95]
[{"$f":"BERECHNUNG!A225","v":6},{"$f":"BERECHNUNG!B225","v":-5},{"$f":"BERECHNUNG!C225","v":57},-4.05]
[{"$f":"BERECHNUNG!A226","v":7},{"$f":"BERECHNUNG!B226","v":-5},{"$f":"BERECHNUNG!C226","v":50},-4.166666666666667]
[{"$f":"BERECHNUNG!A227","v":8},{"$f":"BERECHNUNG!B227","v":-5},{"$f":"BERECHNUNG!C227","v":42},-4.3]
[{"$f":"BERECHNUNG!A228","v":9},{"$f":"BERECHNUNG!B228","v":-5},{"$f":"BERECHNUNG!C228","v":34},-4.4333333333333336]
[{"$f":"BERECHNUNG!A229","v":10},{"$f":"BERECHNUNG!B229","v":-5},{"$f":"BERECHNUNG!C229","v":25},-4.583333333333333]
[{"$f":"BERECHNUNG!A230","v":11},{"$f":"BERECHNUNG!B230","v":-5},{"$f":"BERECHNUNG!C230","v":16},-4.7333333333333334]
[{"$f":"BERECHNUNG!A231","v":12},{"$f":"BERECHNUNG!B231","v":-5},{"$f":"BERECHNUNG!C231","v":6},-4.9000000000000004]
[{"$f":"BERECHNUNG!A232","v":13},{"$f":"BERECHNUNG!B232","v":-4},{"$f":"BERECHNUNG!C232","v":56},-3.0666666666666664]
[{"$f":"BERECHNUNG!A233","v":14},{"$f":"BERECHNUNG!B233","v":-4},{"$f":"BERECHNUNG!C233","v":45},-3.25]
[{"$f":"BERECHNUNG!A234","v":15},{"$f":"BERECHNUNG!B234","v":-4},{"$f":"BERECHNUNG!C234","v":34},-3.4333333333333336]
[{"$f":"BERECHNUNG!A235","v":16},{"$f":"BERECHNUNG!B235","v":-4},{"$f":"BERECHNUNG!C235","v":22},-3.6333333333333333]
[{"$f":"BERECHNUNG!A236","v":17},{"$f":"BERECHNUNG!B236","v":-4},{"$f":"BERECHNUNG!C236","v":9},-3.85]
[{"$f":"BERECHNUNG!A237","v":18},{"$f":"BERECHNUNG!B237","v":-3},{"$f":"BERECHNUNG!C237","v":56},-2.0666666666666664]
[{"$f":"BERECHNUNG!A238","v":19},{"$f":"BERECHNUNG!B238","v":-3},{"$f":"BERECHNUNG!C238","v":43},-2.2833333333333332]
[{"$f":"BERECHNUNG!A239","v":20},{"$f":"BERECHNUNG!B239","v":-3},{"$f":"BERECHNUNG!C239","v":29},-2.5166666666666666]
[{"$f":"BERECHNUNG!A240","v":21},{"$f":"BERECHNUNG!B240","v":-3},{"$f":"BERECHNUNG!C240","v":14},-2.7666666666666666]
[{"$f":"BERECHNUNG!A241","v":22},{"$f":"BERECHNUNG!B241","v":-2},{"$f":"BERECHNUNG!C241","v":59},-1.0166666666666666]
[{"$f":"BERECHNUNG!A242","v":23},{"$f":"BERECHNUNG!B242","v":-2},{"$f":"BERECHNUNG!C242","v":44},-1.2666666666666666]
[{"$f":"BERECHNUNG!A243","v":24},{"$f":"BERECHNUNG!B243","v":-2},{"$f":"BERECHNUNG!C243","v":28},-1.5333333333333332]
[{"$f":"BERECHNUNG!A244","v":25},{"$f":"BERECHNUNG!B244","v":-2},{"$f":"BERECHNUNG!C244","v":12},-1.8]
[{"$f":"BERECHNUNG!A245","v":26},{"$f":"BERECHNUNG!B245","v":-1},{"$f":"BERECHNUNG!C245","v":55},-8.333333333333337E-2]
[{"$f":"BERECHNUNG!A246","v":27},{"$f":"BERECHNUNG!B246","v":-1},{"$f":"BERECHNUNG!C246","v":38},-0.3666666666666667]
[{"$f":"BERECHNUNG!A247","v":28},{"$f":"BERECHNUNG!B247","v":-1},{"$f":"BERECHNUNG!C247","v":20},-0.66666666666666674]
[{"$f":"BERECHNUNG!A248","v":29},{"$f":"BERECHNUNG!B248","v":-1},{"$f":"BERECHNUNG!C248","v":2},-0.96666666666666667]
[{"$f":"BERECHNUNG!A249","v":30},{"$f":"BERECHNUNG!B249","v":0},{"$f":"BERECHNUNG!C249","v":-44},-0.73333333333333328]
[{"$f":"BERECHNUNG!A250","v":31},{"$f":"BERECHNUNG!B250","v":0},{"$f":"BERECHNUNG!C250","v":-25},-0.41666666666666669]
[{"$f":"BERECHNUNG!A251","v":"September"},null,null,"September","Oktober","November","Dezember"]
[{"$f":"BERECHNUNG!A252","v":1},{"$f":"BERECHNUNG!B252","v":0},{"$f":"BERECHNUNG!C252","v":-6},{"$f":"(B252+(C252/60))","v":-0.1},10.316666666666666,16.416666666666668,11.016666666666667,null,"GRAFIKEN SIEHE \"BERECHNUNG\""]
[{"$f":"BERECHNUNG!A253","v":2},{"$f":"BERECHNUNG!B253","v":0},{"$f":"BERECHNUNG!C253","v":13},0.21666666666666667,10.633333333333333,16.433333333333334,10.633333333333333]
[{"$f":"BERECHNUNG!A254","v":3},{"$f":"BERECHNUNG!B254","v":0},{"$f":"BERECHNUNG!C254","v":33},0.55000000000000004,10.95,16.433333333333334,10.25]
[{"$f":"BERECHNUNG!A255","v":4},{"$f":"BERECHNUNG!B255","v":0},{"$f":"BERECHNUNG!C255","v":52},0.8666666666666667,11.266666666666667,16.433333333333334,9.85]
[{"$f":"BERECHNUNG!A256","v":5},{"$f":"BERECHNUNG!B256","v":1},{"$f":"BERECHNUNG!C256","v":12},1.2,11.566666666666666,16.416666666666668,9.4333333333333336]
[{"$f":"BERECHNUNG!A257","v":6},{"$f":"BERECHNUNG!B257","v":1},{"$f":"BERECHNUNG!C257","v":33},1.55,11.866666666666667,16.383333333333333,9.0166666666666675]
[{"$f":"BERECHNUNG!A258","v":7},{"$f":"BERECHNUNG!B258","v":1},{"$f":"BERECHNUNG!C258","v":53},1.8833333333333333,12.15,16.333333333333332,8.6]
[{"$f":"BERECHNUNG!A259","v":8},{"$f":"BERECHNUNG!B259","v":2},{"$f":"BERECHNUNG!C259","v":14},2.2333333333333334,12.433333333333334,16.266666666666666,8.1666666666666661]
[{"$f":"BERECHNUNG!A260","v":9},{"$f":"BERECHNUNG!B260","v":2},{"$f":"BERECHNUNG!C260","v":34},2.5666666666666664,12.716666666666667,16.2,7.7333333333333334]
[{"$f":"BERECHNUNG!A261","v":10},{"$f":"BERECHNUNG!B261","v":2},{"$f":"BERECHNUNG!C261","v":55},2.9166666666666665,12.983333333333333,16.100000000000001,7.2833333333333332]
[{"$f":"BERECHNUNG!A262","v":11},{"$f":"BERECHNUNG!B262","v":3},{"$f":"BERECHNUNG!C262","v":16},3.2666666666666666,13.25,16,6.8166666666666664]
[{"$f":"BERECHNUNG!A263","v":12},{"$f":"BERECHNUNG!B263","v":3},{"$f":"BERECHNUNG!C263","v":37},3.6166666666666667,13.5,15.883333333333333,6.3666666666666663]
[{"$f":"BERECHNUNG!A264","v":13},{"$f":"BERECHNUNG!B264","v":3},{"$f":"BERECHNUNG!C264","v":59},3.9833333333333334,13.75,15.75,5.8833333333333329]
[{"$f":"BERECHNUNG!A265","v":14},{"$f":"BERECHNUNG!B265","v":4},{"$f":"BERECHNUNG!C265","v":20},4.333333333333333,13.983333333333333,15.6,5.416666666666667]
[{"$f":"BERECHNUNG!A266","v":15},{"$f":"BERECHNUNG!B266","v":4},{"$f":"BERECHNUNG!C266","v":41},4.6833333333333336,14.216666666666667,15.433333333333334,4.9333333333333336]
[{"$f":"BERECHNUNG!A267","v":16},{"$f":"BERECHNUNG!B267","v":5},{"$f":"BERECHNUNG!C267","v":2},5.0333333333333332,14.433333333333334,15.266666666666667,4.45]
[{"$f":"BERECHNUNG!A268","v":17},{"$f":"BERECHNUNG!B268","v":5},{"$f":"BERECHNUNG!C268","v":24},5.4,14.65,15.066666666666666,3.9666666666666668]
[{"$f":"BERECHNUNG!A269","v":18},{"$f":"BERECHNUNG!B269","v":5},{"$f":"BERECHNUNG!C269","v":45},5.75,14.85,14.866666666666667,3.4833333333333334]
[{"$f":"BERECHNUNG!A270","v":19},{"$f":"BERECHNUNG!B270","v":6},{"$f":"BERECHNUNG!C270","v":7},6.1166666666666663,15.033333333333333,14.65,2.9833333333333334]
[{"$f":"BERECHNUNG!A271","v":20},{"$f":"BERECHNUNG!B271","v":6},{"$f":"BERECHNUNG!C271","v":28},6.4666666666666668,15.2,14.416666666666666,2.4833333333333334]
[{"$f":"BERECHNUNG!A272","v":21},{"$f":"BERECHNUNG!B272","v":6},{"$f":"BERECHNUNG!C272","v":49},6.8166666666666664,15.366666666666667,14.166666666666666,1.9833333333333334]
[{"$f":"BERECHNUNG!A273","v":22},{"$f":"BERECHNUNG!B273","v":7},{"$f":"BERECHNUNG!C273","v":11},7.1833333333333336,15.533333333333333,13.916666666666666,1.5]
[{"$f":"BERECHNUNG!A274","v":23},{"$f":"BERECHNUNG!B274","v":7},{"$f":"BERECHNUNG!C274","v":32},7.5333333333333332,15.666666666666666,13.633333333333333,1]
[{"$f":"BERECHNUNG!A275","v":24},{"$f":"BERECHNUNG!B275","v":7},{"$f":"BERECHNUNG!C275","v":53},7.8833333333333329,15.8,13.35,0.5]
[{"$f":"BERECHNUNG!A276","v":25},{"$f":"BERECHNUNG!B276","v":8},{"$f":"BERECHNUNG!C276","v":14},8.2333333333333325,15.916666666666666,13.05,0]
[{"$f":"BERECHNUNG!A277","v":26},{"$f":"BERECHNUNG!B277","v":8},{"$f":"BERECHNUNG!C277","v":34},8.5666666666666664,16.033333333333335,12.75,0.5]
[{"$f":"BERECHNUNG!A278","v":27},{"$f":"BERECHNUNG!B278","v":8},{"$f":"BERECHNUNG!C278","v":55},8.9166666666666661,16.116666666666667,12.416666666666666,-1]
[{"$f":"BERECHNUNG!A279","v":28},{"$f":"BERECHNUNG!B279","v":9},{"$f":"BERECHNUNG!C279","v":15},9.25,16.2,12.083333333333334,-1.4833333333333334]
[{"$f":"BERECHNUNG!A280","v":29},{"$f":"BERECHNUNG!B280","v":9},{"$f":"BERECHNUNG!C280","v":36},9.6,16.283333333333335,11.733333333333333,-1.9666666666666668]
[{"$f":"BERECHNUNG!A281","v":30},{"$f":"BERECHNUNG!B281","v":9},{"$f":"BERECHNUNG!C281","v":56},9.9333333333333336,16.333333333333332,11.383333333333333,-2.4500000000000002]
[{"$f":"BERECHNUNG!A282","v":31},null,null,null,16.383333333333333,null,-2.9333333333333336]
[{"$f":"BERECHNUNG!A283","v":"Oktober"},{"$f":"BERECHNUNG!B283","v":0},{"$f":"BERECHNUNG!C283","v":0},"Oktober"]
[{"$f":"BERECHNUNG!A284","v":1},{"$f":"BERECHNUNG!B284","v":10},{"$f":"BERECHNUNG!C284","v":15},{"$f":"(B284+(C284/60))","v":10.25}]
[{"$f":"BERECHNUNG!A285","v":2},{"$f":"BERECHNUNG!B285","v":10},{"$f":"BERECHNUNG!C285","v":35},10.583333333333334]
[{"$f":"BERECHNUNG!A286","v":3},{"$f":"BERECHNUNG!B286","v":10},{"$f":"BERECHNUNG!C286","v":54},10.9]
[{"$f":"BERECHNUNG!A287","v":4},{"$f":"BERECHNUNG!B287","v":11},{"$f":"BERECHNUNG!C287","v":12},11.2]
[{"$f":"BERECHNUNG!A288","v":5},{"$f":"BERECHNUNG!B288","v":11},{"$f":"BERECHNUNG!C288","v":31},11.516666666666667]
[{"$f":"BERECHNUNG!A289","v":6},{"$f":"BERECHNUNG!B289","v":11},{"$f":"BERECHNUNG!C289","v":49},11.816666666666666]
[{"$f":"BERECHNUNG!A290","v":7},{"$f":"BERECHNUNG!B290","v":12},{"$f":"BERECHNUNG!C290","v":6},12.1]
[{"$f":"BERECHNUNG!A291","v":8},{"$f":"BERECHNUNG!B291","v":12},{"$f":"BERECHNUNG!C291","v":23},12.383333333333333]
[{"$f":"BERECHNUNG!A292","v":9},{"$f":"BERECHNUNG!B292","v":12},{"$f":"BERECHNUNG!C292","v":40},12.666666666666666]
[{"$f":"BERECHNUNG!A293","v":10},{"$f":"BERECHNUNG!B293","v":12},{"$f":"BERECHNUNG!C293","v":56},12.933333333333334]
[{"$f":"BERECHNUNG!A294","v":11},{"$f":"BERECHNUNG!B294","v":13},{"$f":"BERECHNUNG!C294","v":12},13.2]
[{"$f":"BERECHNUNG!A295","v":12},{"$f":"BERECHNUNG!B295","v":13},{"$f":"BERECHNUNG!C295","v":27},13.45]
[{"$f":"BERECHNUNG!A296","v":13},{"$f":"BERECHNUNG!B296","v":13},{"$f":"BERECHNUNG!C296","v":42},13.7]
[{"$f":"BERECHNUNG!A297","v":14},{"$f":"BERECHNUNG!B297","v":13},{"$f":"BERECHNUNG!C297","v":56},13.933333333333334]
[{"$f":"BERECHNUNG!A298","v":15},{"$f":"BERECHNUNG!B298","v":14},{"$f":"BERECHNUNG!C298","v":10},14.166666666666666]
[{"$f":"BERECHNUNG!A299","v":16},{"$f":"BERECHNUNG!B299","v":14},{"$f":"BERECHNUNG!C299","v":23},14.383333333333333]
[{"$f":"BERECHNUNG!A300","v":17},{"$f":"BERECHNUNG!B300","v":14},{"$f":"BERECHNUNG!C300","v":35},14.583333333333334]
[{"$f":"BERECHNUNG!A301","v":18},{"$f":"BERECHNUNG!B301","v":14},{"$f":"BERECHNUNG!C301","v":47},14.783333333333333]
[{"$f":"BERECHNUNG!A302","v":19},{"$f":"BERECHNUNG!B302","v":14},{"$f":"BERECHNUNG!C302","v":59},14.983333333333333]
[{"$f":"BERECHNUNG!A303","v":20},{"$f":"BERECHNUNG!B303","v":15},{"$f":"BERECHNUNG!C303","v":10},15.166666666666666]
[{"$f":"BERECHNUNG!A304","v":21},{"$f":"BERECHNUNG!B304","v":15},{"$f":"BERECHNUNG!C304","v":20},15.333333333333334]
[{"$f":"BERECHNUNG!A305","v":22},{"$f":"BERECHNUNG!B305","v":15},{"$f":"BERECHNUNG!C305","v":29},15.483333333333333]
[{"$f":"BERECHNUNG!A306","v":23},{"$f":"BERECHNUNG!B306","v":15},{"$f":"BERECHNUNG!C306","v":38},15.633333333333333]
[{"$f":"BERECHNUNG!A307","v":24},{"$f":"BERECHNUNG!B307","v":15},{"$f":"BERECHNUNG!C307","v":46},15.766666666666667]
[{"$f":"BERECHNUNG!A308","v":25},{"$f":"BERECHNUNG!B308","v":15},{"$f":"BERECHNUNG!C308","v":54},15.9]
[{"$f":"BERECHNUNG!A309","v":26},{"$f":"BERECHNUNG!B309","v":16},{"$f":"BERECHNUNG!C309","v":0},16]
[{"$f":"BERECHNUNG!A310","v":27},{"$f":"BERECHNUNG!B310","v":16},{"$f":"BERECHNUNG!C310","v":6},16.100000000000001]
[{"$f":"BERECHNUNG!A311","v":28},{"$f":"BERECHNUNG!B311","v":16},{"$f":"BERECHNUNG!C311","v":12},16.2]
[{"$f":"BERECHNUNG!A312","v":29},{"$f":"BERECHNUNG!B312","v":16},{"$f":"BERECHNUNG!C312","v":16},16.266666666666666]
[{"$f":"BERECHNUNG!A313","v":30},{"$f":"BERECHNUNG!B313","v":16},{"$f":"BERECHNUNG!C313","v":20},16.333333333333332]
[{"$f":"BERECHNUNG!A314","v":31},{"$f":"BERECHNUNG!B314","v":16},{"$f":"BERECHNUNG!C314","v":23},16.383333333333333]
[{"$f":"BERECHNUNG!A315","v":"November"},null,null,"November"]
[{"$f":"BERECHNUNG!A316","v":1},{"$f":"BERECHNUNG!B316","v":16},{"$f":"BERECHNUNG!C316","v":25},{"$f":"(B316+(C316/60))","v":16.416666666666668}]
[{"$f":"BERECHNUNG!A317","v":2},{"$f":"BERECHNUNG!B317","v":16},{"$f":"BERECHNUNG!C317","v":27},16.45]
[{"$f":"BERECHNUNG!A318","v":3},{"$f":"BERECHNUNG!B318","v":16},{"$f":"BERECHNUNG!C318","v":27},16.45]
[{"$f":"BERECHNUNG!A319","v":4},{"$f":"BERECHNUNG!B319","v":16},{"$f":"BERECHNUNG!C319","v":27},16.45]
[{"$f":"BERECHNUNG!A320","v":5},{"$f":"BERECHNUNG!B320","v":16},{"$f":"BERECHNUNG!C320","v":26},16.433333333333334]
[{"$f":"BERECHNUNG!A321","v":6},{"$f":"BERECHNUNG!B321","v":16},{"$f":"BERECHNUNG!C321","v":24},16.399999999999999]
[{"$f":"BERECHNUNG!A322","v":7},{"$f":"BERECHNUNG!B322","v":16},{"$f":"BERECHNUNG!C322","v":21},16.350000000000001]
[{"$f":"BERECHNUNG!A323","v":8},{"$f":"BERECHNUNG!B323","v":16},{"$f":"BERECHNUNG!C323","v":18},16.3]
[{"$f":"BERECHNUNG!A324","v":9},{"$f":"BERECHNUNG!B324","v":16},{"$f":"BERECHNUNG!C324","v":13},16.216666666666665]
[{"$f":"BERECHNUNG!A325","v":10},{"$f":"BERECHNUNG!B325","v":16},{"$f":"BERECHNUNG!C325","v":8},16.133333333333333]
[{"$f":"BERECHNUNG!A326","v":11},{"$f":"BERECHNUNG!B326","v":16},{"$f":"BERECHNUNG!C326","v":2},16.033333333333335]
[{"$f":"BERECHNUNG!A327","v":12},{"$f":"BERECHNUNG!B327","v":15},{"$f":"BERECHNUNG!C327","v":54},15.9]
[{"$f":"BERECHNUNG!A328","v":13},{"$f":"BERECHNUNG!B328","v":15},{"$f":"BERECHNUNG!C328","v":47},15.783333333333333]
[{"$f":"BERECHNUNG!A329","v":14},{"$f":"BERECHNUNG!B329","v":15},{"$f":"BERECHNUNG!C329","v":38},15.633333333333333]
[{"$f":"BERECHNUNG!A330","v":15},{"$f":"BERECHNUNG!B330","v":15},{"$f":"BERECHNUNG!C330","v":28},15.466666666666667]
[{"$f":"BERECHNUNG!A331","v":16},{"$f":"BERECHNUNG!B331","v":15},{"$f":"BERECHNUNG!C331","v":18},15.3]
[{"$f":"BERECHNUNG!A332","v":17},{"$f":"BERECHNUNG!B332","v":15},{"$f":"BERECHNUNG!C332","v":6},15.1]
[{"$f":"BERECHNUNG!A333","v":18},{"$f":"BERECHNUNG!B333","v":14},{"$f":"BERECHNUNG!C333","v":54},14.9]
[{"$f":"BERECHNUNG!A334","v":19},{"$f":"BERECHNUNG!B334","v":14},{"$f":"BERECHNUNG!C334","v":41},14.683333333333334]
[{"$f":"BERECHNUNG!A335","v":20},{"$f":"BERECHNUNG!B335","v":14},{"$f":"BERECHNUNG!C335","v":28},14.466666666666667]
[{"$f":"BERECHNUNG!A336","v":21},{"$f":"BERECHNUNG!B336","v":14},{"$f":"BERECHNUNG!C336","v":13},14.216666666666667]
[{"$f":"BERECHNUNG!A337","v":22},{"$f":"BERECHNUNG!B337","v":13},{"$f":"BERECHNUNG!C337","v":58},13.966666666666667]
[{"$f":"BERECHNUNG!A338","v":23},{"$f":"BERECHNUNG!B338","v":13},{"$f":"BERECHNUNG!C338","v":42},13.7]
[{"$f":"BERECHNUNG!A339","v":24},{"$f":"BERECHNUNG!B339","v":13},{"$f":"BERECHNUNG!C339","v":25},13.416666666666666]
[{"$f":"BERECHNUNG!A340","v":25},{"$f":"BERECHNUNG!B340","v":13},{"$f":"BERECHNUNG!C340","v":7},13.116666666666667]
[{"$f":"BERECHNUNG!A341","v":26},{"$f":"BERECHNUNG!B341","v":12},{"$f":"BERECHNUNG!C341","v":49},12.816666666666666]
[{"$f":"BERECHNUNG!A342","v":27},{"$f":"BERECHNUNG!B342","v":12},{"$f":"BERECHNUNG!C342","v":30},12.5]
[{"$f":"BERECHNUNG!A343","v":28},{"$f":"BERECHNUNG!B343","v":12},{"$f":"BERECHNUNG!C343","v":10},12.166666666666666]
[{"$f":"BERECHNUNG!A344","v":29},{"$f":"BERECHNUNG!B344","v":11},{"$f":"BERECHNUNG!C344","v":50},11.833333333333334]
[{"$f":"BERECHNUNG!A345","v":30},{"$f":"BERECHNUNG!B345","v":11},{"$f":"BERECHNUNG!C345","v":28},11.466666666666667]
[{"$f":"BERECHNUNG!A346","v":"Dezember"},null,null,"Dezember"]
[{"$f":"BERECHNUNG!A347","v":1},{"$f":"BERECHNUNG!B347","v":11},{"$f":"BERECHNUNG!C347","v":7},{"$f":"(B347+(C347/60))","v":11.116666666666667}]
[{"$f":"BERECHNUNG!A348","v":2},{"$f":"BERECHNUNG!B348","v":10},{"$f":"BERECHNUNG!C348","v":44},10.733333333333333]
[{"$f":"BERECHNUNG!A349","v":3},{"$f":"BERECHNUNG!B349","v":10},{"$f":"BERECHNUNG!C349","v":22},10.366666666666667]
[{"$f":"BERECHNUNG!A350","v":4},{"$f":"BERECHNUNG!B350","v":9},{"$f":"BERECHNUNG!C350","v":57},9.9499999999999993]
[{"$f":"BERECHNUNG!A351","v":5},{"$f":"BERECHNUNG!B351","v":9},{"$f":"BERECHNUNG!C351","v":33},9.5500000000000007]
[{"$f":"BERECHNUNG!A352","v":6},{"$f":"BERECHNUNG!B352","v":9},{"$f":"BERECHNUNG!C352","v":8},9.1333333333333329]
[{"$f":"BERECHNUNG!A353","v":7},{"$f":"BERECHNUNG!B353","v":8},{"$f":"BERECHNUNG!C353","v":42},8.6999999999999993]
[{"$f":"BERECHNUNG!A354","v":8},{"$f":"BERECHNUNG!B354","v":8},{"$f":"BERECHNUNG!C354","v":16},8.2666666666666675]
[{"$f":"BERECHNUNG!A355","v":9},{"$f":"BERECHNUNG!B355","v":7},{"$f":"BERECHNUNG!C355","v":50},7.833333333333333]
[{"$f":"BERECHNUNG!A356","v":10},{"$f":"BERECHNUNG!B356","v":7},{"$f":"BERECHNUNG!C356","v":23},7.3833333333333337]
[{"$f":"BERECHNUNG!A357","v":11},{"$f":"BERECHNUNG!B357","v":6},{"$f":"BERECHNUNG!C357","v":55},6.916666666666667]
[{"$f":"BERECHNUNG!A358","v":12},{"$f":"BERECHNUNG!B358","v":6},{"$f":"BERECHNUNG!C358","v":27},6.45]
[{"$f":"BERECHNUNG!A359","v":13},{"$f":"BERECHNUNG!B359","v":5},{"$f":"BERECHNUNG!C359","v":59},5.9833333333333334]
[{"$f":"BERECHNUNG!A360","v":14},{"$f":"BERECHNUNG!B360","v":5},{"$f":"BERECHNUNG!C360","v":31},5.5166666666666666]
[{"$f":"BERECHNUNG!A361","v":15},{"$f":"BERECHNUNG!B361","v":5},{"$f":"BERECHNUNG!C361","v":2},5.0333333333333332]
[{"$f":"BERECHNUNG!A362","v":16},{"$f":"BERECHNUNG!B362","v":4},{"$f":"BERECHNUNG!C362","v":33},4.55]
[{"$f":"BERECHNUNG!A363","v":17},{"$f":"BERECHNUNG!B363","v":4},{"$f":"BERECHNUNG!C363","v":4},4.0666666666666664]
[{"$f":"BERECHNUNG!A364","v":18},{"$f":"BERECHNUNG!B364","v":3},{"$f":"BERECHNUNG!C364","v":34},3.5666666666666664]
[{"$f":"BERECHNUNG!A365","v":19},{"$f":"BERECHNUNG!B365","v":2},{"$f":"BERECHNUNG!C365","v":35},2.5833333333333335]
[{"$f":"BERECHNUNG!A366","v":20},{"$f":"BERECHNUNG!B366","v":2},{"$f":"BERECHNUNG!C366","v":5},2.0833333333333335]
[{"$f":"BERECHNUNG!A367","v":21},{"$f":"BERECHNUNG!B367","v":1},{"$f":"BERECHNUNG!C367","v":35},1.5833333333333335]
[{"$f":"BERECHNUNG!A368","v":22},{"$f":"BERECHNUNG!B368","v":1},{"$f":"BERECHNUNG!C368","v":6},1.1000000000000001]
[{"$f":"BERECHNUNG!A369","v":23},{"$f":"BERECHNUNG!B369","v":0},{"$f":"BERECHNUNG!C369","v":36},0.6]
[{"$f":"BERECHNUNG!A370","v":24},{"$f":"BERECHNUNG!B370","v":0},{"$f":"BERECHNUNG!C370","v":6},0.1]
[{"$f":"BERECHNUNG!A371","v":25},{"$f":"BERECHNUNG!B371","v":0},{"$f":"BERECHNUNG!C371","v":-23},{"$f":"(B371-(C371/60))","v":0.38333333333333336}]
[{"$f":"BERECHNUNG!A372","v":26},{"$f":"BERECHNUNG!B372","v":0},{"$f":"BERECHNUNG!C372","v":-30},0.5]
[{"$f":"BERECHNUNG!A373","v":27},{"$f":"BERECHNUNG!B373","v":0},{"$f":"BERECHNUNG!C373","v":-53},0.8833333333333333]
[{"$f":"BERECHNUNG!A374","v":28},{"$f":"BERECHNUNG!B374","v":-1},{"$f":"BERECHNUNG!C374","v":22},-1.3666666666666667]
[{"$f":"BERECHNUNG!A375","v":29},{"$f":"BERECHNUNG!B375","v":-1},{"$f":"BERECHNUNG!C375","v":51},-1.85]
[{"$f":"BERECHNUNG!A376","v":30},{"$f":"BERECHNUNG!B376","v":-2},{"$f":"BERECHNUNG!C376","v":20},-2.3333333333333335]
[{"$f":"BERECHNUNG!A377","v":31},{"$f":"BERECHNUNG!B377","v":-2},{"$f":"BERECHNUNG!C377","v":49},-2.8166666666666664]

{"sheet":"STARTE DIE UHR!","index":5,"n_rows":20,"n_cols":14,"rows_kept":20,"cut":false,"hidden":true,"merged":[]}
["Uhrzeit",{"$f":"NOW()","v":45044.696920023147}]
["Stunde",{"$f":"HOUR(B1)","v":16},null,null,null,null,null,null,null,null,"STUNDEN",3,null,{"$f":"IF(B2>12,B2-12+B3/60+B4/3600,B2+B3/60+B4/3600)","v":4.7261111111111109}]
["Minute",{"$f":"MINUTE(B1)","v":43},null,null,null,null,null,null,null,null,null,9,null,{"$f":"(12-N2)","v":7.2738888888888891}]
["Sekunde",{"$f":"SECOND(B1)","v":34},null,null,null,null,null,null,null,null,"MINUTEN",null,null,{"$f":"(B3+B4/60)","v":43.56666666666667}]
[null,null,null,null,null,null,null,null,null,null,null,null,null,{"$f":"(60-N4)","v":16.43333333333333}]
[null,null,null,null,null,null,null,null,null,null,"SEKUNDEN",null,null,{"$f":"(B4)","v":34}]
[null,null,null,null,null,null,null,null,null,null,null,null,null,{"$f":"(60-N6)","v":26}]
["Datum",{"$f":"TODAY()","v":"2023-04-28"}]
["Jahr",{"$f":"YEAR(B8)","v":2023}]
["Monat",{"$f":"MONTH(B8)","v":4}]
["Tag",{"$f":"DAY(B8)","v":28}]
["Wochentag 1",{"$f":"B8","v":"2023-04-28"}]
["Wochentag 2",{"$f":"B8","v":"2023-04-28"}]
[]
[]
[]
["Ein Klick auf den Start-Button startet die laufende Ausgabe der aktuellen Uhrzeit sowie des aktuellen Datums mit den entsprechenden"]
["Teilinformationen wie Stunde, Minute, Sekunde, Jahr, Monat etc."]
[null,{"$f":"$B$1","v":45044.696920023147}]
["Mit Klick auf den Button Stopp wird die Akualisierung wieder beendet."]

{"sheet":"BERECHNUNG","index":6,"n_rows":377,"n_cols":33,"rows_kept":377,"cut":false,"hidden":true,"merged":[[26,26,26,28],[10,21,10,23],[14,26,14,28],[14,30,14,32],[18,26,18,28],[22,26,22,28],[54,26,54,28],[58,26,58,28],[30,26,30,28],[34,26,34,28],[38,26,38,28],[42,26,42,28],[46,26,46,28],[50,26,50,28]]}
[1,-3,24,{"$f":"(C1/60)","v":0.4},null,"Januar","Februar","März","April"]
[2,-3,53,0.8833333333333333,1,{"$f":"(B1-D1)","v":-3.4},-13.533333333333333,-12.316666666666666,-3.95,null,null,null,null,null,null,null,null,null,null,null,null,"std","min","sec","Summe sec"]
[3,-4,20,0.33333333333333331,2,-3.8833333333333333,-13.666666666666666,-12.116666666666667,-3.65,null,null,null,null,null,null,null,null,null,null,null,"ARMBAND - UHRZEIT (mein Standort)",{"$f":"'EINGABEN UND AUSDRUCK'!$D$8","v":14},{"$f":"'EINGABEN UND AUSDRUCK'!$E$8","v":43},{"$f":"'EINGABEN UND AUSDRUCK'!$F$8","v":34},{"$f":"(3600*V3+60*W3+X3)","v":53014}]
[4,-4,48,0.8,3,-4.333333333333333,-13.783333333333333,-11.916666666666666,-3.3666666666666667,null,null,null,null,null,null,null,null,null,null,null,"(berichtigt auf UTC; CH / MEZ: Sommer -2, Winter - 1)",null,null,"Längngrad - Zuschalag",{"$f":"(V5*4*60)","v":2059.4301839999998},"Wenn V8 = negativ, dann 24 + (Y6/3600)"]
[5,-5,15,0.25,4,-4.8,-13.866666666666667,-11.7,-3.0833333333333335,null,null,null,null,null,null,null,null,null,null,null,"LÄNGENGRAD (mein Standort)",{"$f":"'EINGABEN UND AUSDRUCK'!$D$11","v":8.5809590999999994},null,"Summe am Standort",{"$f":"(Y3+Y4)","v":55073.430183999997},"↓"]
[6,-5,41,0.68333333333333335,5,-5.25,-13.966666666666667,-11.483333333333333,-2.8,null,null,null,null,null,null,null,null,null,null,null,"(z.B. Google Maps)",null,null,"Summe am Zielort",{"$f":"(Y5+((V7-V5)*4*60)+((0)*0))","v":35257.416759999993},{"$f":"(24+(Y6/3600))","v":33.793726877777772}]
[7,-6,7,0.11666666666666667,6,-5.6833333333333336,-14.033333333333333,-11.25,-2.5,null,null,null,null,null,null,null,null,null,null,null,"LÄNGENGRAD (Zielort)",{"$f":"'EINGABEN UND AUSDRUCK'!$D$14","v":-73.985763500000004},null,null,{"$f":"'EINGABEN UND AUSDRUCK'!$E$14","v":"NEW YORK EMP.ST. BUILDING "}]
[8,-6,33,0.55000000000000004,7,-6.1166666666666663,-14.1,-11.016666666666667,-2.2166666666666668,null,null,null,null,null,null,null,null,null,null,null,"(z.B. Google Maps)                                     MOZ am Zielort",{"$f":"(Y6/3600)","v":9.7937268777777753},{"$f":"IF(V8>=0,(V8-V13),1+(V8-ROUNDDOWN(V8,0)))","v":0.79372687777777529},{"$f":"(W8*60)","v":47.623612666666517},"Zerlegung"]
[9,-6,58,0.96666666666666667,8,-6.55,-14.133333333333333,-10.766666666666667,-1.95,null,null,null,null,null,null,null,null,null,null,null,"\"n - ter\" -  TAG DES MONATS (mein Standort)",{"$f":"'STARTE DIE UHR!'!$B$11","v":28},"JAHRZAHL (-DEZIMALE) DER ZEITGLEICHUNGS-TABELLE",null,23]
[10,-7,22,0.36666666666666664,9,-6.9666666666666668,-14.166666666666666,-10.533333333333333,-1.6833333333333333,null,null,null,null,null,null,null,null,null,null,null,"MOZ am Standort",{"$f":"(Y5/3600)","v":15.298175051111111},{"$f":"V10-ROUNDDOWN(V10,0)","v":0.29817505111111053},{"$f":"(W10*60)","v":17.890503066666632}]
[11,-7,46,0.76666666666666672,10,-7.3666666666666663,-14.183333333333334,-10.266666666666667,-1.4,null,null,null,null,null,null,null,null,null,null,null,null,"MITTLERE ORTSZEIT AM ZIELORT (MOZ)",null,null,"Summendiff. sec für"]
[12,-8,9,0.15,11,-7.7666666666666666,-14.2,-10.016666666666667,-1.1499999999999999,null,null,null,null,null,null,null,null,null,null,null,null,"std","min","sec","Zeitgleichung \"vor/nach\" 12:00"]
[13,-8,32,0.53333333333333333,12,-8.15,-14.183333333333334,-9.75,-0.8833333333333333,null,null,null,null,null,null,null,null,null,null,null,null,{"$f":"IF($V$8>=0,ROUNDDOWN($V$8,0),ROUNDDOWN(-1*$V$14,0))","v":9},{"$f":"ROUNDDOWN(IF($V$8>=0,ROUNDDOWN($X$8,0),W14*60),0)","v":47},{"$f":"IF(V8>=0,ROUND((X8-W13)*60,0),ROUND(X14*60,0))","v":37},{"$f":"((V17-12)*60*60+W17*60+X17)-((V5/15)*60*60)","v":9813.5698159999993}]
[14,-8,54,0.9,13,-8.5333333333333332,-14.166666666666666,-9.4833333333333325,-0.6333333333333333,null,null,null,null,null,null,null,null,null,null,null,null,{"$f":"$Z$6","v":33.793726877777772},{"$f":"($V$14-ROUNDDOWN($V$14,0))","v":0.79372687777777173},{"$f":"(W14*60-W13)","v":0.62361266666630399},"GEMESSEN AM 0° - MERIDIAN"]
[15,-9,16,0.26666666666666666,14,-8.9,-14.133333333333333,-9.1999999999999993,-0.38333333333333336,null,null,null,null,null,null,null,null,null,null,null,null,"X am 0° - Meridian=",{"$f":"($V$9+((1.1574074074*10^-5)*$Y$13))","v":28.113582983980756},"(n-ter Tag)","MIN","SEC","WAHRE ORTSZEIT AM ZIELORT (WOZ) (std:min:sec)",null,null,"Monat","WAHRE ORTSZEIT AM STANDORT"]
[16,-9,37,0.6166666666666667,15,-9.2666666666666675,-14.083333333333334,-8.9166666666666661,-0.13333333333333333,null,null,null,null,null,null,null,null,null,null,null,"JANUAR","Y gleitende ZG am 0°-Meridian= ",{"$f":"(0.0055*W15^2-0.5116*W15-2.837)","v":-12.872854539520107},"Y =",{"$f":"ROUNDDOWN(W16,0)","v":-12},{"$f":"IF(Y16>=0,ROUND(ABS(W16-Y16)*60,0),-ROUND(ABS(W16-Y16)*60,0))","v":-52},{"$f":"IF($V$8>=0,ROUNDDOWN(AA17,0),ROUNDDOWN(AA18*-1,0))","v":10},{"$f":"IF($V$8>=0,ROUNDDOWN(AB17,0),ROUNDDOWN(AB18,0))","v":0},{"$f":"IF($V$8>=0,ROUNDDOWN(AC17,0),ROUNDUP(AC18,0))","v":29},1,{"$f":"ROUNDDOWN(AE17,0)","v":15},{"$f":"ROUNDDOWN(AF17,0)","v":30},{"$f":"ROUND(AG17*60,0)","v":46}]
[17,-9,57,0.95,16,-9.6166666666666671,-14.033333333333333,-8.6333333333333329,8.3333333333333329E-2,null,null,null,null,null,null,null,null,null,null,null,"Hilfszeile: MOZ am Standort (std:min:sec)",{"$f":"ROUNDDOWN($V$10,0)","v":15},{"$f":"ROUNDDOWN($X$10,0)","v":17},{"$f":"ROUND((X10-W17)*60,0)","v":53},null,null,{"$f":"($V$8*60*60-W16*60)/3600","v":10.008274453436444},{"$f":"(AA17-ROUNDDOWN(AA17,0))*60","v":0.49646720618664375},{"$f":"(AB17-ROUNDDOWN(AB17,0))*60","v":29.788032371198625},null,{"$f":"($V$10*60*60-W16*60)/3600","v":15.512722626769779},{"$f":"(AE17-ROUNDDOWN(AE17,0))*60","v":30.763357606186759},{"$f":"(AF17-ROUNDDOWN(AF17,0))","v":0.76335760618675863}]
[18,-10,17,0.28333333333333333,17,-9.9499999999999993,-13.966666666666667,-8.35,0.31666666666666665,null,null,null,null,null,null,null,null,null,null,null,null,null,null,null,null,null,{"$f":"(AD18/3600)","v":33.579282433333326},{"$f":"(AA18-ROUNDDOWN(AA18,0))*60","v":34.756945999999544},{"$f":"(AB18-ROUNDDOWN(AB18,0))*60","v":45.416759999972669},{"$f":"($Z$6*3600+Y16*60+Z16)","v":120885.41675999998}]
[19,-10,36,0.6,18,-10.283333333333333,-13.883333333333333,-8.0666666666666664,0.55000000000000004,null,null,null,null,null,null,null,null,null,null,null,null,"X am 0° - Meridian=",{"$f":"($V$9+((1.1574074074*10^-5)*$Y$13))","v":28.113582983980756},"(n-ter Tag)","MIN","SEC","WAHRE ORTSZEIT AM ZIELORT (std:min:sec)"]
[20,-10,54,0.9,19,-10.6,-13.783333333333333,-7.7666666666666666,0.76666666666666672,null,null,null,null,null,null,null,null,null,null,null,"FEBRUAR","Y gleitende ZG am 0°-Meridian= ",{"$f":"(0.006*W19^2-0.1334*W19-13.438)","v":-12.446110680879999},"Y =",{"$f":"ROUNDDOWN(W20,0)","v":-12},{"$f":"IF(Y20>=0,ROUND(ABS(W20-Y20)*60,0),-ROUND(ABS(W20-Y20)*60,0))","v":-27},{"$f":"IF($V$8>=0,ROUNDDOWN(AA21,0),ROUNDDOWN(AA22*-1,0))","v":10},{"$f":"IF($V$8>=0,ROUNDDOWN(AB21,0),ROUNDDOWN(AB22,0))","v":0},{"$f":"IF($V$8>=0,ROUNDDOWN(AC21,0),ROUNDUP(AC22,0))","v":4},2,{"$f":"ROUNDDOWN(AE21,0)","v":15},{"$f":"ROUNDDOWN(AF21,0)","v":30},{"$f":"ROUND(AG21*60,0)","v":20}]
[21,-11,11,0.18333333333333332,20,-10.9,-13.683333333333334,-7.4666666666666668,0.98333333333333328,null,null,null,null,null,null,null,null,null,null,null,null,null,null,null,null,null,{"$f":"($V$8*60*60-W20*60)/3600","v":10.001162055792443},{"$f":"(AA21-ROUNDDOWN(AA21,0))*60","v":6.9723347546606362E-2},{"$f":"(AB21-ROUNDDOWN(AB21,0))*60","v":4.1834008527963817},null,{"$f":"($V$10*60*60-W20*60)/3600","v":15.505610229125777},{"$f":"(AE21-ROUNDDOWN(AE21,0))*60","v":30.336613747546615},{"$f":"(AF21-ROUNDDOWN(AF21,0))","v":0.33661374754661466}]
[22,-11,28,0.46666666666666667,21,-11.183333333333334,-13.566666666666666,-7.166666666666667,1.1833333333333333,null,null,null,null,null,null,null,null,null,null,null,null,null,null,null,null,null,{"$f":"(AD22/3600)","v":33.586226877777769},{"$f":"(AA22-ROUNDDOWN(AA22,0))*60","v":35.173612666666116},{"$f":"(AB22-ROUNDDOWN(AB22,0))*60","v":10.416759999966985},{"$f":"($Z$6*3600+Y20*60+Z20)","v":120910.41675999998}]
[23,-11,44,0.73333333333333328,22,-11.466666666666667,-13.45,-6.8833333333333329,1.3833333333333333,null,null,null,null,null,null,null,null,null,null,null,null,"X am 0° - Meridian=",{"$f":"($V$9+((1.1574074074*10^-5)*$Y$13))","v":28.113582983980756},"(n-ter Tag)","MIN","SEC","WAHRE ORTSZEIT AM ZIELORT (std:min:sec)"]
[24,-11,59,0.98333333333333328,23,-11.733333333333333,-13.316666666666666,-6.583333333333333,1.5666666666666667,null,null,null,null,null,null,null,null,null,null,null,"MÄRZ","Y gleitende ZG am 0°-Meridian= ",{"$f":"(0.0018*W23^2+0.2202*W23-12.611)","v":-4.9977166401725279},"Y =",{"$f":"ROUNDDOWN(W24,0)","v":-4},{"$f":"IF(Y24>=0,ROUND(ABS(W24-Y24)*60,0),-ROUND(ABS(W24-Y24)*60,0))","v":-60},{"$f":"IF($V$8>=0,ROUNDDOWN(AA25,0),ROUNDDOWN(AA26*-1,0))","v":9},{"$f":"IF($V$8>=0,ROUNDDOWN(AB25,0),ROUNDDOWN(AB26,0))","v":52},{"$f":"IF($V$8>=0,ROUNDDOWN(AC25,0),ROUNDUP(AC26,0))","v":37},3,{"$f":"ROUNDDOWN(AE25,0)","v":15},{"$f":"ROUNDDOWN(AF25,0)","v":22},{"$f":"ROUND(AG25*60,0)","v":53}]
[25,-12,13,0.21666666666666667,24,-11.983333333333333,-13.166666666666666,-6.2666666666666666,1.75,null,null,null,null,null,null,null,null,null,null,null,null,null,null,null,null,null,{"$f":"($V$8*60*60-W24*60)/3600","v":9.8770221551139858},{"$f":"(AA25-ROUNDDOWN(AA25,0))*60","v":52.621329306839151},{"$f":"(AB25-ROUNDDOWN(AB25,0))*60","v":37.279758410349046},null,{"$f":"($V$10*60*60-W24*60)/3600","v":15.381470328447319},{"$f":"(AE25-ROUNDDOWN(AE25,0))*60","v":22.888219706839159},{"$f":"(AF25-ROUNDDOWN(AF25,0))","v":0.88821970683915907}]
[26,-12,26,0.43333333333333335,25,-12.216666666666667,-13.016666666666667,-5.9666666666666668,1.9166666666666665,null,null,null,null,null,null,null,null,null,null,null,null,null,null,null,null,null,{"$f":"(AD26/3600)","v":33.710393544444436},{"$f":"(AA26-ROUNDDOWN(AA26,0))*60","v":42.623612666666162},{"$f":"(AB26-ROUNDDOWN(AB26,0))*60","v":37.416759999969713},{"$f":"($Z$6*3600+Y24*60+Z24)","v":121357.41675999998}]
[27,-12,39,0.65,26,-12.433333333333334,-12.85,-5.666666666666667,2.1,null,null,null,null,null,null,null,null,null,null,null,null,"X am 0° - Meridian=",{"$f":"($V$9+((1.1574074074*10^-5)*$Y$13))","v":28.113582983980756},"(n-ter Tag)","MIN","SEC","WAHRE ORTSZEIT AM ZIELORT (std:min:sec)"]
[28,-12,51,0.85,27,-12.65,-12.683333333333334,-5.3666666666666663,2.25,null,null,null,null,null,null,null,null,null,null,null,"APRIL","Y gleitende ZG am 0°-Meridian= ",{"$f":"(-0.0029*W27^2+0.3223*W27-4.3157)","v":2.4532245059651974},"Y =",{"$f":"ROUNDDOWN(W28,0)","v":2},{"$f":"IF(Y28>=0,ROUND(ABS(W28-Y28)*60,0),-ROUND(ABS(W28-Y28)*60,0))","v":27},{"$f":"IF($V$8>=0,ROUNDDOWN(AA29,0),ROUNDDOWN(AA30*-1,0))","v":9},{"$f":"IF($V$8>=0,ROUNDDOWN(AB29,0),ROUNDDOWN(AB30,0))","v":45},{"$f":"IF($V$8>=0,ROUNDDOWN(AC29,0),ROUNDUP(AC30,0))","v":10},4,{"$f":"ROUNDDOWN(AE29,0)","v":15},{"$f":"ROUNDDOWN(AF29,0)","v":15},{"$f":"ROUND(AG29*60,0)","v":26}]
[29,-13,2,3.3333333333333333E-2,28,-12.85,-12.5,-5.0666666666666664,2.4,null,null,null,null,null,null,null,null,null,null,null,null,null,null,null,null,null,{"$f":"($V$8*60*60-W28*60)/3600","v":9.7528398026783556},{"$f":"(AA29-ROUNDDOWN(AA29,0))*60","v":45.170388160701336},{"$f":"(AB29-ROUNDDOWN(AB29,0))*60","v":10.223289642080147},null,{"$f":"($V$10*60*60-W28*60)/3600","v":15.257287976011691},{"$f":"(AE29-ROUNDDOWN(AE29,0))*60","v":15.437278560701451},{"$f":"(AF29-ROUNDDOWN(AF29,0))","v":0.43727856070145066}]
[30,-13,12,0.2,29,-13.033333333333333,null,-4.7666666666666666,2.5499999999999998,null,null,null,null,null,null,null,null,null,null,null,null,null,null,null,null,null,{"$f":"(AD30/3600)","v":33.834560211111103},{"$f":"(AA30-ROUNDDOWN(AA30,0))*60","v":50.073612666666207},{"$f":"(AB30-ROUNDDOWN(AB30,0))*60","v":4.4167599999724416},{"$f":"($Z$6*3600+Y28*60+Z28)","v":121804.41675999998}]
[31,-13,21,0.35,30,-13.2,null,-4.4666666666666668,2.6666666666666665,null,null,null,null,null,null,null,null,null,null,null,null,"X am 0° - Meridian=",{"$f":"($V$9+((1.1574074074*10^-5)*$Y$13))","v":28.113582983980756},"(n-ter Tag)","MIN","SEC","WAHRE ORTSZEIT AM ZIELORT (std:min:sec)"]
["Februar",null,null,"Februar",31,-13.35,null,-4.166666666666667,null,null,null,null,null,null,null,null,null,null,null,null,"MAI","Y gleitende ZG am 0°-Meridian= ",{"$f":"(-0.0046*W31^2+0.12777*W31+2.7528)","v":2.7091541761562281},"Y =",{"$f":"ROUNDDOWN(W32,0)","v":2},{"$f":"IF(Y32>=0,ROUND(ABS(W32-Y32)*60,0),-ROUND(ABS(W32-Y32)*60,0))","v":43},{"$f":"IF($V$8>=0,ROUNDDOWN(AA33,0),ROUNDDOWN(AA34*-1,0))","v":9},{"$f":"IF($V$8>=0,ROUNDDOWN(AB33,0),ROUNDDOWN(AB34,0))","v":44},{"$f":"IF($V$8>=0,ROUNDDOWN(AC33,0),ROUNDUP(AC34,0))","v":54},5,{"$f":"ROUNDDOWN(AE33,0)","v":15},{"$f":"ROUNDDOWN(AF33,0)","v":15},{"$f":"ROUND(AG33*60,0)","v":11}]
[1,-13,30,{"$f":"(B33-(C33/60))","v":-13.5},null,null,null,null,null,null,null,null,null,null,null,null,null,null,null,null,null,null,null,null,null,null,{"$f":"($V$8*60*60-W32*60)/3600","v":9.7485743081751703},{"$f":"(AA33-ROUNDDOWN(AA33,0))*60","v":44.914458490510221},{"$f":"(AB33-ROUNDDOWN(AB33,0))*60","v":54.867509430613239},null,{"$f":"($V$10*60*60-W32*60)/3600","v":15.253022481508506},{"$f":"(AE33-ROUNDDOWN(AE33,0))*60","v":15.181348890510336},{"$f":"(AF33-ROUNDDOWN(AF33,0))","v":0.18134889051033554}]
[2,-13,37,-13.616666666666667,null,null,null,null,null,null,null,null,null,null,null,null,null,null,null,null,null,null,null,null,null,null,{"$f":"(AD34/3600)","v":33.839004655555549},{"$f":"(AA34-ROUNDDOWN(AA34,0))*60","v":50.340279333332916},{"$f":"(AB34-ROUNDDOWN(AB34,0))*60","v":20.416759999974943},{"$f":"($Z$6*3600+Y32*60+Z32)","v":121820.41675999998}]
[3,-13,44,-13.733333333333333,null,null,null,null,null,null,null,null,null,null,null,null,null,null,null,null,null,"X am 0° - Meridian=",{"$f":"($V$9+((1.1574074074*10^-5)*$Y$13))","v":28.113582983980756},"(n-ter Tag)","MIN","SEC","WAHRE ORTSZEIT AM ZIELORT (std:min:sec)"]
[4,-13,50,-13.833333333333334,null,null,null,null,null,null,null,null,null,null,null,null,null,null,null,null,"JUNI","Y gleitende ZG am 0°-Meridian= ",{"$f":"(-0.0006*W35^2-0.1879*W35+2.4035)","v":-3.3532663716082869},"Y =",{"$f":"ROUNDDOWN(W36,0)","v":-3},{"$f":"IF(Y36>=0,ROUND(ABS(W36-Y36)*60,0),-ROUND(ABS(W36-Y36)*60,0))","v":-21},{"$f":"IF($V$8>=0,ROUNDDOWN(AA37,0),ROUNDDOWN(AA38*-1,0))","v":9},{"$f":"IF($V$8>=0,ROUNDDOWN(AB37,0),ROUNDDOWN(AB38,0))","v":50},{"$f":"IF($V$8>=0,ROUNDDOWN(AC37,0),ROUNDUP(AC38,0))","v":58},6,{"$f":"ROUNDDOWN(AE37,0)","v":15},{"$f":"ROUNDDOWN(AF37,0)","v":21},{"$f":"ROUND(AG37*60,0)","v":15}]
[5,-13,56,-13.933333333333334,null,null,null,null,null,null,null,null,null,null,null,null,null,null,null,null,null,null,null,null,null,null,{"$f":"($V$8*60*60-W36*60)/3600","v":9.8496146506379141},{"$f":"(AA37-ROUNDDOWN(AA37,0))*60","v":50.976879038274845},{"$f":"(AB37-ROUNDDOWN(AB37,0))*60","v":58.612742296490694},null,{"$f":"($V$10*60*60-W36*60)/3600","v":15.354062823971249},{"$f":"(AE37-ROUNDDOWN(AE37,0))*60","v":21.24376943827496},{"$f":"(AF37-ROUNDDOWN(AF37,0))","v":0.24376943827495978}]
[6,-14,0,-14,null,null,null,null,null,null,null,null,null,null,null,null,null,null,null,null,null,null,null,null,null,null,{"$f":"(AD38/3600)","v":33.737893544444439},{"$f":"(AA38-ROUNDDOWN(AA38,0))*60","v":44.273612666666367},{"$f":"(AB38-ROUNDDOWN(AB38,0))*60","v":16.416759999981991},{"$f":"($Z$6*3600+Y36*60+Z36)","v":121456.41675999998}]
[7,-14,4,-14.066666666666666,null,null,null,null,null,null,null,null,null,null,null,null,null,null,null,null,null,"X am 0° - Meridian=",{"$f":"($V$9+((1.1574074074*10^-5)*$Y$13))","v":28.113582983980756},"(n-ter Tag)","MIN","SEC","WAHRE ORTSZEIT AM ZIELORT (std:min:sec)"]
[8,-14,6,-14.1,null,null,null,null,null,null,null,null,null,null,null,null,null,null,null,null,"JULI","Y gleitende ZG am 0°-Meridian= ",{"$f":"(0.0043*W39^2-0.2233*W39-3.638)","v":-6.5171568230750605},"Y =",{"$f":"ROUNDDOWN(W40,0)","v":-6},{"$f":"IF(Y40>=0,ROUND(ABS(W40-Y40)*60,0),-ROUND(ABS(W40-Y40)*60,0))","v":-31},{"$f":"IF($V$8>=0,ROUNDDOWN(AA41,0),ROUNDDOWN(AA42*-1,0))","v":9},{"$f":"IF($V$8>=0,ROUNDDOWN(AB41,0),ROUNDDOWN(AB42,0))","v":54},{"$f":"IF($V$8>=0,ROUNDDOWN(AC41,0),ROUNDUP(AC42,0))","v":8},7,{"$f":"ROUNDDOWN(AE41,0)","v":15},{"$f":"ROUNDDOWN(AF41,0)","v":24},{"$f":"ROUND(AG41*60,0)","v":24}]
[9,-14,8,-14.133333333333333,null,null,null,null,null,null,null,null,null,null,null,null,null,null,null,null,null,null,null,null,null,null,{"$f":"($V$8*60*60-W40*60)/3600","v":9.9023461581623593},{"$f":"(AA41-ROUNDDOWN(AA41,0))*60","v":54.140769489741558},{"$f":"(AB41-ROUNDDOWN(AB41,0))*60","v":8.4461693844934871},null,{"$f":"($V$10*60*60-W40*60)/3600","v":15.406794331495695},{"$f":"(AE41-ROUNDDOWN(AE41,0))*60","v":24.407659889741673},{"$f":"(AF41-ROUNDDOWN(AF41,0))","v":0.407659889741673}]
[10,-14,10,-14.166666666666666,null,null,null,null,null,null,null,null,null,null,null,null,null,null,null,null,null,null,null,null,null,null,{"$f":"(AD42/3600)","v":33.685115766666662},{"$f":"(AA42-ROUNDDOWN(AA42,0))*60","v":41.106945999999738},{"$f":"(AB42-ROUNDDOWN(AB42,0))*60","v":6.4167599999842651},{"$f":"($Z$6*3600+Y40*60+Z40)","v":121266.41675999998}]
[11,-14,10,-14.166666666666666,null,null,null,null,null,null,null,null,null,null,null,null,null,null,null,null,null,"X am 0° - Meridian=",{"$f":"($V$9+((1.1574074074*10^-5)*$Y$13))","v":28.113582983980756},"(n-ter Tag)","MIN","SEC","WAHRE ORTSZEIT AM ZIELORT (std:min:sec)"]
[12,-14,10,-14.166666666666666,null,null,null,null,null,null,null,null,null,null,null,null,null,null,null,null,"AUGUST","Y gleitende ZG am 0°-Meridian= ",{"$f":"(0.0043*W43^2+0.067*W43-6.4196)","v":-1.1373836828254484},"Y =",{"$f":"ROUNDDOWN(W44,0)","v":-1},{"$f":"IF(Y44>=0,ROUND(ABS(W44-Y44)*60,0),-ROUND(ABS(W44-Y44)*60,0))","v":-8},{"$f":"IF($V$8>=0,ROUNDDOWN(AA45,0),ROUNDDOWN(AA46*-1,0))","v":9},{"$f":"IF($V$8>=0,ROUNDDOWN(AB45,0),ROUNDDOWN(AB46,0))","v":48},{"$f":"IF($V$8>=0,ROUNDDOWN(AC45,0),ROUNDUP(AC46,0))","v":45},8,{"$f":"ROUNDDOWN(AE45,0)","v":15},{"$f":"ROUNDDOWN(AF45,0)","v":19},{"$f":"ROUND(AG45*60,0)","v":2}]
[13,-14,9,-14.15,null,null,null,null,null,null,null,null,null,null,null,null,null,null,null,null,null,null,null,null,null,null,{"$f":"($V$8*60*60-W44*60)/3600","v":9.8126832724915349},{"$f":"(AA45-ROUNDDOWN(AA45,0))*60","v":48.760996349492096},{"$f":"(AB45-ROUNDDOWN(AB45,0))*60","v":45.659780969525769},null,{"$f":"($V$10*60*60-W44*60)/3600","v":15.317131445824868},{"$f":"(AE45-ROUNDDOWN(AE45,0))*60","v":19.027886749492104},{"$f":"(AF45-ROUNDDOWN(AF45,0))","v":2.7886749492104457E-2}]
[14,-14,7,-14.116666666666667,null,null,null,null,null,null,null,null,null,null,null,null,null,null,null,null,null,null,null,null,null,null,{"$f":"(AD46/3600)","v":33.774837988888883},{"$f":"(AA46-ROUNDDOWN(AA46,0))*60","v":46.490279333333007},{"$f":"(AB46-ROUNDDOWN(AB46,0))*60","v":29.4167599999804},{"$f":"($Z$6*3600+Y44*60+Z44)","v":121589.41675999998}]
[15,-14,5,-14.083333333333334,null,null,null,null,null,null,null,null,null,null,null,null,null,null,null,null,null,"X am 0° - Meridian=",{"$f":"($V$9+((1.1574074074*10^-5)*$Y$13))","v":28.113582983980756},"(n-ter Tag)","MIN","SEC","WAHRE ORTSZEIT AM ZIELORT (std:min:sec)"]
[16,-14,2,-14.033333333333333,null,null,null,null,null,null,null,null,null,null,null,null,null,null,null,null,"SEPTEMBER","Y gleitende ZG am 0°-Meridian= ",{"$f":"(0.0001*W47^2+0.3466*W47-0.4511)","v":9.3721052170674479},"Y =",{"$f":"ROUNDDOWN(W48,0)","v":9},{"$f":"IF(Y48>=0,ROUND(ABS(W48-Y48)*60,0),-ROUND(ABS(W48-Y48)*60,0))","v":22},{"$f":"IF($V$8>=0,ROUNDDOWN(AA49,0),ROUNDDOWN(AA50*-1,0))","v":9},{"$f":"IF($V$8>=0,ROUNDDOWN(AB49,0),ROUNDDOWN(AB50,0))","v":38},{"$f":"IF($V$8>=0,ROUNDDOWN(AC49,0),ROUNDUP(AC50,0))","v":15},9,{"$f":"ROUNDDOWN(AE49,0)","v":15},{"$f":"ROUNDDOWN(AF49,0)","v":8},{"$f":"ROUND(AG49*60,0)","v":31}]
[17,-13,58,-13.966666666666667,null,null,null,null,null,null,null,null,null,null,null,null,null,null,null,null,null,null,null,null,null,null,{"$f":"($V$8*60*60-W48*60)/3600","v":9.6375251241599855},{"$f":"(AA49-ROUNDDOWN(AA49,0))*60","v":38.251507449599131},{"$f":"(AB49-ROUNDDOWN(AB49,0))*60","v":15.090446975947884},null,{"$f":"($V$10*60*60-W48*60)/3600","v":15.141973297493321},{"$f":"(AE49-ROUNDDOWN(AE49,0))*60","v":8.5183978495992463},{"$f":"(AF49-ROUNDDOWN(AF49,0))","v":0.51839784959924629}]
[18,-13,53,-13.883333333333333,null,null,null,null,null,null,null,null,null,null,null,null,null,null,null,null,null,null,null,null,null,null,{"$f":"(AD50/3600)","v":33.949837988888881},{"$f":"(AA50-ROUNDDOWN(AA50,0))*60","v":56.990279333332836},{"$f":"(AB50-ROUNDDOWN(AB50,0))*60","v":59.416759999970168},{"$f":"($Z$6*3600+Y48*60+Z48)","v":122219.41675999998}]
[19,-13,48,-13.8,null,null,null,null,null,null,null,null,null,null,null,null,null,null,null,null,null,"X am 0° - Meridian=",{"$f":"($V$9+((1.1574074074*10^-5)*$Y$13))","v":28.113582983980756},"(n-ter Tag)","MIN","SEC","WAHRE ORTSZEIT AM ZIELORT (std:min:sec)"]
[20,-13,42,-13.7,null,null,null,null,null,null,null,null,null,null,null,null,null,null,null,null,"OKTOBER","Y gleitende ZG am 0°-Meridian= ",{"$f":"(-0.0048*W51^2+0.3608*W51+9.8856)","v":16.235187709273831},"Y =",{"$f":"ROUNDDOWN(W52,0)","v":16},{"$f":"IF(Y52>=0,ROUND(ABS(W52-Y52)*60,0),-ROUND(ABS(W52-Y52)*60,0))","v":14},{"$f":"IF($V$8>=0,ROUNDDOWN(AA53,0),ROUNDDOWN(AA54*-1,0))","v":9},{"$f":"IF($V$8>=0,ROUNDDOWN(AB53,0),ROUNDDOWN(AB54,0))","v":31},{"$f":"IF($V$8>=0,ROUNDDOWN(AC53,0),ROUNDUP(AC54,0))","v":23},10,{"$f":"ROUNDDOWN(AE53,0)","v":15},{"$f":"ROUNDDOWN(AF53,0)","v":1},{"$f":"ROUND(AG53*60,0)","v":39}]
[21,-13,36,-13.6,null,null,null,null,null,null,null,null,null,null,null,null,null,null,null,null,null,null,null,null,null,null,{"$f":"($V$8*60*60-W52*60)/3600","v":9.5231404159565454},{"$f":"(AA53-ROUNDDOWN(AA53,0))*60","v":31.388424957392722},{"$f":"(AB53-ROUNDDOWN(AB53,0))*60","v":23.305497443563326},null,{"$f":"($V$10*60*60-W52*60)/3600","v":15.027588589289881},{"$f":"(AE53-ROUNDDOWN(AE53,0))*60","v":1.655315357392837},{"$f":"(AF53-ROUNDDOWN(AF53,0))","v":0.65531535739283697}]
[22,-13,29,-13.483333333333333,null,null,null,null,null,null,null,null,null,null,null,null,null,null,null,null,null,null,null,null,null,null,{"$f":"(AD54/3600)","v":34.064282433333325},{"$f":"(AA54-ROUNDDOWN(AA54,0))*60","v":3.8569459999995104},{"$f":"(AB54-ROUNDDOWN(AB54,0))*60","v":51.416759999970623},{"$f":"($Z$6*3600+Y52*60+Z52)","v":122631.41675999998}]
[23,-13,21,-13.35,null,null,null,null,null,null,null,null,null,null,null,null,null,null,null,null,null,"X am 0° - Meridian=",{"$f":"($V$9+((1.1574074074*10^-5)*$Y$13))","v":28.113582983980756},"(n-ter Tag)","MIN","SEC","WAHRE ORTSZEIT AM ZIELORT (std:min:sec)"]
[24,-13,12,-13.2,null,null,null,null,null,null,null,null,null,null,null,null,null,null,null,null,"NOVEMBER","Y gleitende ZG am 0°-Meridian= ",{"$f":"(-0.0069*W55^2+0.0405*W55+16.386)","v":12.071022628290731},"Y =",{"$f":"ROUNDDOWN(W56,0)","v":12},{"$f":"IF(Y56>=0,ROUND(ABS(W56-Y56)*60,0),-ROUND(ABS(W56-Y56)*60,0))","v":4},{"$f":"IF($V$8>=0,ROUNDDOWN(AA57,0),ROUNDDOWN(AA58*-1,0))","v":9},{"$f":"IF($V$8>=0,ROUNDDOWN(AB57,0),ROUNDDOWN(AB58,0))","v":35},{"$f":"IF($V$8>=0,ROUNDDOWN(AC57,0),ROUNDUP(AC58,0))","v":33},11,{"$f":"ROUNDDOWN(AE57,0)","v":15},{"$f":"ROUNDDOWN(AF57,0)","v":5},{"$f":"ROUND(AG57*60,0)","v":49}]
[25,-13,3,-13.05,null,null,null,null,null,null,null,null,null,null,null,null,null,null,null,null,null,null,null,null,null,null,{"$f":"($V$8*60*60-W56*60)/3600","v":9.5925431673062622},{"$f":"(AA57-ROUNDDOWN(AA57,0))*60","v":35.552590038375733},{"$f":"(AB57-ROUNDDOWN(AB57,0))*60","v":33.15540230254399},null,{"$f":"($V$10*60*60-W56*60)/3600","v":15.096991340639597},{"$f":"(AE57-ROUNDDOWN(AE57,0))*60","v":5.8194804383758481},{"$f":"(AF57-ROUNDDOWN(AF57,0))","v":0.81948043837584805}]
[26,-12,54,-12.9,null,null,null,null,null,null,null,null,null,null,null,null,null,null,null,null,null,null,null,null,null,null,{"$f":"(AD58/3600)","v":33.994837988888882},{"$f":"(AA58-ROUNDDOWN(AA58,0))*60","v":59.690279333332938},{"$f":"(AB58-ROUNDDOWN(AB58,0))*60","v":41.416759999976307},{"$f":"($Z$6*3600+Y56*60+Z56)","v":122381.41675999998}]
[27,-12,43,-12.716666666666667,null,null,null,null,null,null,null,null,null,null,null,null,null,null,null,null,null,"X am 0° - Meridian=",{"$f":"($V$9+((1.1574074074*10^-5)*$Y$13))","v":28.113582983980756},"(n-ter Tag)","MIN","SEC","WAHRE ORTSZEIT AM ZIELORT (std:min:sec)"]
[28,-12,33,-12.55,null,null,null,null,null,null,null,null,null,null,null,null,null,null,null,null,"DEZEMBER","Y gleitende ZG am 0°-Meridian= ",{"$f":"(-0.0018*W59^2-0.413*W59+11.533)","v":-1.500582159138963},"Y =",{"$f":"ROUNDDOWN(W60,0)","v":-1},{"$f":"IF(Y60>=0,ROUND(ABS(W60-Y60)*60,0),-ROUND(ABS(W60-Y60)*60,0))","v":-30},{"$f":"IF($V$8>=0,ROUNDDOWN(AA61,0),ROUNDDOWN(AA62*-1,0))","v":9},{"$f":"IF($V$8>=0,ROUNDDOWN(AB61,0),ROUNDDOWN(AB62,0))","v":49},{"$f":"IF($V$8>=0,ROUNDDOWN(AC61,0),ROUNDUP(AC62,0))","v":7},12,{"$f":"ROUNDDOWN(AE61,0)","v":15},{"$f":"ROUNDDOWN(AF61,0)","v":19},{"$f":"ROUND(AG61*60,0)","v":23}]
["März:",null,null,"März",null,null,null,null,null,null,null,null,null,null,null,null,null,null,null,null,null,null,null,null,null,null,{"$f":"($V$8*60*60-W60*60)/3600","v":9.8187365804300928},{"$f":"(AA61-ROUNDDOWN(AA61,0))*60","v":49.124194825805567},{"$f":"(AB61-ROUNDDOWN(AB61,0))*60","v":7.4516895483340306},null,{"$f":"($V$10*60*60-W60*60)/3600","v":15.323184753763426},{"$f":"(AE61-ROUNDDOWN(AE61,0))*60","v":19.391085225805575},{"$f":"(AF61-ROUNDDOWN(AF61,0))","v":0.39108522580557548}]
[1,-12,21,{"$f":"(B62-(C62/60))","v":-12.35},null,null,null,null,null,null,null,null,null,null,null,null,null,null,null,null,null,null,null,null,null,null,{"$f":"(AD62/3600)","v":33.768726877777773},{"$f":"(AA62-ROUNDDOWN(AA62,0))*60","v":46.123612666666389},{"$f":"(AB62-ROUNDDOWN(AB62,0))*60","v":7.4167599999833556},{"$f":"($Z$6*3600+Y60*60+Z60)","v":121567.41675999998}]
[2,-12,10,-12.166666666666666]
[3,-11,57,-11.95]
[4,-11,44,-11.733333333333333]
[5,-11,31,-11.516666666666667]
[6,-11,17,-11.283333333333333]
[7,-11,3,-11.05]
[8,-10,49,-10.816666666666666]
[9,-10,34,-10.566666666666666]
[10,-10,19,-10.316666666666666]
[11,-10,3,-10.050000000000001]
[12,-9,47,-9.7833333333333332]
[13,-9,31,-9.5166666666666675]
[14,-9,15,-9.25]
[15,-8,58,-8.9666666666666668]
[16,-8,41,-8.6833333333333336]
[17,-8,24,-8.4]
[18,-8,7,-8.1166666666666671]
[19,-7,49,-7.8166666666666664]
[20,-7,32,-7.5333333333333332]
[21,-7,14,-7.2333333333333334]
[22,-6,57,-6.95]
[23,-6,39,-6.65]
[24,-6,21,-6.35]
[25,-6,3,-6.05]
[26,-5,45,-5.75]
[27,-5,27,-5.45]
[28,-5,9,-5.15]
[29,-4,50,-4.833333333333333]
[30,-4,32,-4.5333333333333332]
[31,-4,14,-4.2333333333333334]
["April:",null,null,"April"]
[1,-3,57,{"$f":"(B94-(C94/60))","v":-3.95}]
[{"$f":"(A94+1)","v":2},-3,39,-3.65]
[3,-3,21,-3.35]
[4,-3,4,-3.0666666666666669]
[5,-2,46,-2.7666666666666666]
[6,-2,29,-2.4833333333333334]
[7,-2,12,-2.2000000000000002]
[8,-1,55,-1.9166666666666665]
[9,-1,39,-1.65]
[10,-1,22,-1.3666666666666667]
[11,-1,6,-1.1000000000000001]
[12,0,-51,0.85]
[13,0,-35,0.58333333333333337]
[14,0,-20,0.33333333333333331]
[15,0,-6,0.1]
[16,0,9,{"$f":"(B109+(C109/60))","v":0.15}]
[17,0,22,0.36666666666666664]
[18,0,36,0.6]
[19,0,49,0.81666666666666665]
[20,1,2,1.0333333333333334]
[21,1,14,1.2333333333333334]
[22,1,26,1.4333333333333333]
[23,1,37,1.6166666666666667]
[24,1,48,1.8]
[25,1,59,1.9833333333333334]
[26,2,9,2.15]
[27,2,18,2.2999999999999998]
[28,2,27,2.4500000000000002]
[29,2,36,2.6]
[30,2,44,2.7333333333333334]
["Mai",null,null,"Mai","Juni","Juli","August"]
[1,2,52,{"$f":"(B125+(C125/60))","v":2.8666666666666667},2.1333333333333333,-3.9,-6.3166666666666664]
[2,2,59,2.9833333333333334,1.9833333333333334,-4.0999999999999996,-6.25]
[3,3,5,3.0833333333333335,1.8166666666666667,-4.2833333333333332,-6.166666666666667]
[4,3,11,3.1833333333333331,1.65,-4.4666666666666668,-6.083333333333333]
[5,3,17,3.2833333333333332,1.4666666666666668,-4.6333333333333329,-5.9833333333333334]
[6,3,21,3.35,1.2833333333333332,-4.8,-5.8666666666666671]
[7,3,26,3.4333333333333336,1.1000000000000001,-4.9666666666666668,-5.75]
[8,3,29,3.4833333333333334,0.9,-5.1166666666666663,-5.6333333333333329]
[9,3,32,3.5333333333333332,0.7,-5.2666666666666666,-5.4833333333333334]
[10,3,35,3.5833333333333335,0.5,-5.416666666666667,-5.333333333333333]
[11,3,37,3.6166666666666667,0.3,-5.55,-5.1833333333333336]
[12,3,38,3.6333333333333333,0.1,-5.6833333333333336,-5.0166666666666666]
[13,3,39,3.65,-0.11666666666666667,-5.8,-4.833333333333333]
[14,3,39,3.65,-0.33333333333333331,-5.916666666666667,-4.6500000000000004]
[15,3,39,3.65,-0.55000000000000004,-6.0166666666666666,-4.45]
[16,3,38,3.6333333333333333,-0.76666666666666672,-6.1166666666666663,-4.25]
[17,3,36,3.6,-0.98333333333333328,-6.2,-4.0333333333333332]
[18,3,33,3.55,-1.2,-6.2666666666666666,-3.8166666666666664]
[19,3,31,3.5166666666666666,-1.4166666666666667,-6.333333333333333,-3.5833333333333335]
[20,3,28,3.4666666666666668,-1.6333333333333333,-6.4,-3.35]
[21,3,24,3.4,-1.85,-6.45,-3.1]
[22,3,20,3.3333333333333335,-2.0666666666666669,-6.4833333333333334,-2.8333333333333335]
[23,3,15,3.25,-2.2666666666666666,-6.5166666666666666,-2.5833333333333335]
[24,3,10,3.1666666666666665,-2.4833333333333334,-6.5333333333333332,-2.3166666666666664]
[25,3,4,3.0666666666666669,-2.7,-6.5333333333333332,-2.0333333333333332]
[26,2,58,2.9666666666666668,-2.9,-6.5333333333333332,-1.75]
[27,2,51,2.85,-3.1166666666666667,-6.5333333333333332,-1.4666666666666668]
[28,2,44,2.7333333333333334,-3.2833333333333332,-6.5,-1.1666666666666667]
[29,2,36,2.6,-3.5166666666666666,-6.4666666666666668,-0.8666666666666667]
[30,2,28,2.4666666666666668,-3.7166666666666668,-6.4333333333333336,-0.56666666666666665]
[31,2,20,2.3333333333333335,null,-6.3833333333333337,-0.25]
["Juni",null,null,"Juni"]
[1,2,11,{"$f":"(B157+(C157/60))","v":2.1833333333333331}]
[2,2,2,2.0333333333333332]
[3,1,52,1.8666666666666667]
[4,1,42,1.7]
[5,1,32,1.5333333333333332]
[6,1,21,1.35]
[7,1,10,1.1666666666666667]
[8,0,59,0.98333333333333328]
[9,0,47,0.78333333333333333]
[10,0,35,0.58333333333333337]
[11,0,23,0.38333333333333336]
[12,0,11,0.18333333333333332]
[13,0,-2,{"$f":"-(B169-(C169/60))","v":-3.3333333333333333E-2}]
[14,0,-14,{"$f":"-(B170-(C170/60))","v":-0.23333333333333334}]
[15,0,-27,{"$f":"-(B171-(C171/60))","v":-0.45}]
[16,0,-40,{"$f":"-(B172-(C172/60))","v":-0.66666666666666663}]
[17,0,-53,{"$f":"-(B173-(C173/60))","v":-0.8833333333333333}]
[18,-1,6,{"$f":"(B174-(C174/60))","v":-1.1000000000000001}]
[19,-1,20,-1.3333333333333333]
[20,-1,33,-1.55]
[21,-1,46,-1.7666666666666666]
[22,-1,59,-1.9833333333333334]
[23,-2,12,-2.2000000000000002]
[24,-2,25,-2.4166666666666665]
[25,-2,38,-2.6333333333333333]
[26,-2,51,-2.85]
[27,-3,3,-3.05]
[28,-3,16,-3.2666666666666666]
[29,-3,28,-3.4666666666666668]
[30,-3,40,-3.6666666666666665]
["Juli",null,null,"Juli"]
[1,{"$f":"(3*-1)","v":-3},51,{"$f":"(B188-(C188/60))","v":-3.85}]
[2,-4,3,{"$f":"(B189-(C189/60))","v":-4.05}]
[3,-4,14,-4.2333333333333334]
[4,-4,25,-4.416666666666667]
[5,-4,35,-4.583333333333333]
[6,-4,45,-4.75]
[7,-4,55,-4.916666666666667]
[8,-5,4,-5.0666666666666664]
[9,-5,14,-5.2333333333333334]
[10,-5,22,-5.3666666666666663]
[11,-5,31,-5.5166666666666666]
[12,-5,38,-5.6333333333333329]
[13,-5,46,-5.7666666666666666]
[14,-5,53,-5.8833333333333329]
[15,-5,59,-5.9833333333333334]
[16,-6,5,-6.083333333333333]
[17,-6,11,-6.1833333333333336]
[18,-6,16,-6.2666666666666666]
[19,-6,20,-6.333333333333333]
[20,-6,24,-6.4]
[21,-6,27,-6.45]
[22,-6,30,-6.5]
[23,-6,32,-6.5333333333333332]
[24,-6,33,-6.55]
[25,-6,34,-6.5666666666666664]
[26,-6,34,-6.5666666666666664]
[27,-6,34,-6.5666666666666664]
[28,-6,33,-6.55]
[29,-6,32,-6.5333333333333332]
[30,-6,29,-6.4833333333333334]
[31,-6,27,-6.45]
["August",null,null,"August"]
[1,-6,23,{"$f":"(B220+(C220/60))","v":-5.6166666666666663}]
[2,-6,19,-5.6833333333333336]
[3,-6,14,-5.7666666666666666]
[4,-6,9,-5.85]
[5,-6,3,-5.95]
[6,-5,57,-4.05]
[7,-5,50,-4.166666666666667]
[8,-5,42,-4.3]
[9,-5,34,-4.4333333333333336]
[10,-5,25,-4.583333333333333]
[11,-5,16,-4.7333333333333334]
[12,-5,6,-4.9000000000000004]
[13,-4,56,-3.0666666666666664]
[14,-4,45,-3.25]
[15,-4,34,-3.4333333333333336]
[16,-4,22,-3.6333333333333333]
[17,-4,9,-3.85]
[18,-3,56,-2.0666666666666664]
[19,-3,43,-2.2833333333333332]
[20,-3,29,-2.5166666666666666]
[21,-3,14,-2.7666666666666666]
[22,-2,59,-1.0166666666666666]
[23,-2,44,-1.2666666666666666]
[24,-2,28,-1.5333333333333332]
[25,-2,12,-1.8]
[26,-1,55,-8.333333333333337E-2]
[27,-1,38,-0.3666666666666667]
[28,-1,20,-0.66666666666666674]
[29,-1,2,-0.96666666666666667]
[30,0,-44,-0.73333333333333328]
[31,0,-25,-0.41666666666666669,null,null,null,null,"Übertrag"]
["September",null,null,"September","Oktober","November","Dezember",null,"September","Oktober","November","Dezember"]
[1,0,-6,{"$f":"(B252+(C252/60))","v":-0.1},10.316666666666666,16.416666666666668,11.016666666666667,1,-3.3333333333333333E-2,10.316666666666666,16.416666666666668,11.016666666666667]
[2,0,13,0.21666666666666667,10.633333333333333,16.433333333333334,10.633333333333333,2,0.28333333333333333,10.633333333333333,16.433333333333334,10.633333333333333]
[3,0,33,0.55000000000000004,10.95,16.433333333333334,10.25,3,0.6,10.95,16.433333333333334,10.25]
[4,0,52,0.8666666666666667,11.266666666666667,16.433333333333334,9.85,4,0.93333333333333335,11.266666666666667,16.433333333333334,9.85]
[5,1,12,1.2,11.566666666666666,16.416666666666668,9.4333333333333336,5,1.2666666666666666,11.566666666666666,16.416666666666668,9.4333333333333336]
[6,1,33,1.55,11.866666666666667,16.383333333333333,9.0166666666666675,6,1.6,11.866666666666667,16.383333333333333,9.0166666666666675]
[7,1,53,1.8833333333333333,12.15,16.333333333333332,8.6,7,1.95,12.15,16.333333333333332,8.6]
[8,2,14,2.2333333333333334,12.433333333333334,16.266666666666666,8.1666666666666661,8,2.2999999999999998,12.433333333333334,16.266666666666666,8.1666666666666661]
[9,2,34,2.5666666666666664,12.716666666666667,16.2,7.7333333333333334,9,2.6333333333333333,12.716666666666667,16.2,7.7333333333333334]
[10,2,55,2.9166666666666665,12.983333333333333,16.100000000000001,7.2833333333333332,10,3,12.983333333333333,16.100000000000001,7.2833333333333332]
[11,3,16,3.2666666666666666,13.25,16,6.8166666666666664,11,3.35,13.25,16,6.8166666666666664]
[12,3,37,3.6166666666666667,13.5,15.883333333333333,6.3666666666666663,12,3.7,13.5,15.883333333333333,6.3666666666666663]
[13,3,59,3.9833333333333334,13.75,15.75,5.8833333333333329,13,4.05,13.75,15.75,5.8833333333333329]
[14,4,20,4.333333333333333,13.983333333333333,15.6,5.416666666666667,14,4.416666666666667,13.983333333333333,15.6,5.416666666666667]
[15,4,41,4.6833333333333336,14.216666666666667,15.433333333333334,4.9333333333333336,15,4.7666666666666666,14.216666666666667,15.433333333333334,4.9333333333333336]
[16,5,2,5.0333333333333332,14.433333333333334,15.266666666666667,4.45,16,5.1333333333333337,14.433333333333334,15.266666666666667,4.45]
[17,5,24,5.4,14.65,15.066666666666666,3.9666666666666668,17,5.4833333333333334,14.65,15.066666666666666,3.9666666666666668]
[18,5,45,5.75,14.85,14.866666666666667,3.4833333333333334,18,5.85,14.85,14.866666666666667,3.4833333333333334]
[19,6,7,6.1166666666666663,15.033333333333333,14.65,2.9833333333333334,19,6.2,15.033333333333333,14.65,2.9833333333333334]
[20,6,28,6.4666666666666668,15.2,14.416666666666666,2.4833333333333334,20,6.55,15.2,14.416666666666666,2.4833333333333334]
[21,6,49,6.8166666666666664,15.366666666666667,14.166666666666666,1.9833333333333334,21,6.916666666666667,15.366666666666667,14.166666666666666,1.9833333333333334]
[22,7,11,7.1833333333333336,15.533333333333333,13.916666666666666,1.5,22,7.2666666666666666,15.533333333333333,13.916666666666666,1.5]
[23,7,32,7.5333333333333332,15.666666666666666,13.633333333333333,1,23,7.6166666666666671,15.666666666666666,13.633333333333333,1]
[24,7,53,7.8833333333333329,15.8,13.35,0.5,24,7.9666666666666668,15.8,13.35,0.5]
[25,8,14,8.2333333333333325,15.916666666666666,13.05,0,25,8.3000000000000007,15.916666666666666,13.05,0]
[26,8,34,8.5666666666666664,16.033333333333335,12.75,-0.5,26,8.65,16.033333333333335,12.75,-0.5]
[27,8,55,8.9166666666666661,16.116666666666667,12.416666666666666,-1,27,8.9833333333333325,16.116666666666667,12.416666666666666,-1]
[28,9,15,9.25,16.2,12.083333333333334,-1.4833333333333334,28,9.3333333333333339,16.2,12.083333333333334,-1.4833333333333334]
[29,9,36,9.6,16.283333333333335,11.733333333333333,-1.9666666666666668,29,9.6666666666666661,16.283333333333335,11.733333333333333,-1.9666666666666668]
[30,9,56,9.9333333333333336,16.333333333333332,11.383333333333333,-2.4500000000000002,30,9.9833333333333325,16.333333333333332,11.383333333333333,-2.4500000000000002]
[31,null,null,null,16.383333333333333,null,-2.9333333333333336,31,null,16.383333333333333,null,-2.9333333333333336]
["Oktober",null,null,"Oktober"]
[1,10,15,{"$f":"(B284+(C284/60))","v":10.25}]
[2,10,35,10.583333333333334]
[3,10,54,10.9]
[4,11,12,11.2]
[5,11,31,11.516666666666667]
[6,11,49,11.816666666666666]
[7,12,6,12.1]
[8,12,23,12.383333333333333]
[9,12,40,12.666666666666666]
[10,12,56,12.933333333333334]
[11,13,12,13.2]
[12,13,27,13.45]
[13,13,42,13.7]
[14,13,56,13.933333333333334]
[15,14,10,14.166666666666666]
[16,14,23,14.383333333333333]
[17,14,35,14.583333333333334]
[18,14,47,14.783333333333333]
[19,14,59,14.983333333333333]
[20,15,10,15.166666666666666]
[21,15,20,15.333333333333334]
[22,15,29,15.483333333333333]
[23,15,38,15.633333333333333]
[24,15,46,15.766666666666667]
[25,15,54,15.9]
[26,16,0,16]
[27,16,6,16.100000000000001]
[28,16,12,16.2]
[29,16,16,16.266666666666666]
[30,16,20,16.333333333333332]
[31,16,23,16.383333333333333]
["November",null,null,"November"]
[1,16,25,{"$f":"(B316+(C316/60))","v":16.416666666666668}]
[2,16,27,16.45]
[3,16,27,16.45]
[4,16,27,16.45]
[5,16,26,16.433333333333334]
[6,16,24,16.399999999999999]
[7,16,21,16.350000000000001]
[8,16,18,16.3]
[9,16,13,16.216666666666665]
[10,16,8,16.133333333333333]
[11,16,2,16.033333333333335]
[12,15,54,15.9]
[13,15,47,15.783333333333333]
[14,15,38,15.633333333333333]
[15,15,28,15.466666666666667]
[16,15,18,15.3]
[17,15,6,15.1]
[18,14,54,14.9]
[19,14,41,14.683333333333334]
[20,14,28,14.466666666666667]
[21,14,13,14.216666666666667]
[22,13,58,13.966666666666667]
[23,13,42,13.7]
[24,13,25,13.416666666666666]
[25,13,7,13.116666666666667]
[26,12,49,12.816666666666666]
[27,12,30,12.5]
[28,12,10,12.166666666666666]
[29,11,50,11.833333333333334]
[30,11,28,11.466666666666667]
["Dezember",null,null,"Dezember"]
[1,11,7,{"$f":"(B347+(C347/60))","v":11.116666666666667}]
[2,10,44,10.733333333333333]
[3,10,22,10.366666666666667]
[4,9,57,9.9499999999999993]
[5,9,33,9.5500000000000007]
[6,9,8,9.1333333333333329]
[7,8,42,8.6999999999999993]
[8,8,16,8.2666666666666675]
[9,7,50,7.833333333333333]
[10,7,23,7.3833333333333337]
[11,6,55,6.916666666666667]
[12,6,27,6.45]
[13,5,59,5.9833333333333334]
[14,5,31,5.5166666666666666]
[15,5,2,5.0333333333333332]
[16,4,33,4.55]
[17,4,4,4.0666666666666664]
[18,3,34,3.5666666666666664]
[19,2,35,2.5833333333333335]
[20,2,5,2.0833333333333335]
[21,1,35,1.5833333333333335]
[22,1,6,1.1000000000000001]
[23,0,36,0.6]
[24,0,6,0.1]
[25,0,-23,{"$f":"(B371-(C371/60))","v":0.38333333333333336}]
[26,0,-30,{"$f":"-(B372-(C372/60))","v":-0.5}]
[27,0,-53,0.8833333333333333]
[28,-1,22,-1.3666666666666667]
[29,-1,51,-1.85]
[30,-2,20,-2.3333333333333335]
[31,-2,49,-2.8166666666666664]